Workbook
Name _tds1: #REF!
Name _tds2: #REF!
Name AIR.Code001: #REF!
Name AIR.Code002: #REF!
Name AIR.Code003: #REF!
Name AIR.Code004: #REF!
Name AIR.Code005: #REF!
Name AIR.Code006: #REF!
Name AIR.Code007: #REF!
Name AIR.Code008: #REF!
Name AIR.TaxExmpIntInc: #REF!
Name All_India_Service: 'Master Data'!$AI$10:$AI$13
Name Bank1: #REF!
Name Bank10: #REF!
Name Bank11: #REF!
Name Bank12: #REF!
Name Bank2: #REF!
Name Bank3: #REF!
Name Bank4: #REF!
Name Bank5: #REF!
Name Bank6: #REF!
Name Bank6PCAR: #REF!
Name Bank7: #REF!
Name Bank8: #REF!
Name Bank9: #REF!
Name BankAccNo: #REF!
Name BankArrear: #REF!
Name BankArrear0: #REF!
Name BankArrear1: #REF!
Name BankArrear2: #REF!
Name BankArrear3: #REF!
Name BankBonus: #REF!
Name BankDA10: #REF!
Name BankDA5: #REF!
Name BankDA6: #REF!
Name BankDA8: #REF!
Name BankPL: #REF!
Name cmb_IncD.BankAccountType: #REF!
Name cmb_IncD.EcsRequired: #REF!
Name cmb_TDSal.StateCode: #REF!
Name cmb_TDSoth.StateCode: #REF!
Name i_general: #REF!
Name i_general2: #REF!
Name i_tds: #REF!
Name IncD.AdvanceTax: #REF!
Name IncD.AggregateIncome: #REF!
Name IncD.BalTaxPayable: #REF!
Name IncD.BankAccountNumber: #REF!
Name IncD.BankAccountType: #REF!
Name IncD.EcsRequired: #REF!
Name IncD.EducationCess: #REF!
Name IncD.FamPension: #REF!
Name IncD.GrossTaxLiability: #REF!
Name IncD.GrossTotIncome: #REF!
Name IncD.IncomeFromOS: #REF!
Name IncD.IncomeFromSal: #REF!
Name IncD.IndInterest: #REF!
Name IncD.IntrstPayUs234A: #REF!
Name IncD.IntrstPayUs234B: #REF!
Name IncD.IntrstPayUs234C: #REF!

Sheet Master Data
C1: USE DEVLYS 10 FONT
D2: ;fn vki 01-01-2004 dks ;k mlds i'pkr fu;qDr dkfeZd gSa rks Drop Down Menu esa ls "Yes" pqusa] vU;Fkk "No" pqusaA | AB2: No | AE2: HRA
D3: D;k vkius o"kZ 2020&21 esa lefiZr osru fy;k gS \ | L3: No | N3: ;fn gk¡ rks ftl ekg esa fcy cuk mldk Øekad pqusaA | Y3: 7
D4: D;k vkius o"kZ 2019&20 esa lefiZr osru fy;k gS \ | L4: Yes | N4: ;fn gk¡ rks ftl ekg esa fcy cuk mldk Øekad pqusaA | Y4: 7
D5: D;k vki ofj"B ukxfjd Js.kh ¼60-80 vk;qoxZ½ esa vkrs gS \ | P5: No | S5: D;k vkidks cksul feyk gS \ | AB5: No | AE5: 0.08
D6: MARCH - 2020 BASIC | K6: 90400 | N6: SERVICE CATEGORY | V6: SUBORDINATE | AB6: RAJTEACHERS.NET
C8: GOVT SR. SEC SCHOOL DILOD HATHI, ATRU BARAN
C9: INCOME TAX CALCULATION (GA-55) 2020-21
C10: NAME : | D10: PARMANAND MEGHWAL | I10: DESIGNATION | O10: SENIOR TEACHER | T10: PAN: | V10: XXXXXXXXX | AB10: A/C NO. | AD10: 123456789
I11: GPF/PRAN NUMBER: | T11: TAN: | V11: JDHG03597G | AB11: MOB NO. | AD11: 9784379510
C12: Month | D12: Basic Pay | E12: Dearness Pay | F12: Leave Pay | G12: Spl. Pay | H12: D.A. | I12: H.R.A. | J12: Washing Allow. | K12: ROP (If any, put the value in minus) | L12: Other Allowance 1 | M12: Other Allowance 2 | N12: Gross Salary | O12: =IF(AB2="No","GPF","Emp. C.Pen.F.") -> GPF | P12: =IF(AB2="No","GPF LOAN","") -> GPF LOAN | Q12: SI | R12: SI Arear | S12: SI LOAN + INT | T12: RPMF | U12: LIC | V12: Group Insurance Accidental | W12: HBA Premium | X12: HBA Interest | Y12: Income Tax / TDS | Z12: GPF 2004 (NPS) | AA12: Hitkari Nidhi | AB12: CM Corona Fund | AC12: Total Deduction | AD12: Net Payment | AE12: Bill No. & T.V. No.
B13: 3 | C13: 43891 | D13: =IF($V$6="All India Service",ROUND(K6*15/31,0),IF($V$6="State service",ROUND(K6*15/31,0),IF($V$6="Subordinate",ROUND(K6*15/31,0),IF($V$6="Ministrial",ROUND(K6*22/31,0),IF($V$6="Class IV",ROUND(K6*31/31,0)))))) -> 43742 | E13: 0 | F13: 0 | G13: 0 | H13: =ROUND(17%*D13,0) -> 7436 | I13: =IF($V$6="All India Service",ROUND(K6*AE5*15/31,0),IF($V$6="State service",ROUND(K6*AE5*15/31,0),IF($V$6="Subordinate",ROUND(K6*AE5*15/31,0),IF($V$6="Ministrial",ROUND(K6*AE5*22/31,0),IF($V$6="Class IV",ROUND(K6*AE5*31/31,0)))))) -> 3499 | J13: 0 | K13: 0 | L13: 0 | M13: 0 | N13: =SUM(D13:M13) -> 54677 | O13: =IF($AB$2="Yes",ROUNDDOWN((D13+H13)*0.1,0),IF($AB$2="No",0)) -> 0 | P13: 0 | Q13: 0 | S13: 0 | T13: =IF($AB$2="No",IF(K6<18001,242,IF(K6<33501,402,IF(K6<54001,602,800))),0) -> 800 | V13: 0 | AB13: =IF($V$6="All India Service",ROUND(K6*5/31,0),IF($V$6="State service",ROUND(K6*5/31,0),IF($V$6="Subordinate",ROUND(K6*3/31,0),IF($V$6="Ministrial",ROUND(K6*2/31,0),IF($V$6="Class IV",ROUND(K6*1/31,0)))))) -> 8748 | AC13: =SUM(O13:AB13) -> 9548 | AD13: =N13-AC13 -> 45129 | AI13: STATE SERVICE
B14: 4 | C14: 43922 | D14: =K6 -> 90400 | E14: =IF(E$13=0,0,ROUND(D14/2,0)) -> 0 | F14: =IF(F$13=0,0,F13) -> 0 | G14: =IF(G$13=0,0,G13) -> 0 | H14: =ROUND(17%*D14,0) -> 15368 | I14: =IF($AE$5=16%,ROUND(0.16*D14,0),ROUND(0.08*D14,0)) -> 7232 | J14: =IF(J$13=0,0,J13) -> 0 | K14: =IF(K$13=0,0,K13) -> 0 | L14: =IF(L$13=0,0,L13) -> 0 | N14: =SUM(D14:M14) -> 113000 | O14: =IF($AB$2="Yes",ROUND((D14+H14)*0.1,0),IF($AB$2="No",IF(D14<23101,1450,IF(D14<28501,1625,IF(D14<38501,2100,IF(D14<51501,2850,IF(D14<62001,3575,IF(D14<72001,4200,IF(D14<80001,4800,IF(D14<116001,6150,IF(D14<167001,8900,10500))))))))),0)) -> 6150 | P14: =P13 -> 0 | Q14: 3000 | S14: =S13 -> 0 | T14: =IF($AB$2="No",IF(D14<18001,242,IF(D14<33501,402,IF(D14<54001,602,800))),0) -> 800 | U14: =U13 -> 0 | V14: 220 | W14: =W13 -> 0 | X14: =X13 -> 0 | Y14: =Y13 -> 0 | AC14: =SUM(O14:AB14) -> 10170 | AD14: =N14-AC14 -> 102830 | AI14: SUBORDINATE
B15: 5 | C15: 43952 | D15: =D14 -> 90400 | E15: =IF($E$13=0,0,ROUND(D15/2,0)) -> 0 | F15: =IF(F$13=0,0,F14) -> 0 | G15: =IF(G$13=0,0,G14) -> 0 | H15: =ROUND(17%*D15,0) -> 15368 | I15: =IF($AE$5=16%,ROUND(0.16*D15,0),ROUND(0.08*D15,0)) -> 7232 | J15: =IF(J$13=0,0,J14) -> 0 | L15: =IF(L$13=0,0,L14) -> 0 | M15: =IF(M$13=0,0,M14) -> 0 | N15: =SUM(D15:M15) -> 113000 | O15: =IF($AB$2="Yes",ROUND((D15+H15)*0.1,0),IF($AB$2="No",IF(D15<23101,1450,IF(D15<28501,1625,IF(D15<38501,2100,IF(D15<51501,2850,IF(D15<62001,3575,IF(D15<72001,4200,IF(D15<80001,4800,IF(D15<116001,6150,IF(D15<167001,8900,10500))))))))),0)) -> 6150 | P15: =P14 -> 0 | Q15: =Q14 -> 3000 | R15: =Q14 -> 3000 | S15: =S14 -> 0 | T15: =IF($AB$2="No",IF(D15<18001,288,IF(D15<33501,478,IF(D15<54001,714,950))),0) -> 950 | U15: =U14 -> 0 | V15: 0 | W15: =W14 -> 0 | X15: =X14 -> 0 | Y15: =Y14 -> 0 | AC15: =SUM(O15:AB15) -> 13100 | AD15: =N15-AC15 -> 99900 | AI15: MINISTRIAL
B16: 6 | C16: 43983 | D16: =D15 -> 90400 | E16: =IF($E$13=0,0,ROUND(D16/2,0)) -> 0 | F16: =IF(F$13=0,0,F15) -> 0 | G16: =IF(G$13=0,0,G15) -> 0 | H16: =ROUND(17%*D16,0) -> 15368 | I16: =IF($AE$5=16%,ROUND(0.16*D16,0),ROUND(0.08*D16,0)) -> 7232 | J16: =IF(J$13=0,0,J15) -> 0 | K16: =IF(K$13=0,0,K15) -> 0 | M16: =IF(M$13=0,0,M15) -> 0 | N16: =SUM(D16:M16) -> 113000 | O16: =IF($AB$2="Yes",ROUND((D16+H16)*0.1,0),IF($AB$2="No",IF(D16<23101,1450,IF(D16<28501,1625,IF(D16<38501,2100,IF(D16<51501,2850,IF(D16<62001,3575,IF(D16<72001,4200,IF(D16<80001,4800,IF(D16<116001,6150,IF(D16<167001,8900,10500))))))))),0)) -> 6150 | P16: =P15 -> 0 | Q16: =Q15 -> 3000 | S16: =S15 -> 0 | T16: =IF($AB$2="No",IF(D16<18001,265,IF(D16<33501,440,IF(D16<54001,658,875))),0) -> 875 | U16: =U15 -> 0 | V16: 0 | W16: =W15 -> 0 | X16: =X15 -> 0 | Y16: =Y15 -> 0 | AC16: =SUM(O16:AB16) -> 10025 | AD16: =N16-AC16 -> 102975 | AI16: CLASS IV
B17: 7 | C17: 44013 | D17: =MROUND(ROUND(1.03*D16,0),100) -> 93100 | E17: =IF($E$13=0,0,ROUND(D17/2,0)) -> 0 | F17: =IF(F$13=0,0,F16) -> 0 | G17: =IF(G$13=0,0,G16) -> 0 | H17: =ROUND(17%*D17,0) -> 15827 | I17: =IF($AE$5=16%,ROUND(0.16*D17,0),ROUND(0.08*D17,0)) -> 7448 | J17: =IF(J$13=0,0,J16) -> 0 | K17: =IF(K$13=0,0,K16) -> 0 | L17: =IF(L$13=0,0,L16) -> 0 | M17: =IF(M$13=0,0,M16) -> 0 | N17: =SUM(D17:M17) -> 116375 | O17: =IF($AB$2="Yes",ROUND((D17+H17)*0.1,0),IF($AB$2="No",IF(D17<23101,1450,IF(D17<28501,1625,IF(D17<38501,2100,IF(D17<51501,2850,IF(D17<62001,3575,IF(D17<72001,4200,IF(D17<80001,4800,IF(D17<116001,6150,IF(D17<167001,8900,10500))))))))),0)) -> 6150 | P17: =P16 -> 0 | Q17: =Q16 -> 3000 | S17: =S16 -> 0 | T17: =IF($AB$2="No",IF(D17<18001,265,IF(D17<33501,440,IF(D17<54001,658,875))),0) -> 875 | U17: =U16 -> 0 | V17: 0 | W17: =W16 -> 0 | X17: =X16 -> 0 | Y17: =Y16 -> 0 | AC17: =SUM(O17:AB17) -> 10025 | AD17: =N17-AC17 -> 106350 | AI17: ALL INDIA SERVICE
B18: 8 | C18: 44044 | D18: =D17 -> 93100 | E18: =IF($E$13=0,0,ROUND(D18/2,0)) -> 0 | F18: =IF(F$13=0,0,F17) -> 0 | G18: =IF(G$13=0,0,G17) -> 0 | H18: =ROUND(17%*D18,0) -> 15827 | I18: =IF($AE$5=16%,ROUND(0.16*D18,0),ROUND(0.08*D18,0)) -> 7448 | J18: =IF(J$13=0,0,J17) -> 0 | K18: =IF(K$13=0,0,K17) -> 0 | L18: =IF(L$13=0,0,L17) -> 0 | M18: =IF(M$13=0,0,M17) -> 0 | N18: =SUM(D18:M18) -> 116375 | O18: =IF($AB$2="Yes",ROUND((D18+H18)*0.1,0),IF($AB$2="No",IF(D18<23101,1450,IF(D18<28501,1625,IF(D18<38501,2100,IF(D18<51501,2850,IF(D18<62001,3575,IF(D18<72001,4200,IF(D18<80001,4800,IF(D18<116001,6150,IF(D18<167001,8900,10500))))))))),0)) -> 6150 | P18: =P17 -> 0 | Q18: =Q17 -> 3000 | S18: =S17 -> 0 | T18: =IF($AB$2="No",IF(D18<18001,265,IF(D18<33501,440,IF(D18<54001,658,875))),0) -> 875 | U18: =U17 -> 0 | V18: 0 | W18: =W17 -> 0 | X18: =X17 -> 0 | Y18: =Y17 -> 0 | AC18: =SUM(O18:AB18) -> 10025 | AD18: =N18-AC18 -> 106350
B19: 9 | C19: 44075 | D19: =D18 -> 93100 | E19: =IF($E$13=0,0,ROUND(D19/2,0)) -> 0 | F19: =IF(F$13=0,0,F18) -> 0 | G19: =IF(G$13=0,0,G18) -> 0 | H19: =ROUND(17%*D19,0) -> 15827 | I19: =IF($AE$5=16%,ROUND(0.16*D19,0),ROUND(0.08*D19,0)) -> 7448 | J19: =IF(J$13=0,0,J18) -> 0 | K19: =IF(K$13=0,0,K18) -> 0 | L19: =IF(L$13=0,0,L18) -> 0 | M19: =IF(M$13=0,0,M18) -> 0 | N19: =SUM(D19:M19) -> 116375 | O19: =IF($AB$2="Yes",ROUND((D19+H19)*0.1,0),IF($AB$2="No",IF(D19<23101,1450,IF(D19<28501,1625,IF(D19<38501,2100,IF(D19<51501,2850,IF(D19<62001,3575,IF(D19<72001,4200,IF(D19<80001,4800,IF(D19<116001,6150,IF(D19<167001,8900,10500))))))))),0)) -> 6150 | P19: =P18 -> 0 | Q19: =Q18 -> 3000 | S19: =S18 -> 0 | T19: =IF($AB$2="No",IF(D19<18001,265,IF(D19<33501,440,IF(D19<54001,658,875))),0) -> 875 | U19: =U18 -> 0 | V19: 0 | W19: =W18 -> 0 | X19: =X18 -> 0 | Y19: =Y18 -> 0 | AB19: =IF($V$6="All India Service",ROUND(N19*2/30,0),IF($V$6="State service",ROUND(N19*2/30,0),IF($V$6="Subordinate",ROUND(N19*1/30,0),IF($V$6="Ministrial",ROUND(N19*1/30,0),IF($V$6="Class IV",ROUND(N19*1/30,0)))))) -> 3879 | AC19: =SUM(O19:AB19) -> 13904 | AD19: =N19-AC19 -> 102471
B20: 10 | C20: 44105 | D20: =D19 -> 93100 | E20: =IF($E$13=0,0,ROUND(D20/2,0)) -> 0 | F20: =IF(F$13=0,0,F19) -> 0 | G20: =IF(G$13=0,0,G19) -> 0 | H20: =ROUND(17%*D20,0) -> 15827 | I20: =IF($AE$5=16%,ROUND(0.16*D20,0),ROUND(0.08*D20,0)) -> 7448 | J20: =IF(J$13=0,0,J19) -> 0 | K20: =IF(K$13=0,0,K19) -> 0 | L20: =IF(L$13=0,0,L19) -> 0 | M20: =IF(M$13=0,0,M19) -> 0 | N20: =SUM(D20:M20) -> 116375 | O20: =IF($AB$2="Yes",ROUND((D20+H20)*0.1,0),IF($AB$2="No",IF(D20<23101,1450,IF(D20<28501,1625,IF(D20<38501,2100,IF(D20<51501,2850,IF(D20<62001,3575,IF(D20<72001,4200,IF(D20<80001,4800,IF(D20<116001,6150,IF(D20<167001,8900,10500))))))))),0)) -> 6150 | P20: =P19 -> 0 | Q20: =Q19 -> 3000 | S20: =S19 -> 0 | T20: =IF($AB$2="No",IF(D20<18001,265,IF(D20<33501,440,IF(D20<54001,658,875))),0) -> 875 | U20: =U19 -> 0 | V20: 0 | W20: =W19 -> 0 | X20: =X19 -> 0 | Y20: =Y19 -> 0 | AB20: =IF($V$6="All India Service",ROUND(N20*2/31,0),IF($V$6="State service",ROUND(N20*2/31,0),IF($V$6="Subordinate",ROUND(N20*1/31,0),IF($V$6="Ministrial",ROUND(N20*1/31,0),IF($V$6="Class IV",ROUND(N20*1/31,0)))))) -> 3754 | AC20: =SUM(O20:AB20) -> 13779 | AD20: =N20-AC20 -> 102596
B21: 11 | C21: 44136 | D21: =D20 -> 93100 | E21: =IF($E$13=0,0,ROUND(D21/2,0)) -> 0 | F21: =IF(F$13=0,0,F20) -> 0 | G21: =IF(G$13=0,0,G20) -> 0 | H21: =ROUND(17%*D21,0) -> 15827 | I21: =IF($AE$5=16%,ROUND(0.16*D21,0),ROUND(0.08*D21,0)) -> 7448 | J21: =IF(J$13=0,0,J20) -> 0 | K21: =IF(K$13=0,0,K20) -> 0 | L21: =IF(L$13=0,0,L20) -> 0 | M21: =IF(M$13=0,0,M20) -> 0 | N21: =SUM(D21:M21) -> 116375 | O21: =IF($AB$2="Yes",ROUND((D21+H21)*0.1,0),IF($AB$2="No",IF(D21<23101,1450,IF(D21<28501,1625,IF(D21<38501,2100,IF(D21<51501,2850,IF(D21<62001,3575,IF(D21<72001,4200,IF(D21<80001,4800,IF(D21<116001,6150,IF(D21<167001,8900,10500))))))))),0)) -> 6150 | P21: =P20 -> 0 | Q21: =Q20 -> 3000 | S21: =S20 -> 0 | T21: =IF($AB$2="No",IF(D21<18001,265,IF(D21<33501,440,IF(D21<54001,658,875))),0) -> 875 | U21: =U20 -> 0 | V21: 0 | W21: =W20 -> 0 | X21: =X20 -> 0 | Y21: =Y20 -> 0 | AC21: =SUM(O21:AB21) -> 10025 | AD21: =N21-AC21 -> 106350
B22: 12 | C22: 44166 | D22: =D21 -> 93100 | E22: =IF($E$13=0,0,ROUND(D22/2,0)) -> 0 | F22: =IF(F$13=0,0,F21) -> 0 | G22: =IF(G$13=0,0,G21) -> 0 | H22: =ROUND(17%*D22,0) -> 15827 | I22: =IF($AE$5=16%,ROUND(0.16*D22,0),ROUND(0.08*D22,0)) -> 7448 | J22: =IF(J$13=0,0,J21) -> 0 | K22: =IF(K$13=0,0,K21) -> 0 | L22: =IF(L$13=0,0,L21) -> 0 | M22: =IF(M$13=0,0,M21) -> 0 | N22: =SUM(D22:M22) -> 116375 | O22: =IF($AB$2="Yes",ROUND((D22+H22)*0.1,0),IF($AB$2="No",IF(D22<23101,1450,IF(D22<28501,1625,IF(D22<38501,2100,IF(D22<51501,2850,IF(D22<62001,3575,IF(D22<72001,4200,IF(D22<80001,4800,IF(D22<116001,6150,IF(D22<167001,8900,10500))))))))),0)) -> 6150 | P22: =P21 -> 0 | Q22: =Q21 -> 3000 | S22: =S21 -> 0 | T22: =IF($AB$2="No",IF(D22<18001,265,IF(D22<33501,440,IF(D22<54001,658,875))),0) -> 875 | U22: =U21 -> 0 | V22: 0 | W22: =W21 -> 0 | X22: =X21 -> 0 | Y22: =Y21 -> 0 | AA22: =IF(V6="State Service",500,250) -> 250 | AC22: =SUM(O22:AB22) -> 10275 | AD22: =N22-AC22 -> 106100
B23: 1 | C23: 44197 | D23: =D22 -> 93100 | E23: =IF($E$13=0,0,ROUND(D23/2,0)) -> 0 | F23: =IF(F$13=0,0,F22) -> 0 | G23: =IF(G$13=0,0,G22) -> 0 | H23: =ROUND(17%*D23,0) -> 15827 | I23: =IF($AE$5=16%,ROUND(0.16*D23,0),ROUND(0.08*D23,0)) -> 7448 | J23: =IF(J$13=0,0,J22) -> 0 | K23: =IF(K$13=0,0,K22) -> 0 | L23: =IF(L$13=0,0,L22) -> 0 | M23: =IF(M$13=0,0,M22) -> 0 | N23: =SUM(D23:M23) -> 116375 | O23: =IF($AB$2="Yes",ROUND((D23+H23)*0.1,0),IF($AB$2="No",IF(D23<23101,1450,IF(D23<28501,1625,IF(D23<38501,2100,IF(D23<51501,2850,IF(D23<62001,3575,IF(D23<72001,4200,IF(D23<80001,4800,IF(D23<116001,6150,IF(D23<167001,8900,10500))))))))),0)) -> 6150 | P23: =P22 -> 0 | Q23: =Q22 -> 3000 | S23: =S22 -> 0 | T23: =IF($AB$2="No",IF(D23<18001,265,IF(D23<33501,440,IF(D23<54001,658,875))),0) -> 875 | U23: =U22 -> 0 | V23: 0 | W23: =W22 -> 0 | X23: =X22 -> 0 | Y23: =Y22 -> 0 | AC23: =SUM(O23:AB23) -> 10025 | AD23: =N23-AC23 -> 106350
B24: 2 | C24: 44228 | D24: =D23 -> 93100 | E24: =IF($E$13=0,0,ROUND(D24/2,0)) -> 0 | F24: =IF(F$13=0,0,F23) -> 0 | G24: =IF(G$13=0,0,G23) -> 0 | H24: =ROUND(17%*D24,0) -> 15827 | I24: =IF($AE$5=16%,ROUND(0.16*D24,0),ROUND(0.08*D24,0)) -> 7448 | J24: =IF(J$13=0,0,J23) -> 0 | K24: =IF(K$13=0,0,K23) -> 0 | L24: =IF(L$13=0,0,L23) -> 0 | M24: =IF(M$13=0,0,M23) -> 0 | N24: =SUM(D24:M24) -> 116375 | O24: =IF($AB$2="Yes",ROUND((D24+H24)*0.1,0),IF($AB$2="No",IF(D24<23101,1450,IF(D24<28501,1625,IF(D24<38501,2100,IF(D24<51501,2850,IF(D24<62001,3575,IF(D24<72001,4200,IF(D24<80001,4800,IF(D24<116001,6150,IF(D24<167001,8900,10500))))))))),0)) -> 6150 | P24: =P23 -> 0 | Q24: =Q23 -> 3000 | S24: =S23 -> 0 | T24: =IF($AB$2="No",IF(D24<18001,265,IF(D24<33501,440,IF(D24<54001,658,875))),0) -> 875 | U24: =U23 -> 0 | V24: 0 | W24: =W23 -> 0 | X24: =X23 -> 0 | AC24: =SUM(O24:AB24) -> 10025 | AD24: =N24-AC24 -> 106350
C25: DA Arrear 17% (July 19 To Dec. 19) | H25: =(ROUND(17%*D14,0)-ROUND(12%*D14,0))*6+IF(L4="NO",0,IF(AND(Y4>6,Y4<13),ROUND(17%*D14/2,0)-ROUND(12%*D14/2,0),0)) -> 29380 | N25: =SUM(D25:M25) -> 29380 | O25: =IF($AB$2="Yes",ROUND(N25*10/100,0),IF($AB$2="No",H25,0)) -> 29380 | Q25: 0 | U25: 0 | AC25: =SUM(O25:AB25) -> 29380 | AD25: =N25-AC25 -> 0
C26: DA Arrear 17% (Jan 20 To Feb. 20) | H26: =(ROUND(17%*D14,0)-ROUND(12%*D14,0))*2+IF(L4="NO",0,IF(AND(Y4>0,Y4<4),ROUND(17%*D14,0)-ROUND(12%*D14,0),0)) -> 9040 | N26: =SUM(D26:M26) -> 9040 | O26: =IF($AB$2="Yes",ROUND(N26*10/100,0),IF($AB$2="No",H26,0)) -> 9040 | Q26: 0 | U26: 0 | AC26: =SUM(O26:AB26) -> 9040 | AD26: =N26-AC26 -> 0
C27: Surrender Arrear | N27: =H27 -> 0 | O27: =IF($AB$2="Yes",ROUND((ROUND(17%*D27,0)-ROUND(12%*D27,0))*10%,0)*1,IF($AB$2="No",H27,0)) -> 0 | AC27: =SUM(O27:AB27) -> 0 | AD27: =N27-O27 -> 0
C28: Surrender | D28: =IF(L3="NO",0,IF(Y3=3,D24,VLOOKUP(Y3,B13:D24,3,FALSE)))/2 -> 0 | H28: =IF(AND(Y3>3,Y3<9),ROUND(17%*D28,0),ROUND(17%*D28,0)) -> 0 | N28: =SUM(D28:M28) -> 0 | AC28: =SUM(O28:AB28) -> 0 | AD28: =N28-AC28 -> 0
C29: Bonus | D29: =IF(AB5="Yes",6774,0) -> 0 | N29: =SUM(D29:M29) -> 0 | O29: =IF($AB$2="NO",ROUND(D29*75/100,0),IF($AB$2="No",D29,0)) -> 0 | Z29: =IF($AB$2="Yes",ROUND(D29*75/100,0),IF($AB$2="YES",D29,0)) -> 0 | AC29: =SUM(O29:AB29) -> 0 | AD29: =N29-AC29 -> 0
C30: Fixation Arrear | N30: =SUM(D30:M30) -> 0 | AC30: =SUM(O30:AB30) -> 0 | AD30: =N30-AC30 -> 0
C31: Salary Arrear 1 | AC31: =SUM(O31:AB31) -> 0 | AD31: =N31-AC31 -> 0
C32: Salary Arrear 2 | AC32: =SUM(O32:AB32) -> 0 | AD32: =N32-AC32 -> 0
C33: Extra Sallary | N33: =SUM(D33:M33) -> 0 | Y33: =ROUNDUP(N33*0.2,-1) -> 0 | Z33: =Z30 -> 0 | AB33: =AB30 -> 0 | AC33: =SUM(O33:AB33) -> 0 | AD33: =N33-AC33 -> 0
C34: TOTAL | D34: =SUM(D13:D33) -> 1059742 | E34: =SUM(E13:E33) -> 0 | F34: =SUM(F13:F33) -> 0 | G34: =SUM(G13:G33) -> 0 | H34: =SUM(H13:H33) -> 218576 | I34: =SUM(I13:I33) -> 84779 | J34: =SUM(J13:J33) -> 0 | K34: =SUM(K13:K33) -> 0 | ... AD34: =SUM(AD13:AD33) -> 1193751
E39: Signature of Employee | AD39: Signature of DDO

Sheet Other Deduction
A1: osru ds vfrfjDr dVkSfr;k¡] vk;@tek jkf'k ,oa NwV dk fooj.k
A2: ='Master Data'!D10& " , " &'Master Data'!O10&" PAN- "&'Master Data'!V10 -> PARMANAND MEGHWAL , SENIOR TEACHER PAN- XXXXXXXXX
A3: 1- edku fdjk;k HkRrk ¼ NwV tks ysuh gS½ | B3: 0 | D3: 17- cpr [kkrs dh tek jkf'k ij izkIr C;kt (80 TTA/80 TTB) gsrq | E3: 0 | F3: BASIC+D.A. | DR3: UPS Kuhada Khurd
A4: 2- euksjatu Hkrk /kkjk 16 ¼ii½ ds vUrxZr | B4: 0 | D4: 18- vU; vk; ¼,Q Mh ij C;kt] vU; C;kt ;k vU; L=ks+= ls vk; vkfn dk ;ksx½ | E4: 0 | F4: ='Master Data'!N34-'Master Data'!I34 -> 1278318
A5: 3- O;o;k; dj /kkjk 16 ¼iii½ ds vUrxrZ | B5: 0 | D5: 19- vU; tek jkf'k ¼/kkjk 80 lh ds vUrxZr½ | E5: 0 | F5: Taxable Amt
A6: 4- x`g lEifr ls izkIr fdjk;k & vk; | B6: 0 | D6: 20- /kkjk 80CCC - isa'ku Iyku gsrq va'knku ¼,u-ih-,l- ds avykok½ | E6: 0 | F6: ='Tax Calculation (Old)'!Q47 -> 1154430
A7: 5- x`gdj | B7: 0 | D7: 21- /kkjk 80CCD(1B) -uohu isa'ku ;kstuk esa vfrfjDr va'knku ¼vf/kdre :- 50]000½ | E7: 0 | F7: Tax Deposited
A8: 6- x`g _.k fdLr ewy ¼tks osru ls ugha dkVk x;k½ | B8: 0 | D8: 22- /kkjk 80D - fpfdRlk chek izhfe;e ¼lkekU; 25000] ofj"B ukxfjd 50000½ | E8: 0 | F8: ='Master Data'!Y34 -> 0
A9: 7- x`g _.k fdLr C;kt ¼tks osru ls ugha dkVk x;k½ | B9: 0 | D9: 23- /kkjk 80DD - fodykax vkfJrksa ds fpfdRlk mipkj¼vf/kdre 75000] 80% fodykaxrk 125000½ | E9: 0 | F9: Rebate Under Section 80C, 80CCC, 80CCD(1)
A10: 8- thou chek izhfe;e ¼tks osru ls ugh dkVk x;k½ LIC | B10: 0 | D10: 24- /kkjk 80DDB - fof'k"V jksxksa ds mipkj gsrq dVkSrh ¼lkekU; 40000] ofj"B ukxfjd 1 yk[k½ | E10: 0 | DR10: UPS Banediya Charnan
A11: 9- ih-,y-vkbZ- (PLI) | B11: 0 | D11: 25- /kkjk 80E - mPp f'k{kk gsrq fy, _.k dk C;kt ¼/kkjk 80E½ | E11: 0 | DR11: UPS Laxmipura Dhakaran
A12: 10- V;w'ku Qhl (Tution Fees) | B12: 0 | D12: 26- /kkjk 80G - /kekZFkZ laLFkkvksa vkfn dks fn;s nku ¼d Js.kh 100% ,oa [k Js.kh 50%½ | E12: 0 | F12: ='Tax Calculation (Old)'!Q31 -> 142290 | DR12: UPS Pathraj Kala
A13: 11- ;w- ,y- vkbZ- ih-@okf"kZd Iyku | B13: 0 | D13: 27- /kkjk 80U - LFkkbZ 'kkjhfjd fodykaxrk ¼vf/kdre 75000] 80% fodykaxrk 125000½ | E13: 0
A14: 12- jk"Vªh; cpr i= (NSC) | B14: 0 | D14: 28- /kkjk 80 GGA - vuqeksfnr oSKkfud]lkekftd]xzkeh.k fodkl vkfn gsrq fn;k x;k nku | E14: 0 | F14: edku fdjk;k NwV ds fy, jlhn dh vko';drk | DR14: PS Aarampura
A15: 13- jk"Vªh; cpr i= ij vnr C;kt | B15: 0 | D15: 29- bfDoVh fyad lsfoax Ldhe | E15: 0 | DR15: UPS Laxmipura Dhakaran
A16: 14- yksd Hkfo"; fuf/k (PPF) | B16: 0 | D16: 30- LFkfxr okf"kZdh | E16: 0 | DR16: UPS Raghunathpura
A17: 15- jk"Vªh; cpr Ldhe | B17: 0 | D17: 31- jkgr /kkjk 89 ds rgr | E17: 0 | F17: =ROUND((F4*10%+F19),0) -> 212611 | DR17: UPS Manda
A18: 16- lqdU;k le`f) ;kstuk (SSY) | B18: 0 | D18: 32- osru fcy ds vykok tek djk;k x;k aavk;dj (TDS) | E18: 0 | DR18: UPS Sandla
A19: ='Tax Calculation (Old)'!B63 -> Income Tax Payable | D19: ='Tax Calculation (Old)'!Q63 -> 165182 | E19: HRA | F19: ='Master Data'!I34 -> 84779 | DR19: UPS Ramsinghpura
A20: ="Total Rebate of (US 80C, 80CCC,80CCD(1)) = "&'Tax Calculation (Old)'!Q31 -> Total Rebate of (US 80C, 80CCC,80CCD(1)) = 142290 | D20: ="Investable Amount = "&(150000-'Tax Calculation (Old)'!Q31) -> Investable Amount = 7710 | DR20: GSS Ganeshganj
A21: WWW.RAJTEACHERS.NET

Sheet Tax Calculation (Old)
B1: ='Master Data'!C8 -> GOVT SR. SEC SCHOOL DILOD HATHI, ATRU BARAN
B2: vk;dj x.kuk izi= o"kZ 2020&2021 ¼dj fu/kkZj.k o"kZ 2021&2022½
B3: 1 | C3: uke deZpkjh % | E3: ='Master Data'!D10 -> PARMANAND MEGHWAL | K3: in % | L3: ='Master Data'!O10 -> SENIOR TEACHER | O3: PAN : | P3: =IF('Master Data'!V10="","",'Master Data'!V10) -> XXXXXXXXX
B4: 2 | C4: vk; % o"kZ&2020&21 esa izkIr dqy osru ¼ dj ;ksX; lqfo/kkvksa ds eqY; lfgr ½ | P4: #- | Q4: =IF('Master Data'!AB2="No",'Master Data'!N34,('Master Data'!N34+'Master Data'!O34)) -> 1363097
B5: 3 | C5: x`g fdjk;k] /kkjk 10¼13&A½ ds vUrxrZ ,oa /kkjk 10¼14½ds vUrxrZ vU; Hkrs tks dj eqDÙk gSA | P5: #- | Q5: ='Other Deduction'!B3 -> 0
B6: 4 | C6: 'ks"k ¼2&3½ | P6: #- | Q6: =Q4-Q5 -> 1363097
B7: 5 | C7: ¼i½euksjatu Hkrk /kkjk 16 ¼ii½ ds vUrxrZ ¼ vf/kdre lhek : 5000 ½ | M7: ='Other Deduction'!B4 -> 0
C8: ¼ii½ O;o;k; dj /kkjk 16 ¼iii½ ds vUrxrZ | M8: ='Other Deduction'!B5 -> 0
C9: ¼iiI½ LVs.MMZ fMMsD'ku (Standard Deduction) 50]000 ¼vf/kdre½ | M9: =IF(Q6<50000,Q6,50000) -> 50000 | P9: #- | Q9: =SUM(M7:O9) -> 50000
B10: 6 | C10: 'ks"k ¼4&5½ | P10: #- | Q10: =Q6-Q9 -> 1313097
B11: 7 | C11: ¼v½x`g lEifr ls vk;%¼1½ Loa; ds mi;ksx esa &'kwU; | K11: ¼2½ izkIr fdjk;k #- | M11: ='Other Deduction'!B6 -> 0
C12: ¼c½ ?kVk;sa | E12: fdjk;s dk 30% | H12: x`g _.k ij C;kt | K12: x`gdj | M12: ;ksx 7¼c½
E13: =ROUND(M11*0.3,0) -> 0 | H13: =IF(('Master Data'!X34+'Other Deduction'!B9)>200000,200000,('Master Data'!X34+'Other Deduction'!B9)) -> 0 | K13: ='Other Deduction'!B7 -> 0 | M13: =E13+H13+K13 -> 0
C14: 'ks"k &@$¼7¼v½ ,oa ;ksx 7¼c½ dk½ | P14: #- | Q14: =M11-M13 -> 0
B15: 8 | C15: dqy 'ks"k &@$¼6,oa 7½ | P15: #- | Q15: =Q10+Q14 -> 1313097
B16: 9 | C16: vU; vk; | P16: #- | Q16: ='Other Deduction'!E3+'Other Deduction'!E4 -> 0
B17: 10 | C17: ldy vk; ;ksx ¼8$9½ | P17: #- | Q17: =Q15+Q16 -> 1313097
B18: 11 | C18: ?kVkb;s dVkSSfr;k¡ %& /kkjk US 80C, 80CCC,80CCD (1)
C19: (A) vf/kdre lhek 1]50]000@& ¼/kkjk 80CCE ½ ] ¼/kkjk 80CCD (2), ds vykok
C20: (i) | D20: jkT; chek ¼SI) | H20: #- | I20: ='Master Data'!Q34+'Master Data'!R34 -> 36000 | J20: (x) | K20: ljdkjh isa'ku ;kstuk esa va'knku ECPF vf/kdre osru dk 10%¼/kkjk 80ccd½ | N20: #- | O20: =IF('Master Data'!AB2="Yes",'Master Data'!O34-Q33,0) -> 0
C21: (ii) | D21: thou chek izhfe;e ¼LIC) | H21: #- | I21: ='Master Data'!U34+'Other Deduction'!B10 -> 0 | J21: (xi) | K21: isa'ku Iyku gsrq va'knku¼/kkjk 80ccc½ | N21: #- | O21: ='Other Deduction'!E6 -> 0
C22: (iii) | D22: jk"Vªh; cpr i= ¼NSC) | H22: #- | I22: ='Other Deduction'!B14 -> 0 | J22: (xii) | K22: jk"Vªh; cpr i= ij vnr C;kt | N22: #- | O22: ='Other Deduction'!B15 -> 0
C23: (iv) | D23: yksd Hkfo"; fuf/k ¼PPF) | H23: #- | I23: ='Other Deduction'!B16 -> 0 | J23: (xiii) | K23: V;w'ku Qhl | N23: #- | O23: ='Other Deduction'!B12 -> 0
C24: (v) | D24: jk"Vªh; cpr Ldhe ¼NSS) | H24: #- | I24: ='Other Deduction'!B17 -> 0 | J24: (xiv) | K24: bfDoVh fyad lsfoax Ldhe | N24: #- | O24: ='Other Deduction'!E15 -> 0
C25: (vi) | D25: lkekU; izko/kk;h fuf/k ¼GPF) | H25: #- | I25: =IF('Master Data'!AB2="No",'Master Data'!O34,0) -> 106070 | J25: (xv) | K25: LFkfxr okf"kZdh ¼Defferred Annuty) | N25: #- | O25: ='Other Deduction'!E16 -> 0
C26: (vii) | D26: lkewfgd chek izhfe;e ¼G.Ins.) | H26: #- | I26: =IF(OR('Master Data'!V14=0,'Master Data'!V14=""),0,220) -> 220 | J26: (xvi) | K26: ih-,y-vkbZ- ¼PLI) | N26: #- | O26: ='Other Deduction'!B11 -> 0
C27: (viii) | D27: ;w- ,y- vkbZ- ih-@okf"kZd Iyku | H27: #- | I27: ='Other Deduction'!B13 -> 0 | J27: (xvii) | K27: vU; tekjkf'k ¼/kkjk 80 lh ds vUrxZr½ | N27: #- | O27: ='Other Deduction'!E5 -> 0
C28: (ix) | D28: x`g _.k fdLr ¼HBA Premium) | H28: #- | I28: ='Master Data'!W34+'Other Deduction'!B8 -> 0 | J28: (xviii) | K28: lqdU;k le`f) ;kstuk esa tek jkf'k | N28: #- | O28: ='Other Deduction'!B18 -> 0
C29: (xix) | D29: GPF 2004 (NPS) | H29: #- | I29: =IF('Master Data'!AB2="Yes",'Master Data'!Z34,0) -> 0 | N29: #-
C30: ;ksx ( i ls xviii ) | N30: #- | O30: =SUM(I20:I29)+SUM(O20:O29) -> 142290
C31: vf/kdre dVkSrh dh jkf'k 1-50 yk[k #i, rd | P31: #- | Q31: =IF(O30<150001,ROUND(O30,0),150000) -> 142290
C32: (B) ?kVkb;s& /kkjk 80CCD(2) fu;ksDrk }kjk isa'ku va'knku dh jkf'k ¼vf/kdre osru dk 10%) i`Fkd ls NwV | Q32: =IF('Master Data'!AB2="Yes",'Master Data'!O34,0) -> 0
C33: (C) ?kVkb;s & /kkjk 80CCD (1B) uohu isa'ku ;kstuk esa vfrfjDr va'knku ¼vf/kdre :- 50]000) | P33: #- | Q33: ='Other Deduction'!E7 -> 0
C34: ;ksx 11(A+B+C) | P34: #- | Q34: =SUM(Q31:Q33) -> 142290
B35: 12 | C35: vU; dVkSfr;k¡
C36: 1-/kkjk 80 D ,fpfdRlk chek izhfe;e ¼Lo;a]ifr@iRuh o cPpksa ds fy, : 25000] ekrk&firk ds fy, : 25000]lhfu;j flVhtu : 50000½ | P36: #- | Q36: ='Other Deduction'!E8 -> 0
C37: 2- /kkjk 80DD fodykax vkfJrksa ds fpfdRlk mipkj ¼vf/kdre 75]000 rFkk 80% ;k vf/kd fodykaxrk 125]000½ | P37: #- | Q37: ='Other Deduction'!E9 -> 0
C38: 3- /kkjk 80DDB fof'k"V jksaxksa ds mipkj gsrq dVkSrh ¼vf/kdre : 40]000] lhfu;j flVhtu gsrq : 100]000½ | P38: #- | Q38: ='Other Deduction'!E10 -> 0
C39: 4- /kkjk 80E mPp f'k{kk gsrq fy, _.k dk C;kt | P39: #- | Q39: ='Other Deduction'!E11 -> 0
C40: 5- /kkjk 80G /kekZFkZ laLFkkvksa vkfn dks fn;s nku ¼ d Js.kh esa 100 izfr'kr ,oa [k Js.kh esa 50 izfr'kr½ | P40: #- | Q40: ='Master Data'!AB34+'Other Deduction'!E12 -> 16381
...

Sheet Tax Calculation (New)
B1: ='Master Data'!C8 -> GOVT SR. SEC SCHOOL DILOD HATHI, ATRU BARAN
B2: vk;dj x.kuk izi= o"kZ 2020&2021 ¼dj fu/kkZj.k o"kZ 2021&2022½
B3: 1 | C3: uke deZpkjh % | E3: ='Master Data'!D10 -> PARMANAND MEGHWAL | K3: in % | L3: ='Master Data'!O10 -> SENIOR TEACHER | O3: PAN : | P3: =IF('Master Data'!V10="","",'Master Data'!V10) -> XXXXXXXXX
B4: 2 | C4: vk; % o"kZ&2020&21 esa izkIr dqy osru ¼ dj ;ksX; lqfo/kkvksa ds eqY; lfgr ½ | P4: #- | Q4: =IF('Master Data'!AB2="No",'Master Data'!N34,('Master Data'!N34+'Master Data'!O34)) -> 1363097
B5: 3 | C5: x`g fdjk;k] /kkjk 10¼13&A½ ds vUrxrZ ,oa /kkjk 10¼14½ds vUrxrZ vU; Hkrs tks dj eqDÙk gSA | P5: #- | Q5: 0
B6: 4 | C6: 'ks"k ¼2&3½ | P6: #- | Q6: =Q4-Q5 -> 1363097
B7: 5 | C7: ¼i½euksjatu Hkrk /kkjk 16 ¼ii½ ds vUrxrZ ¼ vf/kdre lhek : 5000 ½ | M7: ='Other Deduction'!B4 -> 0
C8: ¼ii½ O;o;k; dj /kkjk 16 ¼iii½ ds vUrxrZ | M8: ='Other Deduction'!B5 -> 0
C9: ¼iiI½ LVs.MMZ fMMsD'ku (Standard Deduction) 50]000 ¼vf/kdre½ | M9: 0 | P9: #- | Q9: 0
B10: 6 | C10: 'ks"k ¼4&5½ | P10: #- | Q10: =Q6-Q9 -> 1363097
B11: 7 | C11: ¼v½x`g lEifr ls vk;%¼1½ Loa; ds mi;ksx esa &'kwU; | K11: ¼2½ izkIr fdjk;k #- | M11: ='Other Deduction'!B6 -> 0
C12: ¼c½ ?kVk;sa | E12: fdjk;s dk 30% | H12: x`g _.k ij C;kt | K12: x`gdj | M12: ;ksx 7¼c½
E13: =ROUND(M11*0.3,0) -> 0 | H13: 0 | K13: ='Other Deduction'!B7 -> 0 | M13: =E13+H13+K13 -> 0
C14: 'ks"k &@$¼7¼v½ ,oa ;ksx 7¼c½ dk½ | P14: #- | Q14: =E13 -> 0
B15: 8 | C15: dqy 'ks"k &@$¼6,oa 7½ | P15: #- | Q15: =Q10+Q14 -> 1363097
B16: 9 | C16: vU; vk; | P16: #- | Q16: ='Other Deduction'!E3+'Other Deduction'!E4 -> 0
B17: 10 | C17: ldy vk; ;ksx ¼8$9½ | P17: #- | Q17: =Q15+Q16 -> 1363097
B18: 11 | C18: ?kVkb;s dVkSSfr;k¡ %& /kkjk US 80C, 80CCC,80CCD (1)
C19: (A) vf/kdre lhek 1]50]000@& ¼/kkjk 80CCE ½ ] ¼/kkjk 80CCD (2), ds vykok
C20: (i) | D20: jkT; chek ¼SI) | H20: #- | I20: ='Master Data'!Q34+'Master Data'!R34 -> 36000 | J20: (x) | K20: ljdkjh isa'ku ;kstuk esa va'knku ECPF vf/kdre osru dk 10%¼/kkjk 80ccd½ | N20: #- | O20: =IF('Master Data'!AB2="Yes",'Master Data'!O34,0)-Q33 -> 0
C21: (ii) | D21: thou chek izhfe;e ¼LIC) | H21: #- | I21: ='Master Data'!U34+'Other Deduction'!B10 -> 0 | J21: (xi) | K21: isa'ku Iyku gsrq va'knku¼/kkjk 80ccc½ | N21: #- | O21: ='Other Deduction'!E6 -> 0
C22: (iii) | D22: jk"Vªh; cpr i= ¼NSC) | H22: #- | I22: ='Other Deduction'!B14 -> 0 | J22: (xii) | K22: jk"Vªh; cpr i= ij vnr C;kt | N22: #- | O22: ='Other Deduction'!B15 -> 0
C23: (iv) | D23: yksd Hkfo"; fuf/k ¼PPF) | H23: #- | I23: ='Other Deduction'!B16 -> 0 | J23: (xiii) | K23: V;w'ku Qhl | N23: #- | O23: ='Other Deduction'!B12 -> 0
C24: (v) | D24: jk"Vªh; cpr Ldhe ¼NSS) | H24: #- | I24: ='Other Deduction'!B17 -> 0 | J24: (xiv) | K24: bfDoVh fyad lsfoax Ldhe | N24: #- | O24: ='Other Deduction'!E15 -> 0
C25: (vi) | D25: lkekU; izko/kk;h fuf/k ¼GPF) | H25: #- | I25: =IF('Master Data'!AB2="No",'Master Data'!O34,0) -> 106070 | J25: (xv) | K25: LFkfxr okf"kZdh ¼Defferred Annuty) | N25: #- | O25: ='Other Deduction'!E16 -> 0
C26: (vii) | D26: lkewfgd chek izhfe;e ¼G.Ins.) | H26: #- | I26: =IF(OR('Master Data'!V14=0,'Master Data'!V14=""),0,220) -> 220 | J26: (xvi) | K26: ih-,y-vkbZ- ¼PLI) | N26: #- | O26: ='Other Deduction'!B11 -> 0
C27: (viii) | D27: ;w- ,y- vkbZ- ih-@okf"kZd Iyku | H27: #- | I27: ='Other Deduction'!B13 -> 0 | J27: (xvii) | K27: vU; tekjkf'k ¼/kkjk 80 lh ds vUrxZr½ | N27: #- | O27: ='Other Deduction'!E5 -> 0
C28: (ix) | D28: x`g _.k fdLr ¼HBA Premium) | H28: #- | I28: ='Master Data'!W34+'Other Deduction'!B8 -> 0 | J28: (xviii) | K28: lqdU;k le`f) ;kstuk esa tek jkf'k | N28: #- | O28: ='Other Deduction'!B18 -> 0
C29: (xix) | D29: GPF 2004 (NPS) | H29: #- | I29: =IF('Master Data'!AB2="Yes",'Master Data'!Z34,0) -> 0 | N29: #-
C30: ;ksx ( i ls xviii ) | N30: #- | O30: =SUM(I20:I29)+SUM(O20:O29) -> 142290
C31: vf/kdre dVkSrh dh jkf'k 1-50 yk[k #i, rd | P31: #- | Q31: 0
C32: (B) ?kVkb;s& /kkjk 80CCD(2) fu;ksDrk }kjk isa'ku va'knku dh jkf'k ¼vf/kdre osru dk 10%) i`Fkd ls NwV | Q32: =IF('Master Data'!AB2="Yes",'Master Data'!O34,0) -> 0
C33: (C) ?kVkb;s & /kkjk 80CCD (1B) uohu isa'ku ;kstuk esa vfrfjDr va'knku ¼vf/kdre :- 50]000) | P33: #- | Q33: ='Other Deduction'!E7 -> 0
C34: ;ksx 11(A+B+C) | P34: #- | Q34: =SUM(Q31:Q33) -> 0
B35: 12 | C35: vU; dVkSfr;k¡
C36: 1-/kkjk 80 D ,fpfdRlk chek izhfe;e ¼Lo;a]ifr@iRuh o cPpksa ds fy, : 25000] ekrk&firk ds fy, : 25000]lhfu;j flVhtu : 50000½ | P36: #- | Q36: ='Other Deduction'!E8 -> 0
C37: 2- /kkjk 80DD fodykax vkfJrksa ds fpfdRlk mipkj ¼vf/kdre 75]000 rFkk 80% ;k vf/kd fodykaxrk 125]000½ | P37: #- | Q37: ='Other Deduction'!E9 -> 0
C38: 3- /kkjk 80DDB fof'k"V jksaxksa ds mipkj gsrq dVkSrh ¼vf/kdre : 40]000] lhfu;j flVhtu gsrq : 100]000½ | P38: #- | Q38: ='Other Deduction'!E10 -> 0
C39: 4- /kkjk 80E mPp f'k{kk gsrq fy, _.k dk C;kt | P39: #- | Q39: ='Other Deduction'!E11 -> 0
C40: 5- /kkjk 80G /kekZFkZ laLFkkvksa vkfn dks fn;s nku ¼ d Js.kh esa 100 izfr'kr ,oa [k Js.kh esa 50 izfr'kr½ | P40: #- | Q40: 0
...

Sheet HRA Receipt
A1: RECEIPT OF HOUSE RENT
A3: (Under section 1 (13-A) of Income Tax Act)
I5: Date :- | J5: 11.12.2020
B7: I Owner
C8: Received with Thanks from Sri/Smt. | G8: ='Master Data'!D10 -> PARMANAND MEGHWAL | J8: ='Master Data'!O10 -> SENIOR TEACHER
B9: Address- | C9: ='Master Data'!C8:AE8 -> GOVT SR. SEC SCHOOL DILOD HATHI, ATRU BARAN
B10: The sum of | C10: Rs.= | D10: ='Other Deduction'!F17 -> 212611 | F10: In word Type Here | J10: Only
B11: Towards the House Rent @ Rs. = | E11: =D10/12 -> 17717.583 | F11: In word Type Here | J11: Only
B12: Per Month From :- | D12: April 2020 To March 2021
B14: Rs. = | C14: =D10 -> 212611
B16: Date:- | C16: =J5 -> 11.12.2020
H18: (Signature of House Owner)
H19: Name-
