Workbook
Name Ad_Hoc: 'Master Sheet'!$W$3
Name contract: 'Master Sheet'!$X$3
Name Guest_Faculty: 'Master Sheet'!$Y$3
Name Re_Employeed: 'Master Sheet'!$Z$3:$Z$4
Name Regular: 'Master Sheet'!$AA$3:$AA$6
Name Urgent_Temporary_Basic: 'Master Sheet'!$AB$3

Sheet Intro
B2: NEW PENSION KULAK ACCORDING TO IFMS 3.0
B3: WELCOME TO RAJTEACHER.NET
B4: Important Documents For Online Pension Kulak IFMS3.0
B5: Retirement Order -Form 6 ¼lsokfuo`fRr o foHkkxh; tkap yafcr ugha gksus dk vkns'k½
B6: DOB Certificate - 10th Marksheet - PDF Formate
B7: Adhar Card - PDF Formate
B8: PAN Card - PDF Formate
B9: Janadhar Card
B10: Joint Photo Graph -Jpeg/Jpg Formate
B11: Appointing Latter - PDF Formate ¼izFke fu;qfDr vkns'k½
B12: Confirmation Order - PDF Formate ¼LFkkbZdj.k vkns'k½
B13: Joining Latter - PDF Formate ¼izFke dk;Zxzg.k izkFkZuk&i=½ | C13: PARMANAND MEGHWAL
B14: Accounts Certificate ¼ys[kkdehZ dk izek.k&i=½ | C14: HEAD MASTER, GUPS KANWARPURA
B15: LPC - xr Hkqxrku izek.k i= | C15: IFMS PENSION FORM
B16: izi= 27 d | C16: lHkh lkfFk;ksa dks iz.kke
B17: izi= 28 d | C17: jktLFkku esa lsokfuo`Rr gksus okys dkfeZdksa dh vko';drk dks ns[krs gq, ,Dlsy esa ;g izksxzke rS;kj fd;k gSaA
B18: izi= 28
B19: vns; izek.k&i=
B20: Cancel Cheque/Bank Diary - PDF Formate
B21: Single Photo & Joint Photograph | C21: blds vUrxZr vkidks dsoy Master Sheet dks gh Hkjuk gSa] ckdh lHkh izi= Lor% rS;kj gks tk;sxsa] ftuds ek/;e ls vkki lqxerk ls viuk izdj.k rS;kj dj fHktok ldrs gSaA
B22: fo'ks"k ifjfLFkfr;ksa esa vko';d nLrkost
B23: dkfeZd fodykax gksus ij fodykaxrk izek.k&i=
B24: rykd'kqnk] fo/kok] fo/kqj] ifjR;drk vkfn gksus ij izek.k&i=
B25: foHkkxh; _.k pqdk nsus ij vns; izek.k&i=
C26: WHAT'SAPP ME
B27: uksV%& ihMh,Q ds lHkh nLrkost 2 MB ls de lkbt ds gksus pkfg;sA | C27: 9784379510

Sheet Master Sheet
B1: NEW PENSION KULAK ACCORDING TO IFMS 3.0 PENSION CALCULATOR | L1: P.L. Encash. | M1: service time | N1: Six Month | P1: Next Birth Age | R1: Pension Monthly | T1: Pension Monthly Death
B2: deZpkjh dk uke ¼fgUnh esa½ | C2: Jh ijekuUn es?koky | E2: Employee Name | F2: Parmanand Meghwal | I2: Male | L2: =D14*F14 -> 43732 | M2: =DATEDIF($B$14, $C$14, "Y") -> 29 | N2: =M2*2 -> 58 | O2: =N2 -> 58 | P2: =DATEDIF($I$5, $C$14, "Y") -> 60 | Q2: =P2+1 -> 61 | R2: =D14/2 -> 37700 | T2: =D14*50% -> 37700 | W2: Ad Hoc | X2: Permanent | AB2: L1 (17700-56200) | AC2: L-1 | AD2: ysoy&1 | AE2: =VLOOKUP(E52,AB2:AD25,3,0) -> ysoy&11
B3: firk@ifr dk uke | C3: Jh Hkaoj yky es?koky | E3: Father/Husband Name | F3: Bhanwar Lal Meghwal | L3: =D14+L2 -> 119132 | M3: =DATEDIF($B$14, $C$14, "ym") -> 7 | N3: =IF(M3>=9,2,IF(M3>=3,1,IF(M3>=2,0,0))) -> 1 | P3: =DATEDIF($I$5, $C$14, "ym") -> 0 | Q3: Fector | R3: =N5/50 -> 1.18 | T3: =D14*30% -> 22620 | W3: Regular | X3: Probationer | AB3: L2 (17900-56800) | AC3: L-2 | AD3: ysoy&2
B4: ekrk dk uke | C4: Jherh jkedU;k ckbZ | E4: Mother's Name | F4: Ram Kanya Bai | L4: =ROUND(L3/30*H11,0) -> 1191320 | M4: =DATEDIF($B$14, $C$14, "md") -> 25 | N4: =IF(N3>=3,1,0) -> 0 | P4: =DATEDIF($I$5, $C$14, "md") -> 18 | Q4: =VLOOKUP($Q$2,M15:N69,2,0) -> 8.194 | R4: =ROUND(R2*R3,0) -> 44486 | T4: =IF(N11>=14,T2,T3) -> 37700 | W4: Guest Faculty | X4: Probationer Temporary | AB4: L3 (18200-57900) | AC4: L-3 | AD4: ysoy&3
B5: orZeku in | C5: ofj"B v/;kid | E5: Current Post | F5: SR TEACHER | G5: DOB | I5: 23327 | N5: =SUM(N2:N4) -> 59 | R5: =IF(R4<=R2,R4,R2) -> 37700 | W5: Re-Employeed | X5: Temporary | AB5: L4 (19200-60800) | AC5: L-4 | AD5: ysoy&4
B6: /keZ | C6: Hindu | D6: SC | E6: Mobile Number | F6: 9784379510 | G6: Department | I6: Education | R6: =IF(R5<=R7,R7,IF(R5>=R7,R5)) -> 37700 | T6: =IF(T4<=T7,T7,IF(T4>=T7,T4)) -> 37700 | W6: contract | X6: Temporary | AB6: L5 (20800-65900) | AC6: L-5 | AD6: ysoy&5
B7: dk;kZy; v/;{k dk uke o in | C7: jktsUnz dqekj fpRrkSMk | E7: Office Name | F7: Govt. Sr. Sec. School Gordhanpura, Atru Baran | M7: =IF(N2>=20,2,IF(M3>=3,1,IF(M3>=2,0,0))) -> 2 | N7: =N5/2 -> 29.5 | O7: =IF(M2>=20,20,IF(M2>=11,20,IF(M2>=11,12,IF(M2>=5,12,IF(M2>=4,6,IF(M2>=1,6,IF(M2>=0,2))))))) -> 20 | R7: 8850 | S7: 218600 | T7: 8850 | W7: Urgent Temporary Basic | X7: Contractual | AB7: L6 (21500-68000) | AC7: L-6 | AD7: ysoy&6
B8: dk;kZy; dk uke ¼fgUnh esa½ | C8: jktdh; mPp ek/;fed fo|ky;] xksj/kuiqjk | F8: ftyk | G8: ckjka | H8: Email | I8: anandmeghwal@gmail.com | M8: GRATUITY | X8: As Per Dop Circular | Y8: Active | Z8: Before 01.01.2004 | AB8: L7 (22400-71200) | AC8: L-7 | AD8: ysoy&7
B9: vf/kokf"kZdh vk;q iw.kZ gksus ij ns; lEHkkfor ifjykHk jkf'k;ka | O9: SUPPER | P9: DEATH | X9: Pay Pension | Y9: Retired | Z9: From 01.01.2004 to 31.03.2022 - OPS | AB9: L8 (26300-83500) | AC9: L-8 | AD9: ysoy&8
B10: Gratuity | C10: Commuted Pension | D10: EMI Commuted | E10: Monthly Pension | F10: Net Pension | G10: P.L. Encash. | H10: P.L. | I10: Total | M10: =IF(N7>=20,N7,O7) -> 29.5 | O10: =(D14)+D14*F14 -> 119132 | P10: =O10 -> 119132 | Y10: Death | Z10: On Or 01.04.2022 - OPS | AB10: L9 (28700-91300) | AC10: L-9 | AD10: ysoy&9
B11: =O13 -> 1757197 | C11: =IF(I14="death","Not Eligible",O17) -> 1235688 | D11: =IF(I14="death","Not Eligible",O16) -> 12567 | E11: =IF(I14="death",T6,R6) -> 37700 | F11: =IF(I14="death",E11,O18) -> 25133 | G11: =L4 -> 1191320 | H11: 300 | I11: =IF(I14="Death",B11+G11,B11+C11+G11) -> 4184205 | L11: 0.58 | M11: =IF(M10>=33,33,M10) -> 29.5 | N11: =IF(N5>=66,66,N5) -> 59 | O11: =ROUND(O10*N11/4,0) -> 1757197 | P11: =P10*M11 -> 3514394 | Y11: VRS | AB11: L10 (33800-106700) | AC11: L-10 | AD11: ysoy&10
B12: SERVICE DETAILS | L12: 0.55 | O12: =IF(O11>=2500000,2500000,O11) -> 1757197 | P12: =IF(P11>=2500000,2500000,P11) -> 2500000 | Y12: Suspended | Z12: NA | AA12: Gazzated | AB12: L11 (37800-119700) | AC12: L-11 | AD12: ysoy&11
B13: FIRST JOINING DATE | C13: RETIREMENT DATE | D13: BASIC PAY | E13: SERVICE TIME | F13: D.A. RATE | G13: कुल छः माही | I13: RETIREMENT TYPE | L13: 0.53 | O13: =IF(I14="DEATH",P12,O12) -> 1757197 | Y13: APO | Z13: Compensatary | AA13: Non-Gazzated | AB13: L12 (44300-140100) | AC13: L-12 | AD13: ysoy&12
B14: 34429 | C14: 45260 | D14: 75400 | E14: =M2&" Year "&M3&" Months "&M4&" Days " -> 29 Year 7 Months 25 Days | F14: 0.58 | G14: =N11 -> 59 | I14: SUPPERANNUATION | L14: 0.5 | M14: Age Next Birthday | O14: Commutaed Pension | Y14: Deputation | Z14: Player | AB14: L13 (53100-167800) | AC14: L-13 | AD14: ysoy&13
B15: PERSONAL DETAILS | L15: 0.46 | M15: 20 | N15: 9.188 | O15: =R6 -> 37700 | Y15: Extension | Z15: Divorced | AA15: State Service | AB15: L14 (56100-177500) | AC15: L-14 | AD15: ysoy&14
B16: EMPLOYEE ID | C16: JANADHAR NUMBER | D16: MARITAL STATUS | E16: SPOUSE NAME | F16: PAN NUMBER | G16: ADHAR NUMBER | I16: DISABILITY | L16: 0.42 | M16: 21 | N16: 9.187 | O16: =ROUND(O15/3,0) -> 12567 | Y16: Removal | Z16: Widow | AA16: Subordinate | AB16: L15 (60700-192000) | AC16: L-15 | AD16: ysoy&15
B17: RJBR200804012345 | C17: 4774110102 | D17: MARRIED | E17: MANJU KUMARI | F17: ASPPM6311X | G17: 789612537456 | I17: NO | L17: 0.38 | M17: 22 | N17: 9.186 | O17: =ROUND(O16*12*Q4,0) -> 1235688 | Z17: Physical Hand. | AA17: Ministrial | AB17: L16 (67300-195000) | AC17: L-16 | AD17: ysoy&16
B18: SERVICE DETAILS | L18: 0.34 | M18: 23 | N18: 9.185 | O18: =E11-D11 -> 25133 | Z18: Ex-Serviceman | AA18: All India Service | AB18: L17 (71000-199500) | AC18: L-17 | AD18: ysoy&17
B19: SERIVICE STATUS | C19: SUB SERVICE STATUS | D19: EMPLOYEE TYPE | E19: ENTITLEMENT STATUS | F19: SERVICE QUATA | G19: GAZZATED/NON GAZZ. | I19: CURRENT DESIGNATION | L19: 0.31 | M19: 24 | N19: 9.184 | AA19: Central Govt Service | AB19: L18 (75300-199500) | AC19: L-18 | AD19: ysoy&18
B20: Regular | C20: Permanent | D20: Active | E20: On Or 01.04.2022 - OPS | F20: NA | G20: Non-Gazzated | I20: Senior Teacher | L20: 0.28 | M20: 25 | N20: 9.183 | AA20: Contractual | AB20: L19 (79900-199500) | AC20: L-19 | AD20: ysoy&19
B21: SERVICE CATEGORY | C21: SUB SERVICE CATEGORY | D21: PRESENT DESIG DATE | E21: PARENTAL DEPARTMENT | F21: CURRENT DEPARTMENT | G21: DESIGNATION OF APPOINTING AUTHORITY | I21: APPOINTING AS | L21: 0.17 | M21: 26 | N21: 9.182 | AA21: Re-Employeed | AB21: L20 (88900-203500) | AC21: L-20 | AD21: ysoy&20
B22: Subordinate | C22: Rajasthan Edu Service | D22: 42714 | E22: Education Department | F22: Secondary Education Department | G22: District Education Officer | I22: Teacher Grade III | L22: 0.12 | M22: 27 | N22: 9.18 | AA22: Nominated | AB22: L21 (123100-203500) | AC22: L-21 | AD22: ysoy&21
B23: JOINING DATE | C23: JOINING TIME | D23: DATE OF JOINING PRESENT DDO | E23: DATE OF JOINING REGULAR SERVICE | F23: GPF NUMBER | G23: STATE INSURANCE NUMBER | I23: IAS CPnF No. | L23: 0.09 | M23: 28 | N23: 9.178 | AA23: Reverse Deputation | AB23: L22 (129700-208100) | AC23: L-22 | AD23: ysoy&22
B24: =B14 -> 34429 | C24: FORENOON | D24: 44803 | E24: =B14 -> 34429 | F24: 456123 | G24: 412156 | L24: 0.07 | M24: 29 | N24: 7.176 | W24: APO | X24: rajasthan judicial services | AA24: Work Charged | AB24: L23 (145800-214100) | AC24: L-23 | AD24: ysoy&23
B25: RGHS CARD NO. | C25: BELT NO. | D25: EX SERVICE | E25: ARE YOU GETTING CIVIL SERVICE PENSION | F25: =IF(E26="Yes","PPO NO.","") | G25: =IF(E26="Yes","CIVIL PENSION AMOUNT","") | I25: PRAN NO. | L25: 0.05 | M25: 30 | N25: 9.173 | W25: Active | X25: Re-Employeed | AA25: Rajasthan Judicial Service | AB25: L24 (148800-218600) | AC25: L-24 | AD25: ysoy&24
B26: XXXXXX | C26: 123456 | D26: No | E26: No | I26: 11000123456789 | L26: 0.04 | M26: 31 | N26: 9.169 | W26: Death | X26: Reverse Deputation | AA26: Rajasthan Judicial Service
B27: ADDRESS DETAILS | M27: 32 | N27: 9.164 | W27: Deputation | X27: State Service
B28: Permanent Address | M28: 33 | N28: 9.159 | W28: Extension | X28: Subordinate
B29: STATE | C29: DISTRICT | D29: HOUSE NO. | E29: ASSEMBLY | F29: PINCODE | G29: AREA | M29: 34 | N29: 9.152 | W29: Removal | X29: Work Charge
B30: RAJASTHAN | C30: BARAN | D30: 127 | E30: BARAN-ATRU | F30: 325219 | G30: KAWAI SALPURA TEHSIL ATRU
B31: Current Address | M31: 35 | N31: 9.145
B32: STATE | C32: DISTRICT | D32: HOUSE NO. | E32: ASSEMBLY | F32: PINCODE | G32: AREA | M32: 36 | N32: 9.136
B33: RAJASTHAN | C33: BARAN | D33: 127 | E33: BARAN-ATRU | F33: 325219 | G33: KAWAI SALPURA TEHSIL ATRU | M33: 37 | N33: 9.126
B34: FAMILY DETAILS | M34: 38 | N34: 9.16
B35: NAME | C35: RELATIONSHIP | D35: DOB | E35: JANADHAR NUMBER | F35: MEMBER ID | I35: GENDER | M35: 39 | N35: 9.103
B36: MANJU KUMARI | C36: WIFE | D36: 31585 | E36: 4774110102 | F36: 12345678910 | I36: FEMALE | M36: 40 | N36: 9.09
B37: ARYAN MEGHWAL | C37: SON | D37: 40093 | E37: 4774110102 | F37: 12345678910 | I37: MALE | M37: 41 | N37: 9.075
B38: MIHIKA MEGHWAL | C38: DAUGHTER | D38: 42600 | E38: 4774110102 | F38: 12345678910 | I38: FEMALE | M38: 42 | N38: 9.059
M39: 43 | N39: 9.04
M40: 44 | N40: 9.019
...

Sheet Personal Details
A1: FOR IFMS 3.0
A2: Employee Photograph | B2: Personal Details | C2: Joint Photograph
A3: Employee Id | B3: Janadhar Id | C3: Janadhar Member Id
A4: ='Master Sheet'!B17 -> RJBR200804012345 | B4: ='Master Sheet'!C17 -> 4774110102
A5: Employee Name | B5: Gender | C5: Date Of Birth
A6: ='Master Sheet'!F2 -> Parmanand Meghwal | B6: ='Master Sheet'!I2 -> Male | C6: ='Master Sheet'!I5 -> 23327
A7: Father Name | B7: Mother Name | C7: Marital Status
A8: ='Master Sheet'!F3 -> Bhanwar Lal Meghwal | B8: ='Master Sheet'!F4 -> Ram Kanya Bai | C8: ='Master Sheet'!D17 -> MARRIED
A9: Spouse Name | B9: Disability Status | C9: Email - id
A10: ='Master Sheet'!E17 -> MANJU KUMARI | B10: ='Master Sheet'!I17 -> NO | C10: ='Master Sheet'!I8 -> anandmeghwal@gmail.com
A11: Mobile Number | B11: Nationality | C11: Home State
A12: ='Master Sheet'!F6 -> 9784379510 | B12: INDIAN | C12: ='Master Sheet'!B33 -> RAJASTHAN
A13: Home District | B13: Home Town | C13: Social Category
A14: ='Master Sheet'!C30 -> BARAN | B14: ='Master Sheet'!G30 -> KAWAI SALPURA TEHSIL ATRU | C14: ='Master Sheet'!D6 -> SC
A15: Religion | B15: PAN Number | C15: Adhar Number
A16: ='Master Sheet'!C6 -> Hindu | B16: ='Master Sheet'!F17 -> ASPPM6311X | C16: ='Master Sheet'!G17 -> 789612537456
A17: Belong to Minority
A18: Documents Types Upload PDF Files Up to 2MB
A19: DOB Certificate - 10th Marksheet
A20: Adhar Card
A21: PAN Card
A22: Joint Photo Graph

Sheet Service Details
A1: FOR IFMS 3.0
A2: Service Details
A3: Service Status | B3: Sub Service Status | C3: Employee Type
A4: ='Master Sheet'!B20 -> Regular | B4: ='Master Sheet'!C20 -> Permanent | C4: ='Master Sheet'!D20 -> Active
A5: Service Category | B5: Sub Service Category/Cadre | C5: Designation
A6: ='Master Sheet'!B22 -> Subordinate | B6: ='Master Sheet'!C22 -> Rajasthan Edu Service | C6: ='Master Sheet'!I20 -> Senior Teacher
A7: Entitlement Status | B7: Gazatted/Non-Gazzated | C7: Service Quata
A8: ='Master Sheet'!E20 -> On Or 01.04.2022 - OPS | B8: ='Master Sheet'!G20 -> Non-Gazzated | C8: ='Master Sheet'!F20 -> NA
A9: Parental Department | B9: Current Department | C9: Designation Of Appointing Authority
A10: ='Master Sheet'!E22 -> Education Department | B10: ='Master Sheet'!F22 -> Secondary Education Department | C10: ='Master Sheet'!G22 -> District Education Officer
A11: Appointing As | B11: Current Desination | C11: Date Of Present Desination
A12: ='Master Sheet'!I22 -> Teacher Grade III | B12: ='Master Sheet'!I20 -> Senior Teacher | C12: ='Master Sheet'!D22 -> 42714
A13: First Joining Date | B13: Joining Time (Forenoon/Afternoon) | C13: Supperanuation Date
A14: ='Master Sheet'!B24 -> 34429 | B14: ='Master Sheet'!C24 -> FORENOON | C14: ='Master Sheet'!C14 -> 45260
A15: Date of Joining Regular Service | B15: Date of Joining Present DDO | C15: PRAN Type
A16: ='Master Sheet'!E24 -> 34429 | B16: ='Master Sheet'!D24 -> 44803 | C16: ='Master Sheet'!I26 -> 11000123456789
A17: GPF No. | B17: State Insurance No. | C17: RGHS Card No.
A18: ='Master Sheet'!F24 -> 456123 | B18: ='Master Sheet'!G24 -> 412156 | C18: ='Master Sheet'!B26 -> XXXXXX
A19: Belt No. | B19: PLI No. | C19: IAS CPnF No.
A20: ='Master Sheet'!C26 -> 123456 | C20: ='Master Sheet'!I24 -> 0
A21: Is Ex-Serviceman | B21: Are you getting civil service pension | C21: PPO NO./PENSION AMOUNT
A22: ='Master Sheet'!D26 -> No | B22: ='Master Sheet'!E26 -> No | C22: ='Master Sheet'!G26 -> 0
A23: Documents Types Upload PDF Files Up to 2MB
A24: Appointing Latter | B24: izFke fu;qfDr vkns'k
A25: Confirmation Order | B25: LFkkbZdj.k vkns'k
A26: Joining Latter | B26: izFke dk;Zxzg.k izkFkZuk&i=

Sheet Address Details
A1: FOR IFMS 3.0
A2: Address Details
A3: Permanent Address
A4: State | B4: District | C4: Area
A5: ='Master Sheet'!B30 -> RAJASTHAN | B5: ='Master Sheet'!C30 -> BARAN | C5: ='Master Sheet'!G30 -> KAWAI SALPURA TEHSIL ATRU
A6: House Number | B6: Pincode | C6: Assembly
A7: ='Master Sheet'!D30 -> 127 | B7: ='Master Sheet'!F30 -> 325219 | C7: ='Master Sheet'!E30 -> BARAN-ATRU
A8: Current Address
A9: State | B9: District | C9: Area
A10: ='Master Sheet'!B33 -> RAJASTHAN | B10: ='Master Sheet'!C33 -> BARAN | C10: ='Master Sheet'!G33 -> KAWAI SALPURA TEHSIL ATRU
A11: House Number | B11: Pincode | C11: Assembly
A12: ='Master Sheet'!D33 -> 127 | B12: ='Master Sheet'!F33 -> 325219 | C12: ='Master Sheet'!E33 -> BARAN-ATRU

Sheet Family & Bank Details
A1: FOR IFMS 3.0
A2: Family Details
A3: S.N. | B3: Name | C3: Relationship | D3: Date of Birth | E3: Janadhaar Id | F3: Janadhaar Member Id | G3: Gender
A4: 1 | B4: ='Master Sheet'!B36 -> MANJU KUMARI | C4: ='Master Sheet'!C36 -> WIFE | D4: =IF('Master Sheet'!D36="","",'Master Sheet'!D36) -> 31585 | E4: ='Master Sheet'!E36 -> 4774110102 | F4: ='Master Sheet'!F36:H36 -> 12345678910 | G4: ='Master Sheet'!I36 -> FEMALE
A5: 2 | B5: ='Master Sheet'!B37 -> ARYAN MEGHWAL | C5: ='Master Sheet'!C37 -> SON | D5: =IF('Master Sheet'!D37="","",'Master Sheet'!D37) -> 40093 | E5: ='Master Sheet'!E37 -> 4774110102 | F5: ='Master Sheet'!F37:H37 -> 12345678910 | G5: ='Master Sheet'!I37 -> MALE
A6: 3 | B6: ='Master Sheet'!B38 -> MIHIKA MEGHWAL | C6: ='Master Sheet'!C38 -> DAUGHTER | D6: =IF('Master Sheet'!D38="","",'Master Sheet'!D38) -> 42600 | E6: ='Master Sheet'!E38 -> 4774110102 | F6: ='Master Sheet'!F38:H38 -> 12345678910 | G6: ='Master Sheet'!I38 -> FEMALE
A7: 4 | B7: ='Master Sheet'!B39 -> 0 | C7: ='Master Sheet'!C39 -> 0 | D7: =IF('Master Sheet'!D39="","",'Master Sheet'!D39) | E7: ='Master Sheet'!E39 -> 0 | F7: ='Master Sheet'!F39:H39 -> 0 | G7: ='Master Sheet'!I39 -> 0
A8: 5 | B8: ='Master Sheet'!B40 -> 0 | C8: ='Master Sheet'!C40 -> 0 | D8: =IF('Master Sheet'!D40="","",'Master Sheet'!D40) | E8: ='Master Sheet'!E40 -> 0 | F8: ='Master Sheet'!F40:H40 -> 0 | G8: ='Master Sheet'!I40 -> 0
A9: 6 | B9: ='Master Sheet'!B41 -> 0 | C9: ='Master Sheet'!C41 -> 0 | D9: =IF('Master Sheet'!D41="","",'Master Sheet'!D41) | E9: ='Master Sheet'!E41 -> 0 | F9: ='Master Sheet'!F41:H41 -> 0 | G9: ='Master Sheet'!I41 -> 0
A10: Nominee Details
B11: Schemes | C11: Name Of Nominee | F11: Relation | G11: Share %
A12: 1 | B12: Arrears | C12: ='Master Sheet'!C44:D44 -> MANJU KUMARI | F12: ='Master Sheet'!E44 -> WIFE | G12: ='Master Sheet'!F44 -> 1
A13: 2 | B13: Commutation | C13: ='Master Sheet'!C45:D45 -> MANJU KUMARI | F13: ='Master Sheet'!E45 -> WIFE | G13: ='Master Sheet'!F45 -> 1
A14: 3 | B14: Gratuity | C14: ='Master Sheet'!C46:D46 -> MANJU KUMARI | F14: ='Master Sheet'!E46 -> WIFE | G14: ='Master Sheet'!F46 -> 1
A15: Bank Details
A16: Bank Name | C16: Branch Name | E16: IFSC Code | F16: Account Number
A17: ='Master Sheet'!B49 -> STATE BANK OF INDIA | C17: ='Master Sheet'!C49:D49 -> KAWAI | E17: ='Master Sheet'!E49 -> SBIN0032012 | F17: ='Master Sheet'!F49:H49 -> 611XXXXX773

Sheet Pay Details
A1: FOR IFMS 3.0
A2: Pay Entitlement Details
A3: Pay Commission | B3: Date of Exiting Pay & Grade Pay | C3: Pay Scale
A4: ='Master Sheet'!B52 -> 7TH PAY | B4: ='Master Sheet'!C52 -> 42370 | C4: ='Master Sheet'!E52 -> L11 (37800-119700)
A5: Date of Present Pay Scale | B5: Basic Pay | C5: Special Pay
A6: ='Master Sheet'!G52 -> 45108 | B6: ='Master Sheet'!D14 -> 75400 | C6: ='Master Sheet'!F52 -> 0
A7: NPA | B7: Dearness Allowance | C7: Treasury Name For Monthly Pension
A8: ='Master Sheet'!D52 -> 0 | B8: ='Master Sheet'!F14 -> 0.58 | C8: ='Master Sheet'!I52 -> BARAN

Sheet Accounts Certificate
B1: jktLFkku&ljdkj | K1: jktLFkku&ljdkj | M1: lsokfuo`fRr frfFk blh dze esa Mkysa
B2: dk;kZy; dk uke | E2: ='Master Sheet'!C8 -> jktdh; mPp ek/;fed fo|ky;] xksj/kuiqjk | K2: =CONCATENATE(B2,"&",E2," ",'Master Sheet'!F8," ",'Master Sheet'!G8) -> dk;kZy; dk uke&jktdh; mPp ek/;fed fo|ky;] xksj/kuiqjk ftyk ckjka
K3: dzekad& fnukad& | M3: 31-03-2023
K4: ys[kkdehZ dk izek.k&i=
B5: dzekad& fnukad&
B6: ys[kkdehZ dk izek.k&i= | K6: =CONCATENATE(B7," ",B8," ",G8," ", J8," ",B9," ", D9," ", F9," ", J9," ",M3," ",C10," ",B11," ",B12," ",B13," ",C13," ",J13," ",C14," ",B15," ",B8," ",I15," ",B16," ",B17," ",C17," ",E17," ",F17," ",G17," ",H17) -> izekf.kr fd;k tkrk gS fd bl dk;kZy; ds v/khu Jh ijekuUn es?koky Jh Hkaoj yky es?koky tks fd in ofj"B v/;kid inLFkkiu jktdh; mPp ek/;fed fo|ky;] xksj/kuiqjk ls fnukad 31-03-2023 dks lsokfuo`Rr gks jgs gSa@gks pqds gSa ds lsokfHkys[k ds vk/kkj ij le; le; ij fd;s x;s osru@Lohd`r dh xbZ osru o`f};ka ,oa Lohd`r dh xbZ ,lhih@p;fur osruekuks dh jktLFkku ds fu;eksa@funsZ'kksa ds dze esa tkap dj yh xbZ gSaA rFkk budk vfUre osru #i;s 75400 v{kjs ¼---------------------------------------------------------½ is&esfVªDl ysoy& ysoy&11 ftl ij isa'ku ifjykHkksa dh x.kuk dh xbZ gS@dh tkuh gSa lgh #i ls fudkyk x;k gSa] Jh ijekuUn es?koky dh dqy vagdkjh lsok vof/k dk lR;kiu lsok iqfLrdk ls dj fy;k x;k g] ftldh vof/k 29 o"kZ 7 ekg ,oa 25 fnol gSaA
B7: izekf.kr fd;k tkrk gS fd bl dk;kZy; ds v/khu
B8: ='Master Sheet'!C2 -> Jh ijekuUn es?koky | E8: iq=@iq=h@ifRu Jh | G8: ='Master Sheet'!C3 -> Jh Hkaoj yky es?koky | J8: tks fd in
B9: ='Master Sheet'!C5 -> ofj"B v/;kid | D9: inLFkkiu | F9: ='Master Sheet'!C8 -> jktdh; mPp ek/;fed fo|ky;] xksj/kuiqjk | J9: ls fnukad
B10: 31-03-2020 | C10: dks lsokfuo`Rr gks jgs gSa@gks pqds gSa ds lsokfHkys[k ds vk/kkj ij le; le;
B11: ij fd;s x;s osru@Lohd`r dh xbZ osru o`f};ka ,oa Lohd`r dh xbZ ,lhih@p;fur osruekuks
B12: dh jktLFkku ds fu;eksa@funsZ'kksa ds dze esa tkap dj yh xbZ gSaA rFkk budk vfUre osru #i;s
B13: ='Master Sheet'!D14 -> 75400 | C13: v{kjs ¼---------------------------------------------------------½ is&esfVªDl ysoy& | J13: ='Master Sheet'!AE2 -> ysoy&11
C14: ftl ij isa'ku ifjykHkksa dh x.kuk dh xbZ gS@dh tkuh gSa lgh #i
B15: ls fudkyk x;k gSa] | I15: dh dqy vagdkjh lsok
B16: vof/k dk lR;kiu lsok iqfLrdk ls dj fy;k x;k g] ftldh vof/k
B17: ='Master Sheet'!M2 -> 29 | C17: o"kZ | E17: ='Master Sheet'!M3 -> 7 | F17: ekg ,oa | G17: ='Master Sheet'!M4 -> 25 | H17: fnol gSaA
L19: in &
L20: dk;kZy; &

Sheet LPC
A1: G.A. - 62 | C1: GOVERNMENT OF RAJASTHAN | K1: New Form No. G.A. - 35
A2: GFAR- 162 | C2: jktLFkku ljdkj | K2: Rule 62 | O2: vf/kokf"kZdh vk;q iw.kZ gksus
A4: Office - | C4: ='Master Sheet'!F7 -> Govt. Sr. Sec. School Gordhanpura, Atru Baran | J4: Department | K4: ='Master Sheet'!I6 -> Education | O4: e`R;q gksus ij
A5: dk;kZy; | C5: ='Master Sheet'!C8 -> jktdh; mPp ek/;fed fo|ky;] xksj/kuiqjk | J5: foHkkx
A6: Book No. - | C6: ------------------------- | E6: Last Pay Certificate | K6: S. No. - | L6: ------------------ | O6: LoSfPNd lsokfuo`fRr ij
A7: iqLrd la[;k | E7: xr Hkqxrku izek.k i= | K7: Øe la[;k | O7: =IF('Master Sheet'!I14="supperannuation",LPC!O2,IF('Master Sheet'!I14="death",O4,IF('Master Sheet'!I14="vrs",O6))) -> vf/kokf"kZdh vk;q iw.kZ gksus
A9: 1 | B9: Last Pay Certificate of Shri/Smt./ Ms | E9: ='Master Sheet'!F2 -> Parmanand Meghwal | I9: of the Department | K9: =C4 -> Govt. Sr. Sec. School Gordhanpura, Atru Baran
B10: xr Hkqxrku izek.k i= Jh@Jherh@lqJh | I10: foHkkx
B11: of the | C11: ------------------------- | E11: Proceeding on | G11: Retirement | J11: to | K11: -----------------------------
B12: tks | C12: =O7 -> vf/kokf"kZdh vk;q iw.kZ gksus | E12: ij | G12: fnukad | I12: ='Master Sheet'!C14 -> 45260 | J12: ls | K12: lsokfuo`fRr dks tk jgs gSa
A13: 2 | B13: He has been paid upto | D13: =I12 -> 45260 | I13: at the following rates :-
B14: budks Hkqxrku fnukad | I14: rd fuEufyf[kr nj ls fd;k tk pqdk gS %&
C16: Perticulers foxr | H16: Rates nj | L16: Gross Salary
C17: (i) | D17: Substantive Pay ewy osru | H17: ='Master Sheet'!D14 -> 75400 | I17: =H17 -> 75400 | L17: dqy osru
C18: (ii) | D18: Officiating Pay LFkkukiUu osru | I18: ----------------------------------------- | L18: =SUM(I17:K24) -> 125918
C19: (iii) | D19: Special Pay fo'ks"k osru | I19: -----------------------------------------
C20: (iv) | D20: Allowance HkÙks ¼eg¡xkbZ HkÙkk½ @50% % | H20: ='Master Sheet'!F14 -> 0.58 | I20: =I17*H20 -> 43732
D21: (a) | E21: House edku @ | H21: 0.09 | I21: =I17*H21 -> 6786
D22: (b) | E22: Horse/Camel ?kksM+k@Å¡V | I22: -----------------------------------------
D23: (c) | E23: Conveyance lokjh | I23: -----------------------------------------
D24: (d) | E24: Others vU; | I24: -----------------------------------------
E25: Deductions dVkSfr;k¡ | I25: -----------------------------------------
A27: 3 | B27: He made over charge of the office of | F27: ----------------------------------- | I27: on the B.N. / A.N. of | K27: -----------------------------
B28: mUgksaus | C28: =C5 -> jktdh; mPp ek/;fed fo|ky;] xksj/kuiqjk | F28: foHkkx dk dk;ZHkkj fnukad | I28: =I12 -> 45260 | J28: dh e/;kà ds igys@ihNs lkSai fn;k gSA
A29: 4 | B29: Recoveries are to be made from the pay of government Servent as details on Reverse.
B30: fiNys i`"B ij fy[ks vuqlkj deZpkjh ls olwfy;k¡ djuh gSA
A31: 5 | B31: He has been paid leave salary as detailed below. budks fuEufyf[kr vodk'k osru ns fn;k gSA
B32: Deductions have been made as noted on the reverse. fiNys i`"B ij fy[kh dVkSfr;k¡ dj yh xbZ gSA
D34: Period vof/k | H34: Rate nj | K34: Amount jde
B35: From | C35: --------------------------------- | E35: to | F35: ----------------------- | H35: at Rs. | I35: ------------------------------ | K35: a month | L35: ------------------
B36: fnukad ls | E36: fnukad rd | H36: nj :- | K36: ekgokj
B37: " | C37: --------------------------------- | E37: " | F37: ----------------------- | H37: " | I37: ------------------------------ | K37: " | L37: ------------------
B38: " | C38: --------------------------------- | E38: " | F38: ----------------------- | H38: " | I38: ------------------------------ | K38: " | L38: ------------------
B39: " | C39: --------------------------------- | E39: " | F39: ----------------------- | H39: " | I39: ------------------------------ | K39: " | L39: ------------------
A41: 6 | B41: He is entitled to draw the folowwing amount. ;g fuEufyf[kr jde ysus ds gdnkj gSA
A43: 7 | B43: He is entitled to joining time for | E43: ----------------------------------- | H43: days.
B44: budks nwljh txg dk;ZHkkj laHkkyus ds fy;s | H44: fnu rd dk le; fey ldrk gSA
A46: 8 | B46: He finances the insurance policies detailed below from the provident fund.
B47: budkh fuEufyf[kr ikWfyfl;ksa dk Hkqxrku izksfoMsUV Q.M ls fd;k tkrk gSA
A49: Name of Insurance Company or State Insurance Department | F49: Number of Policy | I49: Amount of Premium | K49: Due date for the Payment of Premium
...

Sheet 27 क
B1: izi= & 27 ^^ d ^^ ¼ nsf[k, fu;e 79 ¼3½ ½
B2: ¼ nks izfr;ksa esa ½
B3: ljdkjh deZpkjh }kjk dksbZ ljdkjh vkokl lqfo/kk ugha ysus ij
B4: izek.k&i= dk izi=
B5: lsokesa ]
C6: iz/kkukpk;Z
C7: ='Master Sheet'!C8 -> jktdh; mPp ek/;fed fo|ky;] xksj/kuiqjk
C8: =CONCATENATE('Master Sheet'!F8," ",'Master Sheet'!G8) -> ftyk ckjka
C9: ¼ dk;kZy; v/;{k ½
B11: fo"k; %& ljdkjh vkokl lqfo/kk dk vf/kHkksx ugha djus dk izek.k i=
B13: egksn; ]
B15: eS | C15: ='Master Sheet'!C2:D2 -> Jh ijekuUn es?koky | L15: tks vkids
B16: foHkkx esa | C16: ='Master Sheet'!C5 -> ofj"B v/;kid | H16: ds in ij dk;Z dj jgk gwWa ,rn ~}kjk
B17: izekf.kr djrk gqWa fd eSa ljdkjh vkokl lqfo/kk dk vf/kHkksx ugh dj jgk gqWa ,oa eSus yksd fuekZ.k
B18: foHkkx ds LVksj ls QuhpZj vkfn tSls dksbZ oLrq fdjk;s ij ugh yh gS A
C20: eaS ;g vkSj /kks"k.kk djrk gwWa fd ;fn bl rkjh[k ds ckn fdlh ljdkjh vkokl lqfo/kk dk esjs
B21: }kjk vf/kHkksx fd;k x;k rks mlds lEcU/k es fdjk;s dh olwyh ds fy, vkidks lwfpr dj nwWaxk A
I24: Hkonh;
B26: fnukad & | I26: gLrk{kj
I27: ljdkjh deZpkj dk uke o in
D28: izekf.kr | I28: =CONCATENATE('Master Sheet'!C2," ",'Master Sheet'!C5) -> Jh ijekuUn es?koky ofj"B v/;kid
D29: dk;kZy; v/;{k
D30: e; eksgj

Sheet 28 क
B1: izi= & 28 ^^ d ^^ ¼ nsf[k, fu;e 94&izfdz;k ½
B2: ¼ nks izfr;ksa esa ½
B3: tgka ljdkjh deZpkjh us dksbZ nh?kZdkfyd vfxze ugha fy;k gks mlds }kjk izek.k&i= dk izi=
B5: lsokesa ]
C6: iz/kkukpk;Z
C7: ='Master Sheet'!C8 -> jktdh; mPp ek/;fed fo|ky;] xksj/kuiqjk
C8: =CONCATENATE('Master Sheet'!F8," ",'Master Sheet'!G8) -> ftyk ckjka
C9: ¼ dk;kZy; v/;{k ½
B11: fo"k; %& dksbZ nh?kZ vfxze ugha ysus dk izek.k&i=
B13: egksn; ]
B15: eS | C15: ='Master Sheet'!C2:D2 -> Jh ijekuUn es?koky | L15: tks vkids
B16: dk;kZy; esa | D16: ='Master Sheet'!C5 -> ofj"B v/;kid | H16: ds in ij dk;Z dj jgk gwWa ,rn ~}kjk
B17: izekf.kr djrk gqWa fd eSaus ljdkj ls viuh iw.kZ lsok vof/k esa fdlh izdkj dk dksbZ nh?kZdkfyd vfxze
B18: vFkkZr~] Hkou fuekZ.k vfxze] Hkou ejEer vfxze] okgu vfxze vkfn ugha fy;k gSaaA
I22: Hkonh;
B24: fnukad & | I24: gLrk{kj
I25: ljdkjh deZpkj dk uke o in
I26: =C15 -> Jh ijekuUn es?koky
I27: =D16 -> ofj"B v/;kid
B29: la[;k& | I29: fnukad&
C33: ;g izekf.kr fd;k tkrk gS fd mDr ?kks"k.kk dh lsok iqfLrdk] osru fcyksa dh dk;kZy; izfr;ksa
B34: ,oa ftl dk;kZYk; izfr;ksa ,oa ftl dk;kZy; ls og bl dk;kZy; esa LFkkukUrfjr gvk gSa] mlds }kjk
B35: tkjh fd;s vfUre izek.k&i= ,oa dk;kZy; esa miyC/k vU; fjdkWMZ ds vk/kkj ij tkat yh gS rFkk mls
B36: lgh ik;k gSaA
I38: gLrk{kj
I39: dk;kZy; v/;{k
I40: in & | J40: ='Master Sheet'!C7 -> jktsUnz dqekj fpRrkSMk
I41: eqgj&

Sheet Form 28
A1: izi= & 28 ¼nsf[k, fu;e 94& izfØ;k½ nh?kZdkfyd vfxzeksa ds fy, ^^dksbZ cdk;k ugha izek.k&i=^^ tkjh djus ds fy;s dks"kkxkj vf/kdkjh dks vkosnu&i= dk izi=
A2: lsokesa]
B3: Jheku dks"kkf/kdkjh egksn;
B4: ='Master Sheet'!I49 -> ckjka
B5: ¼dk;kZy; v/;{k ds ekQZr½
B6: fo"k;%& nh?kZdkfyd vfxzeksa ¼,y-Vh-,-½ ij ^^dksbZ cdk;k ugha izek.k&i=^^ tkjh djuk
A7: egksn;]
B8: eq>s | C8: ='Master Sheet'!C2:D2 -> Jh ijekuUn es?koky | D8: tks | E8: ='Master Sheet'!C7 -> jktsUnz dqekj fpRrkSMk | G8: ds dk;kZy; es | I8: ='Master Sheet'!C5 -> ofj"B v/;kid | K8: in ij dk;Z dj jgk Fkk
A9: fuEufyf[kr nh?kZdkfyd vfxze vFkkZr~ Hkou fuekZ.k vfxze] Hkou ejEer ,oa okgu vfxze lEiw.kZ lsok vof/k es Lohdkj fd;k x;k Fkk] ftldk C;kSjk uhps izR;sd ds lkeus fn;k x;k gSa%&
A10: vfxze dk izdkj | C10: dks"kky; dk uke | D10: fcy la- ,oa fnukad udn Hkqxrku dh fnukad | G10: Lohd`r jkf'k | H10: nh?kZdkfyd vfxze ys[kk la- | I10: vc rd Hkqxrku dh xbZ jkf'k | J10: cdk;k jkf'k ;fn dksbZ gks | M10: xzsP;qVh ls olwyh ds fy, vyx dh xbZ jkf'k
J11: Hkqxrku | K11: C;kt | L11: ;ksx
A12: 1 | C12: 2 | D12: 3 | G12: 4 | H12: 5 | I12: 6 | J12: 7 | K12: 8 | L12: 9 | M12: 10
A13: ¼d½ Hkou fuekZ.k vfxze
A14: ¼A½ izFke vfxze | C14: ='Master Sheet'!I49 -> ckjka
A15: ¼AA½ f}rh; vfxze | C15: ='Master Sheet'!I49 -> ckjka
A16: ¼[k½ Hkou ejEer vfxze
A17: ¼A½ izFke vfxze | C17: ='Master Sheet'!I49 -> ckjka
A18: ¼AA½ f}rh; vfxze | C18: ='Master Sheet'!I49 -> ckjka
A19: ¼AAA½ r`rh; vfxze | C19: ='Master Sheet'!I49 -> ckjka
A20: ¼x½ okgu vfxze
A21: ¼A½ izFke vfxze | C21: ='Master Sheet'!I49 -> ckjka
A22: ¼AA½ f}rh; vfxze | C22: ='Master Sheet'!I49 -> ckjka
A23: ¼AAA½ r`rh; vfxze | C23: ='Master Sheet'!I49 -> ckjka
A24: eSa izekf.kr djrk gwa fd eq>s eSajh lEiw.kZ lsok vof/k es dksbZ vU; nh?kZdkfyd vfxze Lohd`r ugh fd;k x;k gSaA d`i;k mDr vfxzeksa ds lacU/k es ^^dksbZ cdk;k ugha izek.k&i=^^ cdk;k jkf'k ugh gksus ij tkjh djsaA
A26: LFkku% | K26: fnukad%
H28: Hkonh;
H29: gLrk{kj nkosnkj
I30: =CONCATENATE(C8," ",I8) -> Jh ijekuUn es?koky ofj"B v/;kid
A31: dks"kkxkj vf/kdkjh | C31: =B4 -> ckjka | D31: dks mDr vfxzeksa ds lacU/k esa ^dksbZ cdk;k ugh izek.k&i=^ tkjh djus ds fy, vxzsf"kr lsok iqfLrdk] osru fcyksa dh dk;kZy; izfr;ks
A32: ,oa ftl dk;kZy; ls og bl dk;kZy; es LFkkukarfjr gqvk gSa]mlds }kjk tkjh fd;s x;s vafre osru izek.k&i= ,oa dk;kZy; es miyC/k fjdkMZ
A33: ds vk/kkj ij] mlus dksbZ vU; nh?kZdkfyd vfxze ugh fy;k gSsA
J35: gLrk{kj dk;kZy; v/;{k

Sheet No Dues
A1: =CONCATENATE('Master Sheet'!C8," ",'Master Sheet'!F8," ", 'Master Sheet'!G8) -> jktdh; mPp ek/;fed fo|ky;] xksj/kuiqjk ftyk ckjka
A2: dzekad%& fnukad%&
A3: vns; izek.k&i=
B4: izekf.kr fd;k tkrk gS | E4: ='Master Sheet'!C2 -> Jh ijekuUn es?koky | H4: in | I4: ='Master Sheet'!C5 -> ofj"B v/;kid
A5: LFkkuh; dk;kZy; esa ftuds lsok vfHkys[k ds vuqlkj tUefrfFk& | H5: ='Master Sheet'!I5 -> 23327 | J5: gSa ,oa
A6: izFke fu;qfDr frfFk | C6: ='Master Sheet'!B14 -> 34429 | E6: gSaA budk lsokfuo`fRr fnukad | H6: ='Master Sheet'!C14 -> 45260 | J6: dks gks
A7: tkus ds mijkUr budh lsok;sa fnukad | E7: =H6 -> 45260 | G7: dks lekIr dj nh xbZ gSaA
B9: =E4 -> Jh ijekuUn es?koky | E9: dh fu;qfDr frfFk | G9: =C6 -> 34429 | I9: ls lsok lekfIr
A10: frfFk | B10: =H6 -> 45260 | D10: rd budh rjQ jkT; ljdkj dh dksbZ Hkh jktdh; jkf”k ,oa
A11: jktdh; lkexzh cdk;k ugha gSaA
A13: vr% Lo- ;ksxsUnz dqyJs’B | B13: =E4 -> Jh ijekuUn es?koky | E13: ls fdlh izdkj dh dksbZ olwyh ugha dh tkuh gSaA
G16: gLrk{kj dk;kZy; v/;{k
