Workbook

Sheet PRAPTRA 1 प्रविष्ठी
A1: प्रवेशोत्सव कार्यक्रम के अंतर्गत हाउस होल्ड सर्वे प्रपत्र -1
A2: जिला :- | B2: डीडवाना-कुचामन | D2: ब्लॉक का नाम :- | F2: मौलासर | H2: सीआरसी विद्यालय का नाम :- | K2: रा.उ.मा.वि.खोजास
A3: ग्राम/ वार्ड का नाम :- | C3: डसाणा खुर्द | E3: सर्वे की दिनांक :- | F3: 46108 | I3: UPDATED ON :- | K3: 46126
A4: विद्यालय का नाम जिसे उस ग्राम/ वार्ड की जिम्मेदारी दी गयी हो | F4: GOVT SEN SEC SCHOOL DASANA KHURD
A5: क्र. सं | B5: ग्राम पंचायत | C5: गाँव /वार्ड/मकान न | D5: हैबिटेशन (रहवास) | E5: बालक / बालिका नाम | F5: पिता /अभिभावक/ संरक्षक का नाम | G5: माता का नाम | H5: जन्म दिनांक Day Format DD-MM-YYYY | I5: आयु | J5: लिंग (M/F/T) | K5: वर्ग | L5: प्रवेशित कक्षा | M5: आधार की स्थिति ( हाँ /नहीं ) | N5: यदि हाँ तो आधार संख्या | O5: शैक्षिक स्थिति | R5: यदि अनामांकित /ड्रॉप आउट है तो कारण (परिशिष्ट -1 के अनुसार क्रमांक भरे ) | S5: विशेष ध्यान देने वाले परिवारों के बच्चे (CWSN) ( परिशिष्ट -2 के अनुसार क्रमांक भरे) | T5: विशेष आवश्यकता वाले बच्चे (CWSN ) परिशिष्ट -3 के अनुसार क्रमांक भरे | U5: निजी विद्यालय से आने वाले बच्चे (हाँ/नहीं ) | V5: यदि हाँ तो विद्यालय का नाम व पता | W5: अभिभावक मो. नं.
K6: (SC/ST/SBC/OBC/GEN/MIN) | O6: अनामांकित | P6: ड्रॉप आउट | Q6: ड्रॉप आउट कक्षा
A7: 1 | B7: 2 | C7: 3 | D7: 4 | E7: 5 | F7: 6 | G7: 7 | H7: 8 | I7: 9 | J7: 10 | K7: 11 | L7: 12 | M7: 13 | N7: 14 | O7: 15 | P7: 16 | Q7: 17 | R7: 18 | S7: 19 | T7: 20 | U7: 21 | V7: 22 | W7: 23
A8: 1 | B8: खोजास | C8: 93 | D8: डसाणा खुर्द वार्ड न 8 | E8: पंकज | F8: मदनलाल | G8: मुन्नी देवी | H8: 40076 | I8: 17 | J8: M | K8: OBC | L8: 10 | M8: हां | N8: 979903006006 | O8: …. | P8: …. | Q8: …. | R8: …. | S8: …. | T8: …. | U8: ना | V8: …. | W8: 9828718442
A9: 2 | B9: खोजास | C9: 95 | D9: डसाणा खुर्द वार्ड न 8 | E9: लक्ष्मी | F9: जेठाराम | G9: संतोष देवी | H9: 40470 | I9: 16 | J9: F | K9: OBC | L9: 10 | M9: हां | N9: 858342380277 | O9: …. | P9: …. | Q9: …. | R9: …. | S9: …. | T9: …. | U9: ना | V9: …. | W9: 8302301234 9828938082
A10: 3 | B10: खोजास | C10: 95 | D10: डसाणा खुर्द वार्ड न 8 | E10: आरती | F10: जेठाराम | G10: संतोष देवी | H10: 40470 | I10: 16 | J10: F | K10: OBC | L10: 10 | M10: हां | N10: 932495911327 | O10: …. | P10: …. | Q10: …. | R10: …. | S10: …. | T10: …. | U10: ना | V10: …. | W10: 8302301234 9828938082
A11: 4 | B11: खोजास | C11: 95 | D11: डसाणा खुर्द वार्ड न 8 | E11: रमेश प्रजापत | F11: कैलाश चंद्र | G11: संतोष देवी | H11: 40909 | I11: 14 | J11: M | K11: OBC | L11: 12 | M11: हां | N11: 491755181974 | O11: …. | P11: …. | Q11: …. | R11: …. | S11: …. | T11: …. | U11: हाँ | V11: रामनाथ खरेश | W11: 9610651941
A12: 5 | B12: खोजास | C12: 95 | D12: डसाणा खुर्द वार्ड न 8 | E12: कृष्ण कुमार | F12: जुगल किशोर | G12: विमला | H12: 42270 | I12: 11 | J12: M | K12: OBC | L12: 7 | M12: हां | N12: 794566455082 | O12: …. | P12: …. | Q12: …. | R12: …. | S12: …. | T12: …. | U12: हाँ | V12: रामनाथ खरेश | W12: 9828041329 8306188464
A13: 6 | B13: खोजास | C13: 95 | D13: डसाणा खुर्द वार्ड न 8 | E13: विशाल | F13: जुगल किशोर | G13: विमला | H13: 43155 | I13: 8 | J13: M | K13: OBC | L13: 5 | M13: नहीं | O13: …. | P13: …. | Q13: …. | R13: …. | S13: …. | T13: …. | U13: हाँ | V13: रामनाथ खरेश | W13: 9828041329 8306188464
A14: 7 | B14: खोजास | C14: 95 | D14: डसाणा खुर्द वार्ड न 8 | E14: रितिक | F14: पप्पू राम प्रजापत | G14: सुख देवी | H14: 43847 | I14: 6 | J14: M | K14: OBC | L14: 2 | M14: हां | N14: 241121971711 | O14: …. | P14: …. | Q14: …. | R14: …. | S14: …. | T14: …. | V14: …. | W14: 9828041329
A15: 8 | B15: खोजास | C15: 95 | D15: डसाणा खुर्द वार्ड न 8 | E15: आयुष प्रजापत | F15: पप्पू राम प्रजापत | G15: सुख देवी | H15: 45680 | I15: 1 | J15: M | K15: OBC | L15: -- | M15: नहीं | O15: …. | P15: …. | Q15: …. | R15: …. | S15: …. | T15: …. | V15: …. | W15: 7483364274
A16: 9 | B16: खोजास | C16: 95 | D16: डसाणा खुर्द वार्ड न 8 | E16: दीक्षित | F16: पप्पू राम प्रजापत | G16: सुख देवी | H16: 44542 | I16: 4 | J16: M | K16: OBC | L16: आंगनबाड़ी | M16: हाँ | N16: 291658372011 | O16: …. | P16: …. | Q16: …. | R16: …. | S16: …. | T16: …. | V16: आंगनवाड़ी | W16: 7483364274
A17: 10 | B17: खोजास | C17: 95 | D17: डसाणा खुर्द वार्ड न 8 | E17: राहुल | F17: तेजाराम | G17: मंजू देवी | H17: 42182 | I17: 11 | J17: M | K17: OBC | L17: 6 | M17: हाँ | N17: 384336392336 | O17: …. | P17: …. | Q17: …. | R17: …. | S17: …. | T17: …. | U17: हाँ | V17: रामनाथ खरेश | W17: 9694954691
A18: 11 | B18: खोजास | C18: 95 | D18: डसाणा खुर्द वार्ड न 8 | E18: कोशिका | F18: तेजाराम | G18: मंजू देवी | H18: 42938 | I18: 9 | J18: M | K18: OBC | L18: 4 | M18: हाँ | N18: 933645605770 | O18: …. | P18: …. | Q18: …. | R18: …. | S18: …. | T18: …. | U18: हाँ | V18: रामनाथ खरेश | W18: 9694954691
A19: 12 | B19: खोजास | C19: 96 | D19: डसाणा खुर्द वार्ड न 8 | E19: जितेंद्र सिंह | F19: मदन सिंह | G19: गीता कंवर | H19: 40998 | I19: 14 | J19: M | K19: OBC | L19: 10 | M19: हां | N19: 951831361968 | O19: …. | P19: …. | Q19: …. | R19: …. | S19: …. | T19: …. | U19: ना | V19: …. | W19: 9799746971
A20: 13 | B20: खोजास | C20: 96 | D20: डसाणा खुर्द वार्ड न 8 | E20: सुनील सिंह | F20: राम रतन सिंह | G20: संजू कंवर | H20: 39243 | I20: 18 | J20: M | K20: OBC | L20: college | M20: हां | N20: 766653502435 | O20: …. | P20: …. | Q20: …. | R20: …. | S20: …. | T20: …. | U20: ना | V20: COLLEGE | W20: 9799600913
A21: 14 | B21: खोजास | C21: 96 | D21: डसाणा खुर्द वार्ड न 8 | E21: गिरिराज सिंह | F21: राम रतन सिंह | G21: संजू कंवर | H21: 41943 | I21: 12 | J21: M | K21: OBC | L21: 8 | M21: नहीं | O21: …. | P21: …. | Q21: …. | R21: …. | S21: …. | T21: …. | U21: ना | V21: …. | W21: 9799600913
A22: 15 | B22: खोजास | C22: 96 | D22: डसाणा खुर्द वार्ड न 8 | E22: युवराज सिंह | F22: महावीर सिंह | G22: किरण कंवर | H22: 39861 | I22: 17 | J22: M | K22: OBC | L22: college | M22: हां | N22: 623071624103 | O22: …. | P22: …. | Q22: …. | R22: …. | S22: …. | T22: …. | U22: ना | V22: COLLEGE | W22: 8094466658
A23: 16 | B23: खोजास | C23: 96 | D23: डसाणा खुर्द वार्ड न 8 | E23: देवराज सिंह | F23: महावीर सिंह | G23: किरण कंवर | H23: 40825 | I23: 15 | J23: M | K23: OBC | L23: 11 | M23: हां | N23: 567273153609 | O23: …. | P23: …. | Q23: …. | R23: …. | S23: …. | T23: …. | U23: ना | V23: …. | W23: 8094466658
A24: 17 | B24: खोजास | C24: 98 | D24: डसाणा खुर्द वार्ड न 8 | E24: इशिका | F24: बाल सिंह (रावना राजपूत) | G24: कंचन कंवर | H24: 41124 | I24: 14 | J24: M | K24: OBC | L24: 9 | M24: हां | N24: 89436572097 | O24: …. | P24: …. | Q24: …. | R24: …. | S24: …. | T24: …. | U24: हाँ | V24: रामनाथ आकोदा | W24: 7073561623
A25: 18 | B25: खोजास | C25: 98 | D25: डसाणा खुर्द वार्ड न 8 | E25: संदीप सिंह | F25: बाल सिंह (रावना राजपूत) | G25: कंचन कंवर | H25: 42055 | I25: 11 | J25: M | K25: OBC | L25: 7 | M25: हां | N25: 959884770938 | O25: …. | P25: …. | Q25: …. | R25: …. | S25: …. | T25: …. | U25: हाँ | V25: रामनाथ आकोदा | W25: 9783057723
A26: 19 | B26: खोजास | C26: 98 | D26: डसाणा खुर्द वार्ड न 8 | E26: युवराज सिंह | F26: रूप सिंह | G26: बिना चौहान | H26: 44862 | I26: 4 | J26: M | K26: OBC | L26: आंगनबाड़ी | M26: हां | N26: 556532365167 | O26: …. | P26: …. | Q26: …. | R26: …. | S26: …. | T26: …. | V26: आंगनवाड़ी | W26: 9983281958 9587650457
A27: 20 | B27: खोजास | C27: 99 | D27: डसाणा खुर्द वार्ड न 9 | E27: भेरुराम | F27: हंसराज | G27: संजू देवी | H27: 42879 | I27: 9 | J27: M | K27: SBC | L27: 4 | M27: हां | N27: 963313503815 | O27: …. | P27: …. | Q27: …. | R27: …. | S27: …. | T27: …. | U27: ना | V27: …. | W27: 9549096610
A28: 21 | B28: खोजास | C28: 99 | D28: डसाणा खुर्द वार्ड न 9 | E28: रामप्यारी | F28: राधेश्याम | G28: सुमन | H28: 42277 | I28: 11 | J28: F | K28: SBC | L28: 6 | M28: हां | N28: 836932347368 | O28: …. | P28: …. | Q28: …. | R28: …. | S28: …. | T28: …. | U28: ना | V28: …. | W28: 8890535137
A29: 22 | B29: खोजास | C29: 99 | D29: डसाणा खुर्द वार्ड न 9 | E29: रोहित | F29: राधेश्याम | G29: सुमन | H29: 42782 | I29: 9 | J29: M | K29: SBC | L29: 5 | M29: हां | N29: 716170427656 | O29: …. | P29: …. | Q29: …. | R29: …. | S29: …. | T29: …. | U29: ना | V29: …. | W29: 8890535137
A30: 23 | B30: खोजास | C30: 99 | D30: डसाणा खुर्द वार्ड न 9 | E30: महावीर | F30: राधेश्याम | G30: सुमन | H30: 44090 | I30: 6 | J30: M | K30: SBC | L30: 1 | M30: हां | N30: 392557342679 | O30: …. | P30: …. | Q30: …. | R30: …. | S30: …. | T30: …. | U30: ना | V30: …. | W30: 8890535137
A31: 24 | B31: खोजास | C31: 99 | D31: डसाणा खुर्द वार्ड न 9 | E31: दीपिका | F31: राधेश्याम | G31: सुमन | H31: 44574 | I31: 5 | J31: F | K31: SBC | L31: आंगनबाड़ी | M31: नहीं | O31: …. | P31: …. | Q31: …. | R31: …. | S31: …. | T31: …. | V31: आंगनबाड़ी | W31: 8890535137
A32: 25 | B32: खोजास | C32: 100 | D32: डसाणा खुर्द वार्ड न 9 | E32: मनीष नाथ | F32: राजू नाथ | G32: सोनी देवी | H32: 40040 | I32: 16 | J32: M | K32: OBC | L32: 11 | M32: हां | N32: 516719468307 | O32: …. | P32: …. | Q32: …. | R32: …. | S32: …. | T32: …. | U32: ना | V32: …. | W32: 9649157559 9521157559
A33: 26 | B33: खोजास | C33: 100 | D33: डसाणा खुर्द वार्ड न 9 | E33: निशा नाथ | F33: राजू नाथ | G33: सोनी देवी | H33: 40462 | I33: 15 | J33: F | K33: OBC | L33: 10 | M33: हां | N33: 310809722724 | O33: …. | P33: …. | Q33: …. | R33: …. | S33: …. | T33: …. | U33: ना | V33: …. | W33: 9649157559
A34: 27 | B34: खोजास | C34: 100 | D34: डसाणा खुर्द वार्ड न 9 | E34: प्रदीप | F34: राजू नाथ | G34: सोनी देवी | H34: 01-05-14 | I34: 12 | J34: M | K34: OBC | L34: 8 | M34: हां | N34: 299761844973 | O34: …. | P34: …. | Q34: …. | R34: …. | S34: …. | T34: …. | U34: ना | V34: …. | W34: 9649157559
A35: 28 | B35: खोजास | C35: 101 | D35: डसाणा खुर्द वार्ड न 9 | E35: भावना कंवर | F35: आनन्द सिंह | G35: रोहिताश कंवर | H35: 19-08-10 | I35: 16 | J35: F | K35: Gen. | L35: 11 | M35: हां | N35: 788746723912 | O35: …. | P35: …. | Q35: …. | R35: …. | S35: …. | T35: …. | U35: ना | V35: …. | W35: 9828941897
A36: 29 | B36: खोजास | C36: 101 | D36: डसाणा खुर्द वार्ड न 9 | E36: लक्ष्यराज सिंह | F36: विजय सिंह | G36: मनोज कंवर | H36: 09-01-14 | I36: 12 | J36: M | K36: Gen | L36: 7 | M36: हां | N36: 695487053968 | O36: …. | P36: …. | Q36: …. | R36: …. | S36: …. | T36: …. | U36: हाँ | V36: चितोड़गढ़ | W36: 9983105977
A37: 30 | B37: खोजास | C37: 101 | D37: डसाणा खुर्द वार्ड न 9 | E37: निहारीका कंवर | F37: विजय सिंह | G37: मनोज कंवर | H37: 07-10-16 | I37: 10 | J37: F | K37: Gen | L37: 4 | M37: हां | N37: 930807009913 | O37: …. | P37: …. | Q37: …. | R37: …. | S37: …. | T37: …. | U37: हाँ | V37: चितोड़गढ़ | W37: 9983105977
A38: 31 | B38: खोजास | C38: 101 | D38: डसाणा खुर्द वार्ड न 9 | E38: यशस्वी राठौड़ | F38: विरेन्द्र सिंह | G38: मंजू कंवर | H38: 08-01-16 | I38: 10 | J38: F | K38: Gen | L38: 4 | M38: नहीं | O38: …. | P38: …. | Q38: …. | R38: …. | S38: …. | T38: …. | U38: हाँ | V38: जयपुर
A39: 32 | B39: खोजास | C39: 101 | D39: डसाणा खुर्द वार्ड न 9 | E39: वंशप्रताप सिंह | F39: विरेन्द्र सिंह | G39: मंजू कंवर | H39: 19-09-17 | I39: 8 | J39: M | K39: Gen | L39: 4 | M39: नहीं | O39: …. | P39: …. | Q39: …. | R39: …. | S39: …. | T39: …. | U39: हाँ | V39: जयपुर
A40: 33 | B40: खोजास | C40: 101 | D40: डसाणा खुर्द वार्ड न 9 | E40: लक्ष्य राठौड़ | F40: महिपाल सिंह | G40: मैना कंवर | H40: 45901 | I40: 0.5 | J40: F | K40: GEN | L40: -- | M40: नहीं | O40: …. | P40: …. | Q40: …. | R40: …. | S40: …. | T40: …. | V40: …. | W40: 9649441833
...

Sheet PRAPTRA 2 प्रविष्ठी
A1: चिन्हित विद्यालय से बाहर बच्चों की नामांकन/शिक्षा से मुख्यधारा से जुड़ाव की सूचना
A2: प्रवेशोत्सव कार्यक्रम के अंतर्गत हाउस होल्ड सर्वे प्रपत्र -2
A3: जिला :- | C3: =IF('PRAPTRA 1 प्रविष्ठी'!B2="","",'PRAPTRA 1 प्रविष्ठी'!B2) -> डीडवाना-कुचामन | E3: ब्लॉक का नाम :- | F3: =IF('PRAPTRA 1 प्रविष्ठी'!F2="","",'PRAPTRA 1 प्रविष्ठी'!F2) -> मौलासर | H3: सीआरसी विद्यालय का नाम :- | J3: =IF('PRAPTRA 1 प्रविष्ठी'!K2="","",'PRAPTRA 1 प्रविष्ठी'!K2) -> रा.उ.मा.वि.खोजास
A4: ग्राम/ वार्ड का नाम :- | C4: =IF('PRAPTRA 1 प्रविष्ठी'!C3="","",'PRAPTRA 1 प्रविष्ठी'!C3) -> डसाणा खुर्द | E4: सर्वे की दिनांक:- | F4: =IF('PRAPTRA 1 प्रविष्ठी'!F3="","",'PRAPTRA 1 प्रविष्ठी'!F3) -> 46108 | I4: UPDATED ON :- | J4: =IF('PRAPTRA 1 प्रविष्ठी'!K3="","",'PRAPTRA 1 प्रविष्ठी'!K3) -> 46126
A5: विद्यालय का नाम जिसे उस ग्राम/ वार्ड की जिम्मेदारी दी गयी हो | G5: GOVT SEN SEC SCHOOL DASANA KHURD
A6: क्र. सं | B6: ग्राम पंचायत | C6: गाँव/वार्ड/मकान न | D6: हैबिटेशन (रहवास) | E6: बालक / बालिका नाम | F6: पिता/ अभिभावक / संरक्षक का नाम | G6: जन्म दिनांक | H6: कक्षा | I6: विद्यालय का नाम जंहा नामांकित हुआ | J6: विद्यालय का शाला दर्शन/शाला दर्पण/प्राइवेट पोर्टल का कोड | K6: नामांकन क्रमांक SR no. | L6: प्रवेश की दिनांक | M6: दक्षता जांच अनुसार कक्षा स्तर
A7: 1 | B7: 2 | C7: 3 | D7: 4 | E7: 5 | F7: 6 | G7: 7 | H7: 8 | I7: 9 | J7: 10 | K7: 11 | L7: 12 | M7: 13
A8: 1 | B8: खोजास | C8: 108 | D8: डसाणा खुर्द वार्ड न 9 | E8: नीकू | F8: ईश्वरराम | G8: 41091
A9: 2 | B9: खोजास | C9: 110 | D9: डसाणा खुर्द वार्ड न 9 | E9: सुरज्ञान मेघवाल | F9: कैलाश राम | G9: 39609
A10: 3 | B10: खोजास | C10: 110 | D10: डसाणा खुर्द वार्ड न 9 | E10: चांदू मेघवाल | F10: कैलाश राम | G10: 40252

Sheet प्रपत्र -1 रिपोर्ट 
A1: प्रवेशोत्सव कार्यक्रम के अंतर्गत हाउस होल्ड सर्वे प्रपत्र -1
A2: जिला :- | B2: =IF('PRAPTRA 1 प्रविष्ठी'!B2="","",'PRAPTRA 1 प्रविष्ठी'!B2) -> डीडवाना-कुचामन | D2: ब्लॉक का नाम :- | F2: =IF('PRAPTRA 1 प्रविष्ठी'!F2="","",'PRAPTRA 1 प्रविष्ठी'!F2) -> मौलासर | H2: सीआरसी विद्यालय का नाम :- | K2: =IF('PRAPTRA 1 प्रविष्ठी'!K2="","",'PRAPTRA 1 प्रविष्ठी'!K2) -> रा.उ.मा.वि.खोजास
A3: ग्राम/ वार्ड का नाम :- | C3: =IF('PRAPTRA 1 प्रविष्ठी'!C3="","",'PRAPTRA 1 प्रविष्ठी'!C3) -> डसाणा खुर्द | E3: सर्वे की दिनांक :- | F3: =IF('PRAPTRA 1 प्रविष्ठी'!F3="","",'PRAPTRA 1 प्रविष्ठी'!F3) -> 46108 | I3: UPDATED ON :- | K3: =IF('PRAPTRA 1 प्रविष्ठी'!K3="","",'PRAPTRA 1 प्रविष्ठी'!K3) -> 46126
A4: विद्यालय का नाम जिसे उस ग्राम/ वार्ड की जिम्मेदारी दी गयी हो | F4: =IF('PRAPTRA 1 प्रविष्ठी'!F4="","",'PRAPTRA 1 प्रविष्ठी'!F4) -> GOVT SEN SEC SCHOOL DASANA KHURD
A5: क्र. सं | B5: ग्राम पंचायत | C5: गाँव/वार्ड/मकान न | D5: हैबिटेशन (रहवास) | E5: बालक / बालिका नाम | F5: पिता /अभिभावक/ संरक्षक का नाम | G5: माता का नाम | H5: जन्म दिनांक | I5: आयु | J5: लिंग (M/F/T) | K5: वर्ग | L5: प्रवेशित कक्षा | M5: आधार की स्थिति ( हाँ /नहीं ) | N5: यदि हाँ तो आधार संख्या | O5: शैक्षिक स्थिति | R5: यदि अनामांकित /ड्रॉप आउट है तो कारण (परिशिष्ट -1 के अनुसार क्रमांक भरे ) | S5: विशेष ध्यान देने वाले परिवारों के बच्चे (CWSN) ( परिशिष्ट -2 के अनुसार क्रमांक भरे) | T5: विशेष आवश्यकता वाले बच्चे (CWSN ) परिशिष्ट -3 के अनुसार क्रमांक भरे | U5: निजी विद्यालय से आने वाले बच्चे(हाँ/नहीं ) | V5: यदि हाँ तो विद्यालय का नाम व पता | W5: अभिभावक मो. नं.
K6: (SC/ST/SBC/OBC/GEN/MIN) | O6: अनामांकित | P6: ड्रॉप आउट | Q6: ड्रॉप आउट कक्षा
A7: 1 | B7: 2 | C7: 3 | D7: 4 | E7: 5 | F7: 6 | G7: 7 | H7: 8 | I7: 9 | J7: 10 | K7: 11 | L7: 12 | M7: 13 | N7: 14 | O7: 15 | P7: 16 | Q7: 17 | R7: 18 | S7: 19 | T7: 20 | U7: 21 | V7: 22 | W7: 23
A8: =IF('PRAPTRA 1 प्रविष्ठी'!A8="","",'PRAPTRA 1 प्रविष्ठी'!A8) -> 1 | B8: =IF('PRAPTRA 1 प्रविष्ठी'!B8="","",'PRAPTRA 1 प्रविष्ठी'!B8) -> खोजास | C8: =IF('PRAPTRA 1 प्रविष्ठी'!C8="","",'PRAPTRA 1 प्रविष्ठी'!C8) -> 93 | D8: =IF('PRAPTRA 1 प्रविष्ठी'!D8="","",'PRAPTRA 1 प्रविष्ठी'!D8) -> डसाणा खुर्द वार्ड न 8 | E8: =IF('PRAPTRA 1 प्रविष्ठी'!E8="","",'PRAPTRA 1 प्रविष्ठी'!E8) -> पंकज | F8: =IF('PRAPTRA 1 प्रविष्ठी'!F8="","",'PRAPTRA 1 प्रविष्ठी'!F8) -> मदनलाल | G8: =IF('PRAPTRA 1 प्रविष्ठी'!G8="","",'PRAPTRA 1 प्रविष्ठी'!G8) -> मुन्नी देवी | H8: =IF('PRAPTRA 1 प्रविष्ठी'!H8="","",'PRAPTRA 1 प्रविष्ठी'!H8) -> 40076 | ... W8: =IF('PRAPTRA 1 प्रविष्ठी'!W8="","",'PRAPTRA 1 प्रविष्ठी'!W8) -> 9828718442
A9: =IF('PRAPTRA 1 प्रविष्ठी'!A9="","",'PRAPTRA 1 प्रविष्ठी'!A9) -> 2 | B9: =IF('PRAPTRA 1 प्रविष्ठी'!B9="","",'PRAPTRA 1 प्रविष्ठी'!B9) -> खोजास | C9: =IF('PRAPTRA 1 प्रविष्ठी'!C9="","",'PRAPTRA 1 प्रविष्ठी'!C9) -> 95 | D9: =IF('PRAPTRA 1 प्रविष्ठी'!D9="","",'PRAPTRA 1 प्रविष्ठी'!D9) -> डसाणा खुर्द वार्ड न 8 | E9: =IF('PRAPTRA 1 प्रविष्ठी'!E9="","",'PRAPTRA 1 प्रविष्ठी'!E9) -> लक्ष्मी | F9: =IF('PRAPTRA 1 प्रविष्ठी'!F9="","",'PRAPTRA 1 प्रविष्ठी'!F9) -> जेठाराम | G9: =IF('PRAPTRA 1 प्रविष्ठी'!G9="","",'PRAPTRA 1 प्रविष्ठी'!G9) -> संतोष देवी | H9: =IF('PRAPTRA 1 प्रविष्ठी'!H9="","",'PRAPTRA 1 प्रविष्ठी'!H9) -> 40470 | ... W9: =IF('PRAPTRA 1 प्रविष्ठी'!W9="","",'PRAPTRA 1 प्रविष्ठी'!W9) -> 8302301234 9828938082
A10: =IF('PRAPTRA 1 प्रविष्ठी'!A10="","",'PRAPTRA 1 प्रविष्ठी'!A10) -> 3 | B10: =IF('PRAPTRA 1 प्रविष्ठी'!B10="","",'PRAPTRA 1 प्रविष्ठी'!B10) -> खोजास | C10: =IF('PRAPTRA 1 प्रविष्ठी'!C10="","",'PRAPTRA 1 प्रविष्ठी'!C10) -> 95 | D10: =IF('PRAPTRA 1 प्रविष्ठी'!D10="","",'PRAPTRA 1 प्रविष्ठी'!D10) -> डसाणा खुर्द वार्ड न 8 | E10: =IF('PRAPTRA 1 प्रविष्ठी'!E10="","",'PRAPTRA 1 प्रविष्ठी'!E10) -> आरती | F10: =IF('PRAPTRA 1 प्रविष्ठी'!F10="","",'PRAPTRA 1 प्रविष्ठी'!F10) -> जेठाराम | G10: =IF('PRAPTRA 1 प्रविष्ठी'!G10="","",'PRAPTRA 1 प्रविष्ठी'!G10) -> संतोष देवी | H10: =IF('PRAPTRA 1 प्रविष्ठी'!H10="","",'PRAPTRA 1 प्रविष्ठी'!H10) -> 40470 | ... W10: =IF('PRAPTRA 1 प्रविष्ठी'!W10="","",'PRAPTRA 1 प्रविष्ठी'!W10) -> 8302301234 9828938082
A11: =IF('PRAPTRA 1 प्रविष्ठी'!A11="","",'PRAPTRA 1 प्रविष्ठी'!A11) -> 4 | B11: =IF('PRAPTRA 1 प्रविष्ठी'!B11="","",'PRAPTRA 1 प्रविष्ठी'!B11) -> खोजास | C11: =IF('PRAPTRA 1 प्रविष्ठी'!C11="","",'PRAPTRA 1 प्रविष्ठी'!C11) -> 95 | D11: =IF('PRAPTRA 1 प्रविष्ठी'!D11="","",'PRAPTRA 1 प्रविष्ठी'!D11) -> डसाणा खुर्द वार्ड न 8 | E11: =IF('PRAPTRA 1 प्रविष्ठी'!E11="","",'PRAPTRA 1 प्रविष्ठी'!E11) -> रमेश प्रजापत | F11: =IF('PRAPTRA 1 प्रविष्ठी'!F11="","",'PRAPTRA 1 प्रविष्ठी'!F11) -> कैलाश चंद्र | G11: =IF('PRAPTRA 1 प्रविष्ठी'!G11="","",'PRAPTRA 1 प्रविष्ठी'!G11) -> संतोष देवी | H11: =IF('PRAPTRA 1 प्रविष्ठी'!H11="","",'PRAPTRA 1 प्रविष्ठी'!H11) -> 40909 | ... W11: =IF('PRAPTRA 1 प्रविष्ठी'!W11="","",'PRAPTRA 1 प्रविष्ठी'!W11) -> 9610651941
A12: =IF('PRAPTRA 1 प्रविष्ठी'!A12="","",'PRAPTRA 1 प्रविष्ठी'!A12) -> 5 | B12: =IF('PRAPTRA 1 प्रविष्ठी'!B12="","",'PRAPTRA 1 प्रविष्ठी'!B12) -> खोजास | C12: =IF('PRAPTRA 1 प्रविष्ठी'!C12="","",'PRAPTRA 1 प्रविष्ठी'!C12) -> 95 | D12: =IF('PRAPTRA 1 प्रविष्ठी'!D12="","",'PRAPTRA 1 प्रविष्ठी'!D12) -> डसाणा खुर्द वार्ड न 8 | E12: =IF('PRAPTRA 1 प्रविष्ठी'!E12="","",'PRAPTRA 1 प्रविष्ठी'!E12) -> कृष्ण कुमार | F12: =IF('PRAPTRA 1 प्रविष्ठी'!F12="","",'PRAPTRA 1 प्रविष्ठी'!F12) -> जुगल किशोर | G12: =IF('PRAPTRA 1 प्रविष्ठी'!G12="","",'PRAPTRA 1 प्रविष्ठी'!G12) -> विमला | H12: =IF('PRAPTRA 1 प्रविष्ठी'!H12="","",'PRAPTRA 1 प्रविष्ठी'!H12) -> 42270 | ... W12: =IF('PRAPTRA 1 प्रविष्ठी'!W12="","",'PRAPTRA 1 प्रविष्ठी'!W12) -> 9828041329 8306188464
A13: =IF('PRAPTRA 1 प्रविष्ठी'!A13="","",'PRAPTRA 1 प्रविष्ठी'!A13) -> 6 | B13: =IF('PRAPTRA 1 प्रविष्ठी'!B13="","",'PRAPTRA 1 प्रविष्ठी'!B13) -> खोजास | C13: =IF('PRAPTRA 1 प्रविष्ठी'!C13="","",'PRAPTRA 1 प्रविष्ठी'!C13) -> 95 | D13: =IF('PRAPTRA 1 प्रविष्ठी'!D13="","",'PRAPTRA 1 प्रविष्ठी'!D13) -> डसाणा खुर्द वार्ड न 8 | E13: =IF('PRAPTRA 1 प्रविष्ठी'!E13="","",'PRAPTRA 1 प्रविष्ठी'!E13) -> विशाल | F13: =IF('PRAPTRA 1 प्रविष्ठी'!F13="","",'PRAPTRA 1 प्रविष्ठी'!F13) -> जुगल किशोर | G13: =IF('PRAPTRA 1 प्रविष्ठी'!G13="","",'PRAPTRA 1 प्रविष्ठी'!G13) -> विमला | H13: =IF('PRAPTRA 1 प्रविष्ठी'!H13="","",'PRAPTRA 1 प्रविष्ठी'!H13) -> 43155 | ... W13: =IF('PRAPTRA 1 प्रविष्ठी'!W13="","",'PRAPTRA 1 प्रविष्ठी'!W13) -> 9828041329 8306188464
A14: =IF('PRAPTRA 1 प्रविष्ठी'!A14="","",'PRAPTRA 1 प्रविष्ठी'!A14) -> 7 | B14: =IF('PRAPTRA 1 प्रविष्ठी'!B14="","",'PRAPTRA 1 प्रविष्ठी'!B14) -> खोजास | C14: =IF('PRAPTRA 1 प्रविष्ठी'!C14="","",'PRAPTRA 1 प्रविष्ठी'!C14) -> 95 | D14: =IF('PRAPTRA 1 प्रविष्ठी'!D14="","",'PRAPTRA 1 प्रविष्ठी'!D14) -> डसाणा खुर्द वार्ड न 8 | E14: =IF('PRAPTRA 1 प्रविष्ठी'!E14="","",'PRAPTRA 1 प्रविष्ठी'!E14) -> रितिक | F14: =IF('PRAPTRA 1 प्रविष्ठी'!F14="","",'PRAPTRA 1 प्रविष्ठी'!F14) -> पप्पू राम प्रजापत | G14: =IF('PRAPTRA 1 प्रविष्ठी'!G14="","",'PRAPTRA 1 प्रविष्ठी'!G14) -> सुख देवी | H14: =IF('PRAPTRA 1 प्रविष्ठी'!H14="","",'PRAPTRA 1 प्रविष्ठी'!H14) -> 43847 | ... W14: =IF('PRAPTRA 1 प्रविष्ठी'!W14="","",'PRAPTRA 1 प्रविष्ठी'!W14) -> 9828041329
A15: =IF('PRAPTRA 1 प्रविष्ठी'!A15="","",'PRAPTRA 1 प्रविष्ठी'!A15) -> 8 | B15: =IF('PRAPTRA 1 प्रविष्ठी'!B15="","",'PRAPTRA 1 प्रविष्ठी'!B15) -> खोजास | C15: =IF('PRAPTRA 1 प्रविष्ठी'!C15="","",'PRAPTRA 1 प्रविष्ठी'!C15) -> 95 | D15: =IF('PRAPTRA 1 प्रविष्ठी'!D15="","",'PRAPTRA 1 प्रविष्ठी'!D15) -> डसाणा खुर्द वार्ड न 8 | E15: =IF('PRAPTRA 1 प्रविष्ठी'!E15="","",'PRAPTRA 1 प्रविष्ठी'!E15) -> आयुष प्रजापत | F15: =IF('PRAPTRA 1 प्रविष्ठी'!F15="","",'PRAPTRA 1 प्रविष्ठी'!F15) -> पप्पू राम प्रजापत | G15: =IF('PRAPTRA 1 प्रविष्ठी'!G15="","",'PRAPTRA 1 प्रविष्ठी'!G15) -> सुख देवी | H15: =IF('PRAPTRA 1 प्रविष्ठी'!H15="","",'PRAPTRA 1 प्रविष्ठी'!H15) -> 45680 | ... W15: =IF('PRAPTRA 1 प्रविष्ठी'!W15="","",'PRAPTRA 1 प्रविष्ठी'!W15) -> 7483364274
A16: =IF('PRAPTRA 1 प्रविष्ठी'!A16="","",'PRAPTRA 1 प्रविष्ठी'!A16) -> 9 | B16: =IF('PRAPTRA 1 प्रविष्ठी'!B16="","",'PRAPTRA 1 प्रविष्ठी'!B16) -> खोजास | C16: =IF('PRAPTRA 1 प्रविष्ठी'!C16="","",'PRAPTRA 1 प्रविष्ठी'!C16) -> 95 | D16: =IF('PRAPTRA 1 प्रविष्ठी'!D16="","",'PRAPTRA 1 प्रविष्ठी'!D16) -> डसाणा खुर्द वार्ड न 8 | E16: =IF('PRAPTRA 1 प्रविष्ठी'!E16="","",'PRAPTRA 1 प्रविष्ठी'!E16) -> दीक्षित | F16: =IF('PRAPTRA 1 प्रविष्ठी'!F16="","",'PRAPTRA 1 प्रविष्ठी'!F16) -> पप्पू राम प्रजापत | G16: =IF('PRAPTRA 1 प्रविष्ठी'!G16="","",'PRAPTRA 1 प्रविष्ठी'!G16) -> सुख देवी | H16: =IF('PRAPTRA 1 प्रविष्ठी'!H16="","",'PRAPTRA 1 प्रविष्ठी'!H16) -> 44542 | ... W16: =IF('PRAPTRA 1 प्रविष्ठी'!W16="","",'PRAPTRA 1 प्रविष्ठी'!W16) -> 7483364274
A17: =IF('PRAPTRA 1 प्रविष्ठी'!A17="","",'PRAPTRA 1 प्रविष्ठी'!A17) -> 10 | B17: =IF('PRAPTRA 1 प्रविष्ठी'!B17="","",'PRAPTRA 1 प्रविष्ठी'!B17) -> खोजास | C17: =IF('PRAPTRA 1 प्रविष्ठी'!C17="","",'PRAPTRA 1 प्रविष्ठी'!C17) -> 95 | D17: =IF('PRAPTRA 1 प्रविष्ठी'!D17="","",'PRAPTRA 1 प्रविष्ठी'!D17) -> डसाणा खुर्द वार्ड न 8 | E17: =IF('PRAPTRA 1 प्रविष्ठी'!E17="","",'PRAPTRA 1 प्रविष्ठी'!E17) -> राहुल | F17: =IF('PRAPTRA 1 प्रविष्ठी'!F17="","",'PRAPTRA 1 प्रविष्ठी'!F17) -> तेजाराम | G17: =IF('PRAPTRA 1 प्रविष्ठी'!G17="","",'PRAPTRA 1 प्रविष्ठी'!G17) -> मंजू देवी | H17: =IF('PRAPTRA 1 प्रविष्ठी'!H17="","",'PRAPTRA 1 प्रविष्ठी'!H17) -> 42182 | ... W17: =IF('PRAPTRA 1 प्रविष्ठी'!W17="","",'PRAPTRA 1 प्रविष्ठी'!W17) -> 9694954691
A18: =IF('PRAPTRA 1 प्रविष्ठी'!A18="","",'PRAPTRA 1 प्रविष्ठी'!A18) -> 11 | B18: =IF('PRAPTRA 1 प्रविष्ठी'!B18="","",'PRAPTRA 1 प्रविष्ठी'!B18) -> खोजास | C18: =IF('PRAPTRA 1 प्रविष्ठी'!C18="","",'PRAPTRA 1 प्रविष्ठी'!C18) -> 95 | D18: =IF('PRAPTRA 1 प्रविष्ठी'!D18="","",'PRAPTRA 1 प्रविष्ठी'!D18) -> डसाणा खुर्द वार्ड न 8 | E18: =IF('PRAPTRA 1 प्रविष्ठी'!E18="","",'PRAPTRA 1 प्रविष्ठी'!E18) -> कोशिका | F18: =IF('PRAPTRA 1 प्रविष्ठी'!F18="","",'PRAPTRA 1 प्रविष्ठी'!F18) -> तेजाराम | G18: =IF('PRAPTRA 1 प्रविष्ठी'!G18="","",'PRAPTRA 1 प्रविष्ठी'!G18) -> मंजू देवी | H18: =IF('PRAPTRA 1 प्रविष्ठी'!H18="","",'PRAPTRA 1 प्रविष्ठी'!H18) -> 42938 | ... W18: =IF('PRAPTRA 1 प्रविष्ठी'!W18="","",'PRAPTRA 1 प्रविष्ठी'!W18) -> 9694954691
A19: =IF('PRAPTRA 1 प्रविष्ठी'!A19="","",'PRAPTRA 1 प्रविष्ठी'!A19) -> 12 | B19: =IF('PRAPTRA 1 प्रविष्ठी'!B19="","",'PRAPTRA 1 प्रविष्ठी'!B19) -> खोजास | C19: =IF('PRAPTRA 1 प्रविष्ठी'!C19="","",'PRAPTRA 1 प्रविष्ठी'!C19) -> 96 | D19: =IF('PRAPTRA 1 प्रविष्ठी'!D19="","",'PRAPTRA 1 प्रविष्ठी'!D19) -> डसाणा खुर्द वार्ड न 8 | E19: =IF('PRAPTRA 1 प्रविष्ठी'!E19="","",'PRAPTRA 1 प्रविष्ठी'!E19) -> जितेंद्र सिंह | F19: =IF('PRAPTRA 1 प्रविष्ठी'!F19="","",'PRAPTRA 1 प्रविष्ठी'!F19) -> मदन सिंह | G19: =IF('PRAPTRA 1 प्रविष्ठी'!G19="","",'PRAPTRA 1 प्रविष्ठी'!G19) -> गीता कंवर | H19: =IF('PRAPTRA 1 प्रविष्ठी'!H19="","",'PRAPTRA 1 प्रविष्ठी'!H19) -> 40998 | ... W19: =IF('PRAPTRA 1 प्रविष्ठी'!W19="","",'PRAPTRA 1 प्रविष्ठी'!W19) -> 9799746971
... A1008: =IF('PRAPTRA 1 प्रविष्ठी'!A1008="","",'PRAPTRA 1 प्रविष्ठी'!A1008) | B1008: =IF('PRAPTRA 1 प्रविष्ठी'!B1008="","",'PRAPTRA 1 प्रविष्ठी'!B1008) | C1008: =IF('PRAPTRA 1 प्रविष्ठी'!C1008="","",'PRAPTRA 1 प्रविष्ठी'!C1008) | D1008: =IF('PRAPTRA 1 प्रविष्ठी'!D1008="","",'PRAPTRA 1 प्रविष्ठी'!D1008) | E1008: =IF('PRAPTRA 1 प्रविष्ठी'!E1008="","",'PRAPTRA 1 प्रविष्ठी'!E1008) | F1008: =IF('PRAPTRA 1 प्रविष्ठी'!F1008="","",'PRAPTRA 1 प्रविष्ठी'!F1008) | G1008: =IF('PRAPTRA 1 प्रविष्ठी'!G1008="","",'PRAPTRA 1 प्रविष्ठी'!G1008) | H1008: =IF('PRAPTRA 1 प्रविष्ठी'!H1008="","",'PRAPTRA 1 प्रविष्ठी'!H1008) | ... W1008: =IF('PRAPTRA 1 प्रविष्ठी'!W1008="","",'PRAPTRA 1 प्रविष्ठी'!W1008)

Sheet प्रपत्र -2 रिपोर्ट
A1: चिन्हित विद्यालय से बाहर बच्चों की नामांकन/शिक्षा से मुख्यधारा से जुड़ाव की सूचना
A2: प्रवेशोत्सव कार्यक्रम के अंतर्गत हाउस होल्ड सर्वे प्रपत्र -2
A3: जिला :- | C3: =IF('PRAPTRA 1 प्रविष्ठी'!B2="","",'PRAPTRA 1 प्रविष्ठी'!B2) -> डीडवाना-कुचामन | E3: ब्लॉक का नाम :- | F3: =IF('PRAPTRA 1 प्रविष्ठी'!F2="","",'PRAPTRA 1 प्रविष्ठी'!F2) -> मौलासर | H3: सीआरसी विद्यालय का नाम :- | J3: =IF('PRAPTRA 1 प्रविष्ठी'!K2="","",'PRAPTRA 1 प्रविष्ठी'!K2) -> रा.उ.मा.वि.खोजास
A4: ग्राम/ वार्ड का नाम :- | C4: =IF('PRAPTRA 1 प्रविष्ठी'!C3="","",'PRAPTRA 1 प्रविष्ठी'!C3) -> डसाणा खुर्द | E4: सर्वे की दिनांक:- | F4: =IF('PRAPTRA 1 प्रविष्ठी'!F3="","",'PRAPTRA 1 प्रविष्ठी'!F3) -> 46108 | I4: UPDATED ON :- | J4: =IF('PRAPTRA 1 प्रविष्ठी'!K3="","",'PRAPTRA 1 प्रविष्ठी'!K3) -> 46126
A5: विद्यालय का नाम जिसे उस ग्राम/ वार्ड की जिम्मेदारी दी गयी हो | F5: =IF('PRAPTRA 1 प्रविष्ठी'!F4="","",'PRAPTRA 1 प्रविष्ठी'!F4) -> GOVT SEN SEC SCHOOL DASANA KHURD
A6: क्र. सं | B6: ग्राम पंचायत | C6: गाँव/वार्ड/मकान न | D6: हैबिटेशन (रहवास) | E6: बालक / बालिका नाम | F6: पिता/ अभिभावक / संरक्षक का नाम | G6: जन्म दिनांक | H6: कक्षा | I6: विद्यालय का नाम जंहा नामांकित हुआ | J6: विद्यालय का शाला दर्शन/शाला दर्पण/प्राइवेट पोर्टल का कोड | K6: नामांकन क्रमांक SR no. | L6: प्रवेश की दिनांक | M6: दक्षता जांच अनुसार कक्षा स्तर
A7: 1 | B7: 2 | C7: 3 | D7: 4 | E7: 5 | F7: 6 | G7: 7 | H7: 8 | I7: 9 | J7: 10 | K7: 11 | L7: 12 | M7: 13
A8: =IF('PRAPTRA 2 प्रविष्ठी'!A8="","",'PRAPTRA 2 प्रविष्ठी'!A8) -> 1 | B8: =IF('PRAPTRA 2 प्रविष्ठी'!B8="","",'PRAPTRA 2 प्रविष्ठी'!B8) -> खोजास | C8: =IF('PRAPTRA 2 प्रविष्ठी'!C8="","",'PRAPTRA 2 प्रविष्ठी'!C8) -> 108 | D8: =IF('PRAPTRA 2 प्रविष्ठी'!D8="","",'PRAPTRA 2 प्रविष्ठी'!D8) -> डसाणा खुर्द वार्ड न 9 | E8: =IF('PRAPTRA 2 प्रविष्ठी'!E8="","",'PRAPTRA 2 प्रविष्ठी'!E8) -> नीकू | F8: =IF('PRAPTRA 2 प्रविष्ठी'!F8="","",'PRAPTRA 2 प्रविष्ठी'!F8) -> ईश्वरराम | G8: =IF('PRAPTRA 2 प्रविष्ठी'!G8="","",'PRAPTRA 2 प्रविष्ठी'!G8) -> 41091 | H8: =IF('PRAPTRA 2 प्रविष्ठी'!H8="","",'PRAPTRA 2 प्रविष्ठी'!H8) | ... M8: =IF('PRAPTRA 2 प्रविष्ठी'!M8="","",'PRAPTRA 2 प्रविष्ठी'!M8)
A9: =IF('PRAPTRA 2 प्रविष्ठी'!A9="","",'PRAPTRA 2 प्रविष्ठी'!A9) -> 2 | B9: =IF('PRAPTRA 2 प्रविष्ठी'!B9="","",'PRAPTRA 2 प्रविष्ठी'!B9) -> खोजास | C9: =IF('PRAPTRA 2 प्रविष्ठी'!C9="","",'PRAPTRA 2 प्रविष्ठी'!C9) -> 110 | D9: =IF('PRAPTRA 2 प्रविष्ठी'!D9="","",'PRAPTRA 2 प्रविष्ठी'!D9) -> डसाणा खुर्द वार्ड न 9 | E9: =IF('PRAPTRA 2 प्रविष्ठी'!E9="","",'PRAPTRA 2 प्रविष्ठी'!E9) -> सुरज्ञान मेघवाल | F9: =IF('PRAPTRA 2 प्रविष्ठी'!F9="","",'PRAPTRA 2 प्रविष्ठी'!F9) -> कैलाश राम | G9: =IF('PRAPTRA 2 प्रविष्ठी'!G9="","",'PRAPTRA 2 प्रविष्ठी'!G9) -> 39609 | H9: =IF('PRAPTRA 2 प्रविष्ठी'!H9="","",'PRAPTRA 2 प्रविष्ठी'!H9) | ... M9: =IF('PRAPTRA 2 प्रविष्ठी'!M9="","",'PRAPTRA 2 प्रविष्ठी'!M9)
A10: =IF('PRAPTRA 2 प्रविष्ठी'!A10="","",'PRAPTRA 2 प्रविष्ठी'!A10) -> 3 | B10: =IF('PRAPTRA 2 प्रविष्ठी'!B10="","",'PRAPTRA 2 प्रविष्ठी'!B10) -> खोजास | C10: =IF('PRAPTRA 2 प्रविष्ठी'!C10="","",'PRAPTRA 2 प्रविष्ठी'!C10) -> 110 | D10: =IF('PRAPTRA 2 प्रविष्ठी'!D10="","",'PRAPTRA 2 प्रविष्ठी'!D10) -> डसाणा खुर्द वार्ड न 9 | E10: =IF('PRAPTRA 2 प्रविष्ठी'!E10="","",'PRAPTRA 2 प्रविष्ठी'!E10) -> चांदू मेघवाल | F10: =IF('PRAPTRA 2 प्रविष्ठी'!F10="","",'PRAPTRA 2 प्रविष्ठी'!F10) -> कैलाश राम | G10: =IF('PRAPTRA 2 प्रविष्ठी'!G10="","",'PRAPTRA 2 प्रविष्ठी'!G10) -> 40252 | H10: =IF('PRAPTRA 2 प्रविष्ठी'!H10="","",'PRAPTRA 2 प्रविष्ठी'!H10) | ... M10: =IF('PRAPTRA 2 प्रविष्ठी'!M10="","",'PRAPTRA 2 प्रविष्ठी'!M10)
A11: =IF('PRAPTRA 2 प्रविष्ठी'!A11="","",'PRAPTRA 2 प्रविष्ठी'!A11) | B11: =IF('PRAPTRA 2 प्रविष्ठी'!B11="","",'PRAPTRA 2 प्रविष्ठी'!B11) | C11: =IF('PRAPTRA 2 प्रविष्ठी'!C11="","",'PRAPTRA 2 प्रविष्ठी'!C11) | D11: =IF('PRAPTRA 2 प्रविष्ठी'!D11="","",'PRAPTRA 2 प्रविष्ठी'!D11) | E11: =IF('PRAPTRA 2 प्रविष्ठी'!E11="","",'PRAPTRA 2 प्रविष्ठी'!E11) | F11: =IF('PRAPTRA 2 प्रविष्ठी'!F11="","",'PRAPTRA 2 प्रविष्ठी'!F11) | G11: =IF('PRAPTRA 2 प्रविष्ठी'!G11="","",'PRAPTRA 2 प्रविष्ठी'!G11) | H11: =IF('PRAPTRA 2 प्रविष्ठी'!H11="","",'PRAPTRA 2 प्रविष्ठी'!H11) | ... M11: =IF('PRAPTRA 2 प्रविष्ठी'!M11="","",'PRAPTRA 2 प्रविष्ठी'!M11)
A12: =IF('PRAPTRA 2 प्रविष्ठी'!A12="","",'PRAPTRA 2 प्रविष्ठी'!A12) | B12: =IF('PRAPTRA 2 प्रविष्ठी'!B12="","",'PRAPTRA 2 प्रविष्ठी'!B12) | C12: =IF('PRAPTRA 2 प्रविष्ठी'!C12="","",'PRAPTRA 2 प्रविष्ठी'!C12) | D12: =IF('PRAPTRA 2 प्रविष्ठी'!D12="","",'PRAPTRA 2 प्रविष्ठी'!D12) | E12: =IF('PRAPTRA 2 प्रविष्ठी'!E12="","",'PRAPTRA 2 प्रविष्ठी'!E12) | F12: =IF('PRAPTRA 2 प्रविष्ठी'!F12="","",'PRAPTRA 2 प्रविष्ठी'!F12) | G12: =IF('PRAPTRA 2 प्रविष्ठी'!G12="","",'PRAPTRA 2 प्रविष्ठी'!G12) | H12: =IF('PRAPTRA 2 प्रविष्ठी'!H12="","",'PRAPTRA 2 प्रविष्ठी'!H12) | ... M12: =IF('PRAPTRA 2 प्रविष्ठी'!M12="","",'PRAPTRA 2 प्रविष्ठी'!M12)
A13: =IF('PRAPTRA 2 प्रविष्ठी'!A13="","",'PRAPTRA 2 प्रविष्ठी'!A13) | B13: =IF('PRAPTRA 2 प्रविष्ठी'!B13="","",'PRAPTRA 2 प्रविष्ठी'!B13) | C13: =IF('PRAPTRA 2 प्रविष्ठी'!C13="","",'PRAPTRA 2 प्रविष्ठी'!C13) | D13: =IF('PRAPTRA 2 प्रविष्ठी'!D13="","",'PRAPTRA 2 प्रविष्ठी'!D13) | E13: =IF('PRAPTRA 2 प्रविष्ठी'!E13="","",'PRAPTRA 2 प्रविष्ठी'!E13) | F13: =IF('PRAPTRA 2 प्रविष्ठी'!F13="","",'PRAPTRA 2 प्रविष्ठी'!F13) | G13: =IF('PRAPTRA 2 प्रविष्ठी'!G13="","",'PRAPTRA 2 प्रविष्ठी'!G13) | H13: =IF('PRAPTRA 2 प्रविष्ठी'!H13="","",'PRAPTRA 2 प्रविष्ठी'!H13) | ... M13: =IF('PRAPTRA 2 प्रविष्ठी'!M13="","",'PRAPTRA 2 प्रविष्ठी'!M13)
A14: =IF('PRAPTRA 2 प्रविष्ठी'!A14="","",'PRAPTRA 2 प्रविष्ठी'!A14) | B14: =IF('PRAPTRA 2 प्रविष्ठी'!B14="","",'PRAPTRA 2 प्रविष्ठी'!B14) | C14: =IF('PRAPTRA 2 प्रविष्ठी'!C14="","",'PRAPTRA 2 प्रविष्ठी'!C14) | D14: =IF('PRAPTRA 2 प्रविष्ठी'!D14="","",'PRAPTRA 2 प्रविष्ठी'!D14) | E14: =IF('PRAPTRA 2 प्रविष्ठी'!E14="","",'PRAPTRA 2 प्रविष्ठी'!E14) | F14: =IF('PRAPTRA 2 प्रविष्ठी'!F14="","",'PRAPTRA 2 प्रविष्ठी'!F14) | G14: =IF('PRAPTRA 2 प्रविष्ठी'!G14="","",'PRAPTRA 2 प्रविष्ठी'!G14) | H14: =IF('PRAPTRA 2 प्रविष्ठी'!H14="","",'PRAPTRA 2 प्रविष्ठी'!H14) | ... M14: =IF('PRAPTRA 2 प्रविष्ठी'!M14="","",'PRAPTRA 2 प्रविष्ठी'!M14)
A15: =IF('PRAPTRA 2 प्रविष्ठी'!A15="","",'PRAPTRA 2 प्रविष्ठी'!A15) | B15: =IF('PRAPTRA 2 प्रविष्ठी'!B15="","",'PRAPTRA 2 प्रविष्ठी'!B15) | C15: =IF('PRAPTRA 2 प्रविष्ठी'!C15="","",'PRAPTRA 2 प्रविष्ठी'!C15) | D15: =IF('PRAPTRA 2 प्रविष्ठी'!D15="","",'PRAPTRA 2 प्रविष्ठी'!D15) | E15: =IF('PRAPTRA 2 प्रविष्ठी'!E15="","",'PRAPTRA 2 प्रविष्ठी'!E15) | F15: =IF('PRAPTRA 2 प्रविष्ठी'!F15="","",'PRAPTRA 2 प्रविष्ठी'!F15) | G15: =IF('PRAPTRA 2 प्रविष्ठी'!G15="","",'PRAPTRA 2 प्रविष्ठी'!G15) | H15: =IF('PRAPTRA 2 प्रविष्ठी'!H15="","",'PRAPTRA 2 प्रविष्ठी'!H15) | ... M15: =IF('PRAPTRA 2 प्रविष्ठी'!M15="","",'PRAPTRA 2 प्रविष्ठी'!M15)
A16: =IF('PRAPTRA 2 प्रविष्ठी'!A16="","",'PRAPTRA 2 प्रविष्ठी'!A16) | B16: =IF('PRAPTRA 2 प्रविष्ठी'!B16="","",'PRAPTRA 2 प्रविष्ठी'!B16) | C16: =IF('PRAPTRA 2 प्रविष्ठी'!C16="","",'PRAPTRA 2 प्रविष्ठी'!C16) | D16: =IF('PRAPTRA 2 प्रविष्ठी'!D16="","",'PRAPTRA 2 प्रविष्ठी'!D16) | E16: =IF('PRAPTRA 2 प्रविष्ठी'!E16="","",'PRAPTRA 2 प्रविष्ठी'!E16) | F16: =IF('PRAPTRA 2 प्रविष्ठी'!F16="","",'PRAPTRA 2 प्रविष्ठी'!F16) | G16: =IF('PRAPTRA 2 प्रविष्ठी'!G16="","",'PRAPTRA 2 प्रविष्ठी'!G16) | H16: =IF('PRAPTRA 2 प्रविष्ठी'!H16="","",'PRAPTRA 2 प्रविष्ठी'!H16) | ... M16: =IF('PRAPTRA 2 प्रविष्ठी'!M16="","",'PRAPTRA 2 प्रविष्ठी'!M16)
A17: =IF('PRAPTRA 2 प्रविष्ठी'!A17="","",'PRAPTRA 2 प्रविष्ठी'!A17) | B17: =IF('PRAPTRA 2 प्रविष्ठी'!B17="","",'PRAPTRA 2 प्रविष्ठी'!B17) | C17: =IF('PRAPTRA 2 प्रविष्ठी'!C17="","",'PRAPTRA 2 प्रविष्ठी'!C17) | D17: =IF('PRAPTRA 2 प्रविष्ठी'!D17="","",'PRAPTRA 2 प्रविष्ठी'!D17) | E17: =IF('PRAPTRA 2 प्रविष्ठी'!E17="","",'PRAPTRA 2 प्रविष्ठी'!E17) | F17: =IF('PRAPTRA 2 प्रविष्ठी'!F17="","",'PRAPTRA 2 प्रविष्ठी'!F17) | G17: =IF('PRAPTRA 2 प्रविष्ठी'!G17="","",'PRAPTRA 2 प्रविष्ठी'!G17) | H17: =IF('PRAPTRA 2 प्रविष्ठी'!H17="","",'PRAPTRA 2 प्रविष्ठी'!H17) | ... M17: =IF('PRAPTRA 2 प्रविष्ठी'!M17="","",'PRAPTRA 2 प्रविष्ठी'!M17)
A18: =IF('PRAPTRA 2 प्रविष्ठी'!A18="","",'PRAPTRA 2 प्रविष्ठी'!A18) | B18: =IF('PRAPTRA 2 प्रविष्ठी'!B18="","",'PRAPTRA 2 प्रविष्ठी'!B18) | C18: =IF('PRAPTRA 2 प्रविष्ठी'!C18="","",'PRAPTRA 2 प्रविष्ठी'!C18) | D18: =IF('PRAPTRA 2 प्रविष्ठी'!D18="","",'PRAPTRA 2 प्रविष्ठी'!D18) | E18: =IF('PRAPTRA 2 प्रविष्ठी'!E18="","",'PRAPTRA 2 प्रविष्ठी'!E18) | F18: =IF('PRAPTRA 2 प्रविष्ठी'!F18="","",'PRAPTRA 2 प्रविष्ठी'!F18) | G18: =IF('PRAPTRA 2 प्रविष्ठी'!G18="","",'PRAPTRA 2 प्रविष्ठी'!G18) | H18: =IF('PRAPTRA 2 प्रविष्ठी'!H18="","",'PRAPTRA 2 प्रविष्ठी'!H18) | ... M18: =IF('PRAPTRA 2 प्रविष्ठी'!M18="","",'PRAPTRA 2 प्रविष्ठी'!M18)
A19: =IF('PRAPTRA 2 प्रविष्ठी'!A19="","",'PRAPTRA 2 प्रविष्ठी'!A19) | B19: =IF('PRAPTRA 2 प्रविष्ठी'!B19="","",'PRAPTRA 2 प्रविष्ठी'!B19) | C19: =IF('PRAPTRA 2 प्रविष्ठी'!C19="","",'PRAPTRA 2 प्रविष्ठी'!C19) | D19: =IF('PRAPTRA 2 प्रविष्ठी'!D19="","",'PRAPTRA 2 प्रविष्ठी'!D19) | E19: =IF('PRAPTRA 2 प्रविष्ठी'!E19="","",'PRAPTRA 2 प्रविष्ठी'!E19) | F19: =IF('PRAPTRA 2 प्रविष्ठी'!F19="","",'PRAPTRA 2 प्रविष्ठी'!F19) | G19: =IF('PRAPTRA 2 प्रविष्ठी'!G19="","",'PRAPTRA 2 प्रविष्ठी'!G19) | H19: =IF('PRAPTRA 2 प्रविष्ठी'!H19="","",'PRAPTRA 2 प्रविष्ठी'!H19) | ... M19: =IF('PRAPTRA 2 प्रविष्ठी'!M19="","",'PRAPTRA 2 प्रविष्ठी'!M19)
... A1008: =IF('PRAPTRA 2 प्रविष्ठी'!A1008="","",'PRAPTRA 2 प्रविष्ठी'!A1008) | B1008: =IF('PRAPTRA 2 प्रविष्ठी'!B1008="","",'PRAPTRA 2 प्रविष्ठी'!B1008) | C1008: =IF('PRAPTRA 2 प्रविष्ठी'!C1008="","",'PRAPTRA 2 प्रविष्ठी'!C1008) | D1008: =IF('PRAPTRA 2 प्रविष्ठी'!D1008="","",'PRAPTRA 2 प्रविष्ठी'!D1008) | E1008: =IF('PRAPTRA 2 प्रविष्ठी'!E1008="","",'PRAPTRA 2 प्रविष्ठी'!E1008) | F1008: =IF('PRAPTRA 2 प्रविष्ठी'!F1008="","",'PRAPTRA 2 प्रविष्ठी'!F1008) | G1008: =IF('PRAPTRA 2 प्रविष्ठी'!G1008="","",'PRAPTRA 2 प्रविष्ठी'!G1008) | H1008: =IF('PRAPTRA 2 प्रविष्ठी'!H1008="","",'PRAPTRA 2 प्रविष्ठी'!H1008) | ... M1008: =IF('PRAPTRA 2 प्रविष्ठी'!M1008="","",'PRAPTRA 2 प्रविष्ठी'!M1008)

Sheet Sheet DATA
C5: क्र. सं | D5: ग्राम पंचायत | E5: गाँव/वार्ड/मकान न | F5: हैबिटेशन (रहवास) | G5: बालक / बालिका नाम | H5: पिता /अभिभावक/ संरक्षक का नाम | I5: माता का नाम | J5: जन्म दिनांक | K5: आयु | L5: लिंग (M/F/T) | M5: वर्ग | N5: प्रवेशित कक्षा | AB5: क्र. सं | AC5: ग्राम पंचायत | AD5: गाँव /वार्ड | AE5: हैबिटेशन (रहवास) | AF5: बालक / बालिका नाम | AG5: पिता /अभिभावक/ संरक्षक का नाम | AH5: जन्म दिनांक | AI5: आयु
M6: (SC/ST/SBC/OBC/GEN/MIN) | AJ6: विद्यालय का नाम जंहा नामांकित हुआ | AK6: विद्यालय का शाला दर्शन/शाला दर्पण/प्राइवेट पोर्टल का कोड | AL6: नामांकन क्रमांक SR no. | AM6: प्रवेश की दिनांक | AN6: दक्षता जांच अनुसार कक्षा स्तर | AO6: class
C7: 1 | D7: 2 | E7: 3 | F7: 4 | G7: 5 | H7: 6 | I7: 7 | J7: 8 | K7: 9 | L7: 10 | M7: 11 | N7: 12 | O7: 0-3 | P7: 3-5 | Q7: 5-18 | AB7: A | AC7: B | AD7: C | AE7: D | AF7: E | AG7: F | AH7: H | AI7: I | AJ7: J | AK7: K | AN7: L | AP7: 0-3 | AQ7: 3-5 | AR7: 5-18
B8: =O8&"-"&COUNTIF($O$8:O8,O8) -> 5-18-1 | C8: =IF('PRAPTRA 1 प्रविष्ठी'!A8="","",'PRAPTRA 1 प्रविष्ठी'!A8) -> 1 | D8: =IF('PRAPTRA 1 प्रविष्ठी'!B8="","",UPPER('PRAPTRA 1 प्रविष्ठी'!B8)) -> खोजास | E8: =IF('PRAPTRA 1 प्रविष्ठी'!C8="","",UPPER('PRAPTRA 1 प्रविष्ठी'!C8)) -> 93 | F8: =IF('PRAPTRA 1 प्रविष्ठी'!D8="","",PROPER('PRAPTRA 1 प्रविष्ठी'!D8)) -> डसाणा खुर्द वार्ड न 8 | G8: =IF('PRAPTRA 1 प्रविष्ठी'!E8="","",UPPER('PRAPTRA 1 प्रविष्ठी'!E8)) -> पंकज | H8: =IF('PRAPTRA 1 प्रविष्ठी'!F8="","",UPPER('PRAPTRA 1 प्रविष्ठी'!F8)) -> मदनलाल | I8: =IF('PRAPTRA 1 प्रविष्ठी'!G8="","",UPPER('PRAPTRA 1 प्रविष्ठी'!G8)) -> मुन्नी देवी | J8: =IF('PRAPTRA 1 प्रविष्ठी'!H8="","",'PRAPTRA 1 प्रविष्ठी'!H8) -> 40076 | K8: =IF('PRAPTRA 1 प्रविष्ठी'!I8="","",'PRAPTRA 1 प्रविष्ठी'!I8) -> 17 | L8: =IF('PRAPTRA 1 प्रविष्ठी'!J8="","",'PRAPTRA 1 प्रविष्ठी'!J8) -> M | M8: =IF('PRAPTRA 1 प्रविष्ठी'!K8="","",'PRAPTRA 1 प्रविष्ठी'!K8) -> OBC | N8: =IF('PRAPTRA 1 प्रविष्ठी'!L8="","",'PRAPTRA 1 प्रविष्ठी'!L8) -> 10 | O8: =IF(K8<4,$O$7,IF(K8<6,$P$7,IF(K8<19,$Q$7,""))) -> 5-18 | AA8: =AP8&"-"&COUNTIF($AP$8:AP8,AP8) -> 5-18-1 | AB8: =IF('PRAPTRA 2 प्रविष्ठी'!A8="","",'PRAPTRA 2 प्रविष्ठी'!A8) -> 1 | AC8: =IF('PRAPTRA 2 प्रविष्ठी'!B8="","",'PRAPTRA 2 प्रविष्ठी'!B8) -> खोजास | AD8: =IF('PRAPTRA 2 प्रविष्ठी'!C8="","",'PRAPTRA 2 प्रविष्ठी'!C8) -> 108 | AE8: =IF('PRAPTRA 2 प्रविष्ठी'!D8="","",'PRAPTRA 2 प्रविष्ठी'!D8) -> डसाणा खुर्द वार्ड न 9 | AF8: =IF('PRAPTRA 2 प्रविष्ठी'!E8="","",'PRAPTRA 2 प्रविष्ठी'!E8) -> नीकू | AG8: =IF('PRAPTRA 2 प्रविष्ठी'!F8="","",'PRAPTRA 2 प्रविष्ठी'!F8) -> ईश्वरराम | AH8: =IF('PRAPTRA 2 प्रविष्ठी'!G8="","",'PRAPTRA 2 प्रविष्ठी'!G8) -> 41091 | AI8: =IFERROR(IF(OR('PRAPTRA 1 प्रविष्ठी'!$F$3="",AH8=""),"",DATEDIF(AH8,'PRAPTRA 1 प्रविष्ठी'!$F$3,"Y")),"") -> 13 | AJ8: =IF('PRAPTRA 2 प्रविष्ठी'!I8="","",'PRAPTRA 2 प्रविष्ठी'!I8) | AK8: =IF('PRAPTRA 2 प्रविष्ठी'!J8="","",'PRAPTRA 2 प्रविष्ठी'!J8) | AL8: =IF('PRAPTRA 2 प्रविष्ठी'!K8="","",'PRAPTRA 2 प्रविष्ठी'!K8) | AM8: =IF('PRAPTRA 2 प्रविष्ठी'!L8="","",'PRAPTRA 2 प्रविष्ठी'!L8) | AN8: =IF('PRAPTRA 2 प्रविष्ठी'!M8="","",'PRAPTRA 2 प्रविष्ठी'!M8) | AO8: =IF('PRAPTRA 2 प्रविष्ठी'!H8="","",'PRAPTRA 2 प्रविष्ठी'!H8) | AP8: =IF(AI8<6,$AQ$7,IF(AI8<19,$AR$7,"")) -> 5-18
B9: =O9&"-"&COUNTIF($O$8:O9,O9) -> 5-18-2 | C9: =IF('PRAPTRA 1 प्रविष्ठी'!A9="","",'PRAPTRA 1 प्रविष्ठी'!A9) -> 2 | D9: =IF('PRAPTRA 1 प्रविष्ठी'!B9="","",UPPER('PRAPTRA 1 प्रविष्ठी'!B9)) -> खोजास | E9: =IF('PRAPTRA 1 प्रविष्ठी'!C9="","",UPPER('PRAPTRA 1 प्रविष्ठी'!C9)) -> 95 | F9: =IF('PRAPTRA 1 प्रविष्ठी'!D9="","",PROPER('PRAPTRA 1 प्रविष्ठी'!D9)) -> डसाणा खुर्द वार्ड न 8 | G9: =IF('PRAPTRA 1 प्रविष्ठी'!E9="","",UPPER('PRAPTRA 1 प्रविष्ठी'!E9)) -> लक्ष्मी | H9: =IF('PRAPTRA 1 प्रविष्ठी'!F9="","",UPPER('PRAPTRA 1 प्रविष्ठी'!F9)) -> जेठाराम | I9: =IF('PRAPTRA 1 प्रविष्ठी'!G9="","",UPPER('PRAPTRA 1 प्रविष्ठी'!G9)) -> संतोष देवी | J9: =IF('PRAPTRA 1 प्रविष्ठी'!H9="","",'PRAPTRA 1 प्रविष्ठी'!H9) -> 40470 | K9: =IF('PRAPTRA 1 प्रविष्ठी'!I9="","",'PRAPTRA 1 प्रविष्ठी'!I9) -> 16 | L9: =IF('PRAPTRA 1 प्रविष्ठी'!J9="","",'PRAPTRA 1 प्रविष्ठी'!J9) -> F | M9: =IF('PRAPTRA 1 प्रविष्ठी'!K9="","",'PRAPTRA 1 प्रविष्ठी'!K9) -> OBC | N9: =IF('PRAPTRA 1 प्रविष्ठी'!L9="","",'PRAPTRA 1 प्रविष्ठी'!L9) -> 10 | O9: =IF(K9<4,$O$7,IF(K9<6,$P$7,IF(K9<19,$Q$7,""))) -> 5-18 | AA9: =AP9&"-"&COUNTIF($AP$8:AP9,AP9) -> 5-18-2 | AB9: =IF('PRAPTRA 2 प्रविष्ठी'!A9="","",'PRAPTRA 2 प्रविष्ठी'!A9) -> 2 | AC9: =IF('PRAPTRA 2 प्रविष्ठी'!B9="","",'PRAPTRA 2 प्रविष्ठी'!B9) -> खोजास | AD9: =IF('PRAPTRA 2 प्रविष्ठी'!C9="","",'PRAPTRA 2 प्रविष्ठी'!C9) -> 110 | AE9: =IF('PRAPTRA 2 प्रविष्ठी'!D9="","",'PRAPTRA 2 प्रविष्ठी'!D9) -> डसाणा खुर्द वार्ड न 9 | AF9: =IF('PRAPTRA 2 प्रविष्ठी'!E9="","",'PRAPTRA 2 प्रविष्ठी'!E9) -> सुरज्ञान मेघवाल | AG9: =IF('PRAPTRA 2 प्रविष्ठी'!F9="","",'PRAPTRA 2 प्रविष्ठी'!F9) -> कैलाश राम | AH9: =IF('PRAPTRA 2 प्रविष्ठी'!G9="","",'PRAPTRA 2 प्रविष्ठी'!G9) -> 39609 | AI9: =IFERROR(IF(OR('PRAPTRA 1 प्रविष्ठी'!$F$3="",AH9=""),"",DATEDIF(AH9,'PRAPTRA 1 प्रविष्ठी'!$F$3,"Y")),"") -> 17 | AJ9: =IF('PRAPTRA 2 प्रविष्ठी'!I9="","",'PRAPTRA 2 प्रविष्ठी'!I9) | AK9: =IF('PRAPTRA 2 प्रविष्ठी'!J9="","",'PRAPTRA 2 प्रविष्ठी'!J9) | AL9: =IF('PRAPTRA 2 प्रविष्ठी'!K9="","",'PRAPTRA 2 प्रविष्ठी'!K9) | AM9: =IF('PRAPTRA 2 प्रविष्ठी'!L9="","",'PRAPTRA 2 प्रविष्ठी'!L9) | AN9: =IF('PRAPTRA 2 प्रविष्ठी'!M9="","",'PRAPTRA 2 प्रविष्ठी'!M9) | AO9: =IF('PRAPTRA 2 प्रविष्ठी'!H9="","",'PRAPTRA 2 प्रविष्ठी'!H9) | AP9: =IF(AI9<6,$AQ$7,IF(AI9<19,$AR$7,"")) -> 5-18
B10: =O10&"-"&COUNTIF($O$8:O10,O10) -> 5-18-3 | C10: =IF('PRAPTRA 1 प्रविष्ठी'!A10="","",'PRAPTRA 1 प्रविष्ठी'!A10) -> 3 | D10: =IF('PRAPTRA 1 प्रविष्ठी'!B10="","",UPPER('PRAPTRA 1 प्रविष्ठी'!B10)) -> खोजास | E10: =IF('PRAPTRA 1 प्रविष्ठी'!C10="","",UPPER('PRAPTRA 1 प्रविष्ठी'!C10)) -> 95 | F10: =IF('PRAPTRA 1 प्रविष्ठी'!D10="","",PROPER('PRAPTRA 1 प्रविष्ठी'!D10)) -> डसाणा खुर्द वार्ड न 8 | G10: =IF('PRAPTRA 1 प्रविष्ठी'!E10="","",UPPER('PRAPTRA 1 प्रविष्ठी'!E10)) -> आरती | H10: =IF('PRAPTRA 1 प्रविष्ठी'!F10="","",UPPER('PRAPTRA 1 प्रविष्ठी'!F10)) -> जेठाराम | I10: =IF('PRAPTRA 1 प्रविष्ठी'!G10="","",UPPER('PRAPTRA 1 प्रविष्ठी'!G10)) -> संतोष देवी | J10: =IF('PRAPTRA 1 प्रविष्ठी'!H10="","",'PRAPTRA 1 प्रविष्ठी'!H10) -> 40470 | K10: =IF('PRAPTRA 1 प्रविष्ठी'!I10="","",'PRAPTRA 1 प्रविष्ठी'!I10) -> 16 | L10: =IF('PRAPTRA 1 प्रविष्ठी'!J10="","",'PRAPTRA 1 प्रविष्ठी'!J10) -> F | M10: =IF('PRAPTRA 1 प्रविष्ठी'!K10="","",'PRAPTRA 1 प्रविष्ठी'!K10) -> OBC | N10: =IF('PRAPTRA 1 प्रविष्ठी'!L10="","",'PRAPTRA 1 प्रविष्ठी'!L10) -> 10 | O10: =IF(K10<4,$O$7,IF(K10<6,$P$7,IF(K10<19,$Q$7,""))) -> 5-18 | AA10: =AP10&"-"&COUNTIF($AP$8:AP10,AP10) -> 5-18-3 | AB10: =IF('PRAPTRA 2 प्रविष्ठी'!A10="","",'PRAPTRA 2 प्रविष्ठी'!A10) -> 3 | AC10: =IF('PRAPTRA 2 प्रविष्ठी'!B10="","",'PRAPTRA 2 प्रविष्ठी'!B10) -> खोजास | AD10: =IF('PRAPTRA 2 प्रविष्ठी'!C10="","",'PRAPTRA 2 प्रविष्ठी'!C10) -> 110 | AE10: =IF('PRAPTRA 2 प्रविष्ठी'!D10="","",'PRAPTRA 2 प्रविष्ठी'!D10) -> डसाणा खुर्द वार्ड न 9 | AF10: =IF('PRAPTRA 2 प्रविष्ठी'!E10="","",'PRAPTRA 2 प्रविष्ठी'!E10) -> चांदू मेघवाल | AG10: =IF('PRAPTRA 2 प्रविष्ठी'!F10="","",'PRAPTRA 2 प्रविष्ठी'!F10) -> कैलाश राम | AH10: =IF('PRAPTRA 2 प्रविष्ठी'!G10="","",'PRAPTRA 2 प्रविष्ठी'!G10) -> 40252 | AI10: =IFERROR(IF(OR('PRAPTRA 1 प्रविष्ठी'!$F$3="",AH10=""),"",DATEDIF(AH10,'PRAPTRA 1 प्रविष्ठी'!$F$3,"Y")),"") -> 16 | AJ10: =IF('PRAPTRA 2 प्रविष्ठी'!I10="","",'PRAPTRA 2 प्रविष्ठी'!I10) | AK10: =IF('PRAPTRA 2 प्रविष्ठी'!J10="","",'PRAPTRA 2 प्रविष्ठी'!J10) | AL10: =IF('PRAPTRA 2 प्रविष्ठी'!K10="","",'PRAPTRA 2 प्रविष्ठी'!K10) | AM10: =IF('PRAPTRA 2 प्रविष्ठी'!L10="","",'PRAPTRA 2 प्रविष्ठी'!L10) | AN10: =IF('PRAPTRA 2 प्रविष्ठी'!M10="","",'PRAPTRA 2 प्रविष्ठी'!M10) | AO10: =IF('PRAPTRA 2 प्रविष्ठी'!H10="","",'PRAPTRA 2 प्रविष्ठी'!H10) | AP10: =IF(AI10<6,$AQ$7,IF(AI10<19,$AR$7,"")) -> 5-18
B11: =O11&"-"&COUNTIF($O$8:O11,O11) -> 5-18-4 | C11: =IF('PRAPTRA 1 प्रविष्ठी'!A11="","",'PRAPTRA 1 प्रविष्ठी'!A11) -> 4 | D11: =IF('PRAPTRA 1 प्रविष्ठी'!B11="","",UPPER('PRAPTRA 1 प्रविष्ठी'!B11)) -> खोजास | E11: =IF('PRAPTRA 1 प्रविष्ठी'!C11="","",UPPER('PRAPTRA 1 प्रविष्ठी'!C11)) -> 95 | F11: =IF('PRAPTRA 1 प्रविष्ठी'!D11="","",PROPER('PRAPTRA 1 प्रविष्ठी'!D11)) -> डसाणा खुर्द वार्ड न 8 | G11: =IF('PRAPTRA 1 प्रविष्ठी'!E11="","",UPPER('PRAPTRA 1 प्रविष्ठी'!E11)) -> रमेश प्रजापत | H11: =IF('PRAPTRA 1 प्रविष्ठी'!F11="","",UPPER('PRAPTRA 1 प्रविष्ठी'!F11)) -> कैलाश चंद्र | I11: =IF('PRAPTRA 1 प्रविष्ठी'!G11="","",UPPER('PRAPTRA 1 प्रविष्ठी'!G11)) -> संतोष देवी | J11: =IF('PRAPTRA 1 प्रविष्ठी'!H11="","",'PRAPTRA 1 प्रविष्ठी'!H11) -> 40909 | K11: =IF('PRAPTRA 1 प्रविष्ठी'!I11="","",'PRAPTRA 1 प्रविष्ठी'!I11) -> 14 | L11: =IF('PRAPTRA 1 प्रविष्ठी'!J11="","",'PRAPTRA 1 प्रविष्ठी'!J11) -> M | M11: =IF('PRAPTRA 1 प्रविष्ठी'!K11="","",'PRAPTRA 1 प्रविष्ठी'!K11) -> OBC | N11: =IF('PRAPTRA 1 प्रविष्ठी'!L11="","",'PRAPTRA 1 प्रविष्ठी'!L11) -> 12 | O11: =IF(K11<4,$O$7,IF(K11<6,$P$7,IF(K11<19,$Q$7,""))) -> 5-18 | AA11: =AP11&"-"&COUNTIF($AP$8:AP11,AP11) -> -1 | AB11: =IF('PRAPTRA 2 प्रविष्ठी'!A11="","",'PRAPTRA 2 प्रविष्ठी'!A11) | AC11: =IF('PRAPTRA 2 प्रविष्ठी'!B11="","",'PRAPTRA 2 प्रविष्ठी'!B11) | AD11: =IF('PRAPTRA 2 प्रविष्ठी'!C11="","",'PRAPTRA 2 प्रविष्ठी'!C11) | AE11: =IF('PRAPTRA 2 प्रविष्ठी'!D11="","",'PRAPTRA 2 प्रविष्ठी'!D11) | AF11: =IF('PRAPTRA 2 प्रविष्ठी'!E11="","",'PRAPTRA 2 प्रविष्ठी'!E11) | AG11: =IF('PRAPTRA 2 प्रविष्ठी'!F11="","",'PRAPTRA 2 प्रविष्ठी'!F11) | AH11: =IF('PRAPTRA 2 प्रविष्ठी'!G11="","",'PRAPTRA 2 प्रविष्ठी'!G11) | AI11: =IFERROR(IF(OR('PRAPTRA 1 प्रविष्ठी'!$F$3="",AH11=""),"",DATEDIF(AH11,'PRAPTRA 1 प्रविष्ठी'!$F$3,"Y")),"") | AJ11: =IF('PRAPTRA 2 प्रविष्ठी'!I11="","",'PRAPTRA 2 प्रविष्ठी'!I11) | AK11: =IF('PRAPTRA 2 प्रविष्ठी'!J11="","",'PRAPTRA 2 प्रविष्ठी'!J11) | AL11: =IF('PRAPTRA 2 प्रविष्ठी'!K11="","",'PRAPTRA 2 प्रविष्ठी'!K11) | AM11: =IF('PRAPTRA 2 प्रविष्ठी'!L11="","",'PRAPTRA 2 प्रविष्ठी'!L11) | AN11: =IF('PRAPTRA 2 प्रविष्ठी'!M11="","",'PRAPTRA 2 प्रविष्ठी'!M11) | AO11: =IF('PRAPTRA 2 प्रविष्ठी'!H11="","",'PRAPTRA 2 प्रविष्ठी'!H11) | AP11: =IF(AI11<6,$AQ$7,IF(AI11<19,$AR$7,""))
B12: =O12&"-"&COUNTIF($O$8:O12,O12) -> 5-18-5 | C12: =IF('PRAPTRA 1 प्रविष्ठी'!A12="","",'PRAPTRA 1 प्रविष्ठी'!A12) -> 5 | D12: =IF('PRAPTRA 1 प्रविष्ठी'!B12="","",UPPER('PRAPTRA 1 प्रविष्ठी'!B12)) -> खोजास | E12: =IF('PRAPTRA 1 प्रविष्ठी'!C12="","",UPPER('PRAPTRA 1 प्रविष्ठी'!C12)) -> 95 | F12: =IF('PRAPTRA 1 प्रविष्ठी'!D12="","",PROPER('PRAPTRA 1 प्रविष्ठी'!D12)) -> डसाणा खुर्द वार्ड न 8 | G12: =IF('PRAPTRA 1 प्रविष्ठी'!E12="","",UPPER('PRAPTRA 1 प्रविष्ठी'!E12)) -> कृष्ण कुमार | H12: =IF('PRAPTRA 1 प्रविष्ठी'!F12="","",UPPER('PRAPTRA 1 प्रविष्ठी'!F12)) -> जुगल किशोर | I12: =IF('PRAPTRA 1 प्रविष्ठी'!G12="","",UPPER('PRAPTRA 1 प्रविष्ठी'!G12)) -> विमला | J12: =IF('PRAPTRA 1 प्रविष्ठी'!H12="","",'PRAPTRA 1 प्रविष्ठी'!H12) -> 42270 | K12: =IF('PRAPTRA 1 प्रविष्ठी'!I12="","",'PRAPTRA 1 प्रविष्ठी'!I12) -> 11 | L12: =IF('PRAPTRA 1 प्रविष्ठी'!J12="","",'PRAPTRA 1 प्रविष्ठी'!J12) -> M | M12: =IF('PRAPTRA 1 प्रविष्ठी'!K12="","",'PRAPTRA 1 प्रविष्ठी'!K12) -> OBC | N12: =IF('PRAPTRA 1 प्रविष्ठी'!L12="","",'PRAPTRA 1 प्रविष्ठी'!L12) -> 7 | O12: =IF(K12<4,$O$7,IF(K12<6,$P$7,IF(K12<19,$Q$7,""))) -> 5-18 | AA12: =AP12&"-"&COUNTIF($AP$8:AP12,AP12) -> -2 | AB12: =IF('PRAPTRA 2 प्रविष्ठी'!A12="","",'PRAPTRA 2 प्रविष्ठी'!A12) | AC12: =IF('PRAPTRA 2 प्रविष्ठी'!B12="","",'PRAPTRA 2 प्रविष्ठी'!B12) | AD12: =IF('PRAPTRA 2 प्रविष्ठी'!C12="","",'PRAPTRA 2 प्रविष्ठी'!C12) | AE12: =IF('PRAPTRA 2 प्रविष्ठी'!D12="","",'PRAPTRA 2 प्रविष्ठी'!D12) | AF12: =IF('PRAPTRA 2 प्रविष्ठी'!E12="","",'PRAPTRA 2 प्रविष्ठी'!E12) | AG12: =IF('PRAPTRA 2 प्रविष्ठी'!F12="","",'PRAPTRA 2 प्रविष्ठी'!F12) | AH12: =IF('PRAPTRA 2 प्रविष्ठी'!G12="","",'PRAPTRA 2 प्रविष्ठी'!G12) | AI12: =IFERROR(IF(OR('PRAPTRA 1 प्रविष्ठी'!$F$3="",AH12=""),"",DATEDIF(AH12,'PRAPTRA 1 प्रविष्ठी'!$F$3,"Y")),"") | AJ12: =IF('PRAPTRA 2 प्रविष्ठी'!I12="","",'PRAPTRA 2 प्रविष्ठी'!I12) | AK12: =IF('PRAPTRA 2 प्रविष्ठी'!J12="","",'PRAPTRA 2 प्रविष्ठी'!J12) | AL12: =IF('PRAPTRA 2 प्रविष्ठी'!K12="","",'PRAPTRA 2 प्रविष्ठी'!K12) | AM12: =IF('PRAPTRA 2 प्रविष्ठी'!L12="","",'PRAPTRA 2 प्रविष्ठी'!L12) | AN12: =IF('PRAPTRA 2 प्रविष्ठी'!M12="","",'PRAPTRA 2 प्रविष्ठी'!M12) | AO12: =IF('PRAPTRA 2 प्रविष्ठी'!H12="","",'PRAPTRA 2 प्रविष्ठी'!H12) | AP12: =IF(AI12<6,$AQ$7,IF(AI12<19,$AR$7,""))
B13: =O13&"-"&COUNTIF($O$8:O13,O13) -> 5-18-6 | C13: =IF('PRAPTRA 1 प्रविष्ठी'!A13="","",'PRAPTRA 1 प्रविष्ठी'!A13) -> 6 | D13: =IF('PRAPTRA 1 प्रविष्ठी'!B13="","",UPPER('PRAPTRA 1 प्रविष्ठी'!B13)) -> खोजास | E13: =IF('PRAPTRA 1 प्रविष्ठी'!C13="","",UPPER('PRAPTRA 1 प्रविष्ठी'!C13)) -> 95 | F13: =IF('PRAPTRA 1 प्रविष्ठी'!D13="","",PROPER('PRAPTRA 1 प्रविष्ठी'!D13)) -> डसाणा खुर्द वार्ड न 8 | G13: =IF('PRAPTRA 1 प्रविष्ठी'!E13="","",UPPER('PRAPTRA 1 प्रविष्ठी'!E13)) -> विशाल | H13: =IF('PRAPTRA 1 प्रविष्ठी'!F13="","",UPPER('PRAPTRA 1 प्रविष्ठी'!F13)) -> जुगल किशोर | I13: =IF('PRAPTRA 1 प्रविष्ठी'!G13="","",UPPER('PRAPTRA 1 प्रविष्ठी'!G13)) -> विमला | J13: =IF('PRAPTRA 1 प्रविष्ठी'!H13="","",'PRAPTRA 1 प्रविष्ठी'!H13) -> 43155 | K13: =IF('PRAPTRA 1 प्रविष्ठी'!I13="","",'PRAPTRA 1 प्रविष्ठी'!I13) -> 8 | L13: =IF('PRAPTRA 1 प्रविष्ठी'!J13="","",'PRAPTRA 1 प्रविष्ठी'!J13) -> M | M13: =IF('PRAPTRA 1 प्रविष्ठी'!K13="","",'PRAPTRA 1 प्रविष्ठी'!K13) -> OBC | N13: =IF('PRAPTRA 1 प्रविष्ठी'!L13="","",'PRAPTRA 1 प्रविष्ठी'!L13) -> 5 | O13: =IF(K13<4,$O$7,IF(K13<6,$P$7,IF(K13<19,$Q$7,""))) -> 5-18 | AA13: =AP13&"-"&COUNTIF($AP$8:AP13,AP13) -> -3 | AB13: =IF('PRAPTRA 2 प्रविष्ठी'!A13="","",'PRAPTRA 2 प्रविष्ठी'!A13) | AC13: =IF('PRAPTRA 2 प्रविष्ठी'!B13="","",'PRAPTRA 2 प्रविष्ठी'!B13) | AD13: =IF('PRAPTRA 2 प्रविष्ठी'!C13="","",'PRAPTRA 2 प्रविष्ठी'!C13) | AE13: =IF('PRAPTRA 2 प्रविष्ठी'!D13="","",'PRAPTRA 2 प्रविष्ठी'!D13) | AF13: =IF('PRAPTRA 2 प्रविष्ठी'!E13="","",'PRAPTRA 2 प्रविष्ठी'!E13) | AG13: =IF('PRAPTRA 2 प्रविष्ठी'!F13="","",'PRAPTRA 2 प्रविष्ठी'!F13) | AH13: =IF('PRAPTRA 2 प्रविष्ठी'!G13="","",'PRAPTRA 2 प्रविष्ठी'!G13) | AI13: =IFERROR(IF(OR('PRAPTRA 1 प्रविष्ठी'!$F$3="",AH13=""),"",DATEDIF(AH13,'PRAPTRA 1 प्रविष्ठी'!$F$3,"Y")),"") | AJ13: =IF('PRAPTRA 2 प्रविष्ठी'!I13="","",'PRAPTRA 2 प्रविष्ठी'!I13) | AK13: =IF('PRAPTRA 2 प्रविष्ठी'!J13="","",'PRAPTRA 2 प्रविष्ठी'!J13) | AL13: =IF('PRAPTRA 2 प्रविष्ठी'!K13="","",'PRAPTRA 2 प्रविष्ठी'!K13) | AM13: =IF('PRAPTRA 2 प्रविष्ठी'!L13="","",'PRAPTRA 2 प्रविष्ठी'!L13) | AN13: =IF('PRAPTRA 2 प्रविष्ठी'!M13="","",'PRAPTRA 2 प्रविष्ठी'!M13) | AO13: =IF('PRAPTRA 2 प्रविष्ठी'!H13="","",'PRAPTRA 2 प्रविष्ठी'!H13) | AP13: =IF(AI13<6,$AQ$7,IF(AI13<19,$AR$7,""))
B14: =O14&"-"&COUNTIF($O$8:O14,O14) -> 5-18-7 | C14: =IF('PRAPTRA 1 प्रविष्ठी'!A14="","",'PRAPTRA 1 प्रविष्ठी'!A14) -> 7 | D14: =IF('PRAPTRA 1 प्रविष्ठी'!B14="","",UPPER('PRAPTRA 1 प्रविष्ठी'!B14)) -> खोजास | E14: =IF('PRAPTRA 1 प्रविष्ठी'!C14="","",UPPER('PRAPTRA 1 प्रविष्ठी'!C14)) -> 95 | F14: =IF('PRAPTRA 1 प्रविष्ठी'!D14="","",PROPER('PRAPTRA 1 प्रविष्ठी'!D14)) -> डसाणा खुर्द वार्ड न 8 | G14: =IF('PRAPTRA 1 प्रविष्ठी'!E14="","",UPPER('PRAPTRA 1 प्रविष्ठी'!E14)) -> रितिक | H14: =IF('PRAPTRA 1 प्रविष्ठी'!F14="","",UPPER('PRAPTRA 1 प्रविष्ठी'!F14)) -> पप्पू राम प्रजापत | I14: =IF('PRAPTRA 1 प्रविष्ठी'!G14="","",UPPER('PRAPTRA 1 प्रविष्ठी'!G14)) -> सुख देवी | J14: =IF('PRAPTRA 1 प्रविष्ठी'!H14="","",'PRAPTRA 1 प्रविष्ठी'!H14) -> 43847 | K14: =IF('PRAPTRA 1 प्रविष्ठी'!I14="","",'PRAPTRA 1 प्रविष्ठी'!I14) -> 6 | L14: =IF('PRAPTRA 1 प्रविष्ठी'!J14="","",'PRAPTRA 1 प्रविष्ठी'!J14) -> M | M14: =IF('PRAPTRA 1 प्रविष्ठी'!K14="","",'PRAPTRA 1 प्रविष्ठी'!K14) -> OBC | N14: =IF('PRAPTRA 1 प्रविष्ठी'!L14="","",'PRAPTRA 1 प्रविष्ठी'!L14) -> 2 | O14: =IF(K14<4,$O$7,IF(K14<6,$P$7,IF(K14<19,$Q$7,""))) -> 5-18 | AA14: =AP14&"-"&COUNTIF($AP$8:AP14,AP14) -> -4 | AB14: =IF('PRAPTRA 2 प्रविष्ठी'!A14="","",'PRAPTRA 2 प्रविष्ठी'!A14) | AC14: =IF('PRAPTRA 2 प्रविष्ठी'!B14="","",'PRAPTRA 2 प्रविष्ठी'!B14) | AD14: =IF('PRAPTRA 2 प्रविष्ठी'!C14="","",'PRAPTRA 2 प्रविष्ठी'!C14) | AE14: =IF('PRAPTRA 2 प्रविष्ठी'!D14="","",'PRAPTRA 2 प्रविष्ठी'!D14) | AF14: =IF('PRAPTRA 2 प्रविष्ठी'!E14="","",'PRAPTRA 2 प्रविष्ठी'!E14) | AG14: =IF('PRAPTRA 2 प्रविष्ठी'!F14="","",'PRAPTRA 2 प्रविष्ठी'!F14) | AH14: =IF('PRAPTRA 2 प्रविष्ठी'!G14="","",'PRAPTRA 2 प्रविष्ठी'!G14) | AI14: =IFERROR(IF(OR('PRAPTRA 1 प्रविष्ठी'!$F$3="",AH14=""),"",DATEDIF(AH14,'PRAPTRA 1 प्रविष्ठी'!$F$3,"Y")),"") | AJ14: =IF('PRAPTRA 2 प्रविष्ठी'!I14="","",'PRAPTRA 2 प्रविष्ठी'!I14) | AK14: =IF('PRAPTRA 2 प्रविष्ठी'!J14="","",'PRAPTRA 2 प्रविष्ठी'!J14) | AL14: =IF('PRAPTRA 2 प्रविष्ठी'!K14="","",'PRAPTRA 2 प्रविष्ठी'!K14) | AM14: =IF('PRAPTRA 2 प्रविष्ठी'!L14="","",'PRAPTRA 2 प्रविष्ठी'!L14) | AN14: =IF('PRAPTRA 2 प्रविष्ठी'!M14="","",'PRAPTRA 2 प्रविष्ठी'!M14) | AO14: =IF('PRAPTRA 2 प्रविष्ठी'!H14="","",'PRAPTRA 2 प्रविष्ठी'!H14) | AP14: =IF(AI14<6,$AQ$7,IF(AI14<19,$AR$7,""))
B15: =O15&"-"&COUNTIF($O$8:O15,O15) -> 0-3-1 | C15: =IF('PRAPTRA 1 प्रविष्ठी'!A15="","",'PRAPTRA 1 प्रविष्ठी'!A15) -> 8 | D15: =IF('PRAPTRA 1 प्रविष्ठी'!B15="","",UPPER('PRAPTRA 1 प्रविष्ठी'!B15)) -> खोजास | E15: =IF('PRAPTRA 1 प्रविष्ठी'!C15="","",UPPER('PRAPTRA 1 प्रविष्ठी'!C15)) -> 95 | F15: =IF('PRAPTRA 1 प्रविष्ठी'!D15="","",PROPER('PRAPTRA 1 प्रविष्ठी'!D15)) -> डसाणा खुर्द वार्ड न 8 | G15: =IF('PRAPTRA 1 प्रविष्ठी'!E15="","",UPPER('PRAPTRA 1 प्रविष्ठी'!E15)) -> आयुष प्रजापत | H15: =IF('PRAPTRA 1 प्रविष्ठी'!F15="","",UPPER('PRAPTRA 1 प्रविष्ठी'!F15)) -> पप्पू राम प्रजापत | I15: =IF('PRAPTRA 1 प्रविष्ठी'!G15="","",UPPER('PRAPTRA 1 प्रविष्ठी'!G15)) -> सुख देवी | J15: =IF('PRAPTRA 1 प्रविष्ठी'!H15="","",'PRAPTRA 1 प्रविष्ठी'!H15) -> 45680 | K15: =IF('PRAPTRA 1 प्रविष्ठी'!I15="","",'PRAPTRA 1 प्रविष्ठी'!I15) -> 1 | L15: =IF('PRAPTRA 1 प्रविष्ठी'!J15="","",'PRAPTRA 1 प्रविष्ठी'!J15) -> M | M15: =IF('PRAPTRA 1 प्रविष्ठी'!K15="","",'PRAPTRA 1 प्रविष्ठी'!K15) -> OBC | N15: =IF('PRAPTRA 1 प्रविष्ठी'!L15="","",'PRAPTRA 1 प्रविष्ठी'!L15) -> -- | O15: =IF(K15<4,$O$7,IF(K15<6,$P$7,IF(K15<19,$Q$7,""))) -> 0-3 | AA15: =AP15&"-"&COUNTIF($AP$8:AP15,AP15) -> -5 | AB15: =IF('PRAPTRA 2 प्रविष्ठी'!A15="","",'PRAPTRA 2 प्रविष्ठी'!A15) | AC15: =IF('PRAPTRA 2 प्रविष्ठी'!B15="","",'PRAPTRA 2 प्रविष्ठी'!B15) | AD15: =IF('PRAPTRA 2 प्रविष्ठी'!C15="","",'PRAPTRA 2 प्रविष्ठी'!C15) | AE15: =IF('PRAPTRA 2 प्रविष्ठी'!D15="","",'PRAPTRA 2 प्रविष्ठी'!D15) | AF15: =IF('PRAPTRA 2 प्रविष्ठी'!E15="","",'PRAPTRA 2 प्रविष्ठी'!E15) | AG15: =IF('PRAPTRA 2 प्रविष्ठी'!F15="","",'PRAPTRA 2 प्रविष्ठी'!F15) | AH15: =IF('PRAPTRA 2 प्रविष्ठी'!G15="","",'PRAPTRA 2 प्रविष्ठी'!G15) | AI15: =IFERROR(IF(OR('PRAPTRA 1 प्रविष्ठी'!$F$3="",AH15=""),"",DATEDIF(AH15,'PRAPTRA 1 प्रविष्ठी'!$F$3,"Y")),"") | AJ15: =IF('PRAPTRA 2 प्रविष्ठी'!I15="","",'PRAPTRA 2 प्रविष्ठी'!I15) | AK15: =IF('PRAPTRA 2 प्रविष्ठी'!J15="","",'PRAPTRA 2 प्रविष्ठी'!J15) | AL15: =IF('PRAPTRA 2 प्रविष्ठी'!K15="","",'PRAPTRA 2 प्रविष्ठी'!K15) | AM15: =IF('PRAPTRA 2 प्रविष्ठी'!L15="","",'PRAPTRA 2 प्रविष्ठी'!L15) | AN15: =IF('PRAPTRA 2 प्रविष्ठी'!M15="","",'PRAPTRA 2 प्रविष्ठी'!M15) | AO15: =IF('PRAPTRA 2 प्रविष्ठी'!H15="","",'PRAPTRA 2 प्रविष्ठी'!H15) | AP15: =IF(AI15<6,$AQ$7,IF(AI15<19,$AR$7,""))
B16: =O16&"-"&COUNTIF($O$8:O16,O16) -> 3-5-1 | C16: =IF('PRAPTRA 1 प्रविष्ठी'!A16="","",'PRAPTRA 1 प्रविष्ठी'!A16) -> 9 | D16: =IF('PRAPTRA 1 प्रविष्ठी'!B16="","",UPPER('PRAPTRA 1 प्रविष्ठी'!B16)) -> खोजास | E16: =IF('PRAPTRA 1 प्रविष्ठी'!C16="","",UPPER('PRAPTRA 1 प्रविष्ठी'!C16)) -> 95 | F16: =IF('PRAPTRA 1 प्रविष्ठी'!D16="","",PROPER('PRAPTRA 1 प्रविष्ठी'!D16)) -> डसाणा खुर्द वार्ड न 8 | G16: =IF('PRAPTRA 1 प्रविष्ठी'!E16="","",UPPER('PRAPTRA 1 प्रविष्ठी'!E16)) -> दीक्षित | H16: =IF('PRAPTRA 1 प्रविष्ठी'!F16="","",UPPER('PRAPTRA 1 प्रविष्ठी'!F16)) -> पप्पू राम प्रजापत | I16: =IF('PRAPTRA 1 प्रविष्ठी'!G16="","",UPPER('PRAPTRA 1 प्रविष्ठी'!G16)) -> सुख देवी | J16: =IF('PRAPTRA 1 प्रविष्ठी'!H16="","",'PRAPTRA 1 प्रविष्ठी'!H16) -> 44542 | K16: =IF('PRAPTRA 1 प्रविष्ठी'!I16="","",'PRAPTRA 1 प्रविष्ठी'!I16) -> 4 | L16: =IF('PRAPTRA 1 प्रविष्ठी'!J16="","",'PRAPTRA 1 प्रविष्ठी'!J16) -> M | M16: =IF('PRAPTRA 1 प्रविष्ठी'!K16="","",'PRAPTRA 1 प्रविष्ठी'!K16) -> OBC | N16: =IF('PRAPTRA 1 प्रविष्ठी'!L16="","",'PRAPTRA 1 प्रविष्ठी'!L16) -> आंगनबाड़ी | O16: =IF(K16<4,$O$7,IF(K16<6,$P$7,IF(K16<19,$Q$7,""))) -> 3-5 | AA16: =AP16&"-"&COUNTIF($AP$8:AP16,AP16) -> -6 | AB16: =IF('PRAPTRA 2 प्रविष्ठी'!A16="","",'PRAPTRA 2 प्रविष्ठी'!A16) | AC16: =IF('PRAPTRA 2 प्रविष्ठी'!B16="","",'PRAPTRA 2 प्रविष्ठी'!B16) | AD16: =IF('PRAPTRA 2 प्रविष्ठी'!C16="","",'PRAPTRA 2 प्रविष्ठी'!C16) | AE16: =IF('PRAPTRA 2 प्रविष्ठी'!D16="","",'PRAPTRA 2 प्रविष्ठी'!D16) | AF16: =IF('PRAPTRA 2 प्रविष्ठी'!E16="","",'PRAPTRA 2 प्रविष्ठी'!E16) | AG16: =IF('PRAPTRA 2 प्रविष्ठी'!F16="","",'PRAPTRA 2 प्रविष्ठी'!F16) | AH16: =IF('PRAPTRA 2 प्रविष्ठी'!G16="","",'PRAPTRA 2 प्रविष्ठी'!G16) | AI16: =IFERROR(IF(OR('PRAPTRA 1 प्रविष्ठी'!$F$3="",AH16=""),"",DATEDIF(AH16,'PRAPTRA 1 प्रविष्ठी'!$F$3,"Y")),"") | AJ16: =IF('PRAPTRA 2 प्रविष्ठी'!I16="","",'PRAPTRA 2 प्रविष्ठी'!I16) | AK16: =IF('PRAPTRA 2 प्रविष्ठी'!J16="","",'PRAPTRA 2 प्रविष्ठी'!J16) | AL16: =IF('PRAPTRA 2 प्रविष्ठी'!K16="","",'PRAPTRA 2 प्रविष्ठी'!K16) | AM16: =IF('PRAPTRA 2 प्रविष्ठी'!L16="","",'PRAPTRA 2 प्रविष्ठी'!L16) | AN16: =IF('PRAPTRA 2 प्रविष्ठी'!M16="","",'PRAPTRA 2 प्रविष्ठी'!M16) | AO16: =IF('PRAPTRA 2 प्रविष्ठी'!H16="","",'PRAPTRA 2 प्रविष्ठी'!H16) | AP16: =IF(AI16<6,$AQ$7,IF(AI16<19,$AR$7,""))
B17: =O17&"-"&COUNTIF($O$8:O17,O17) -> 5-18-8 | C17: =IF('PRAPTRA 1 प्रविष्ठी'!A17="","",'PRAPTRA 1 प्रविष्ठी'!A17) -> 10 | D17: =IF('PRAPTRA 1 प्रविष्ठी'!B17="","",UPPER('PRAPTRA 1 प्रविष्ठी'!B17)) -> खोजास | E17: =IF('PRAPTRA 1 प्रविष्ठी'!C17="","",UPPER('PRAPTRA 1 प्रविष्ठी'!C17)) -> 95 | F17: =IF('PRAPTRA 1 प्रविष्ठी'!D17="","",PROPER('PRAPTRA 1 प्रविष्ठी'!D17)) -> डसाणा खुर्द वार्ड न 8 | G17: =IF('PRAPTRA 1 प्रविष्ठी'!E17="","",UPPER('PRAPTRA 1 प्रविष्ठी'!E17)) -> राहुल | H17: =IF('PRAPTRA 1 प्रविष्ठी'!F17="","",UPPER('PRAPTRA 1 प्रविष्ठी'!F17)) -> तेजाराम | I17: =IF('PRAPTRA 1 प्रविष्ठी'!G17="","",UPPER('PRAPTRA 1 प्रविष्ठी'!G17)) -> मंजू देवी | J17: =IF('PRAPTRA 1 प्रविष्ठी'!H17="","",'PRAPTRA 1 प्रविष्ठी'!H17) -> 42182 | K17: =IF('PRAPTRA 1 प्रविष्ठी'!I17="","",'PRAPTRA 1 प्रविष्ठी'!I17) -> 11 | L17: =IF('PRAPTRA 1 प्रविष्ठी'!J17="","",'PRAPTRA 1 प्रविष्ठी'!J17) -> M | M17: =IF('PRAPTRA 1 प्रविष्ठी'!K17="","",'PRAPTRA 1 प्रविष्ठी'!K17) -> OBC | N17: =IF('PRAPTRA 1 प्रविष्ठी'!L17="","",'PRAPTRA 1 प्रविष्ठी'!L17) -> 6 | O17: =IF(K17<4,$O$7,IF(K17<6,$P$7,IF(K17<19,$Q$7,""))) -> 5-18 | AA17: =AP17&"-"&COUNTIF($AP$8:AP17,AP17) -> -7 | AB17: =IF('PRAPTRA 2 प्रविष्ठी'!A17="","",'PRAPTRA 2 प्रविष्ठी'!A17) | AC17: =IF('PRAPTRA 2 प्रविष्ठी'!B17="","",'PRAPTRA 2 प्रविष्ठी'!B17) | AD17: =IF('PRAPTRA 2 प्रविष्ठी'!C17="","",'PRAPTRA 2 प्रविष्ठी'!C17) | AE17: =IF('PRAPTRA 2 प्रविष्ठी'!D17="","",'PRAPTRA 2 प्रविष्ठी'!D17) | AF17: =IF('PRAPTRA 2 प्रविष्ठी'!E17="","",'PRAPTRA 2 प्रविष्ठी'!E17) | AG17: =IF('PRAPTRA 2 प्रविष्ठी'!F17="","",'PRAPTRA 2 प्रविष्ठी'!F17) | AH17: =IF('PRAPTRA 2 प्रविष्ठी'!G17="","",'PRAPTRA 2 प्रविष्ठी'!G17) | AI17: =IFERROR(IF(OR('PRAPTRA 1 प्रविष्ठी'!$F$3="",AH17=""),"",DATEDIF(AH17,'PRAPTRA 1 प्रविष्ठी'!$F$3,"Y")),"") | AJ17: =IF('PRAPTRA 2 प्रविष्ठी'!I17="","",'PRAPTRA 2 प्रविष्ठी'!I17) | AK17: =IF('PRAPTRA 2 प्रविष्ठी'!J17="","",'PRAPTRA 2 प्रविष्ठी'!J17) | AL17: =IF('PRAPTRA 2 प्रविष्ठी'!K17="","",'PRAPTRA 2 प्रविष्ठी'!K17) | AM17: =IF('PRAPTRA 2 प्रविष्ठी'!L17="","",'PRAPTRA 2 प्रविष्ठी'!L17) | AN17: =IF('PRAPTRA 2 प्रविष्ठी'!M17="","",'PRAPTRA 2 प्रविष्ठी'!M17) | AO17: =IF('PRAPTRA 2 प्रविष्ठी'!H17="","",'PRAPTRA 2 प्रविष्ठी'!H17) | AP17: =IF(AI17<6,$AQ$7,IF(AI17<19,$AR$7,""))
B18: =O18&"-"&COUNTIF($O$8:O18,O18) -> 5-18-9 | C18: =IF('PRAPTRA 1 प्रविष्ठी'!A18="","",'PRAPTRA 1 प्रविष्ठी'!A18) -> 11 | D18: =IF('PRAPTRA 1 प्रविष्ठी'!B18="","",UPPER('PRAPTRA 1 प्रविष्ठी'!B18)) -> खोजास | E18: =IF('PRAPTRA 1 प्रविष्ठी'!C18="","",UPPER('PRAPTRA 1 प्रविष्ठी'!C18)) -> 95 | F18: =IF('PRAPTRA 1 प्रविष्ठी'!D18="","",PROPER('PRAPTRA 1 प्रविष्ठी'!D18)) -> डसाणा खुर्द वार्ड न 8 | G18: =IF('PRAPTRA 1 प्रविष्ठी'!E18="","",UPPER('PRAPTRA 1 प्रविष्ठी'!E18)) -> कोशिका | H18: =IF('PRAPTRA 1 प्रविष्ठी'!F18="","",UPPER('PRAPTRA 1 प्रविष्ठी'!F18)) -> तेजाराम | I18: =IF('PRAPTRA 1 प्रविष्ठी'!G18="","",UPPER('PRAPTRA 1 प्रविष्ठी'!G18)) -> मंजू देवी | J18: =IF('PRAPTRA 1 प्रविष्ठी'!H18="","",'PRAPTRA 1 प्रविष्ठी'!H18) -> 42938 | K18: =IF('PRAPTRA 1 प्रविष्ठी'!I18="","",'PRAPTRA 1 प्रविष्ठी'!I18) -> 9 | L18: =IF('PRAPTRA 1 प्रविष्ठी'!J18="","",'PRAPTRA 1 प्रविष्ठी'!J18) -> M | M18: =IF('PRAPTRA 1 प्रविष्ठी'!K18="","",'PRAPTRA 1 प्रविष्ठी'!K18) -> OBC | N18: =IF('PRAPTRA 1 प्रविष्ठी'!L18="","",'PRAPTRA 1 प्रविष्ठी'!L18) -> 4 | O18: =IF(K18<4,$O$7,IF(K18<6,$P$7,IF(K18<19,$Q$7,""))) -> 5-18 | AA18: =AP18&"-"&COUNTIF($AP$8:AP18,AP18) -> -8 | AB18: =IF('PRAPTRA 2 प्रविष्ठी'!A18="","",'PRAPTRA 2 प्रविष्ठी'!A18) | AC18: =IF('PRAPTRA 2 प्रविष्ठी'!B18="","",'PRAPTRA 2 प्रविष्ठी'!B18) | AD18: =IF('PRAPTRA 2 प्रविष्ठी'!C18="","",'PRAPTRA 2 प्रविष्ठी'!C18) | AE18: =IF('PRAPTRA 2 प्रविष्ठी'!D18="","",'PRAPTRA 2 प्रविष्ठी'!D18) | AF18: =IF('PRAPTRA 2 प्रविष्ठी'!E18="","",'PRAPTRA 2 प्रविष्ठी'!E18) | AG18: =IF('PRAPTRA 2 प्रविष्ठी'!F18="","",'PRAPTRA 2 प्रविष्ठी'!F18) | AH18: =IF('PRAPTRA 2 प्रविष्ठी'!G18="","",'PRAPTRA 2 प्रविष्ठी'!G18) | AI18: =IFERROR(IF(OR('PRAPTRA 1 प्रविष्ठी'!$F$3="",AH18=""),"",DATEDIF(AH18,'PRAPTRA 1 प्रविष्ठी'!$F$3,"Y")),"") | AJ18: =IF('PRAPTRA 2 प्रविष्ठी'!I18="","",'PRAPTRA 2 प्रविष्ठी'!I18) | AK18: =IF('PRAPTRA 2 प्रविष्ठी'!J18="","",'PRAPTRA 2 प्रविष्ठी'!J18) | AL18: =IF('PRAPTRA 2 प्रविष्ठी'!K18="","",'PRAPTRA 2 प्रविष्ठी'!K18) | AM18: =IF('PRAPTRA 2 प्रविष्ठी'!L18="","",'PRAPTRA 2 प्रविष्ठी'!L18) | AN18: =IF('PRAPTRA 2 प्रविष्ठी'!M18="","",'PRAPTRA 2 प्रविष्ठी'!M18) | AO18: =IF('PRAPTRA 2 प्रविष्ठी'!H18="","",'PRAPTRA 2 प्रविष्ठी'!H18) | AP18: =IF(AI18<6,$AQ$7,IF(AI18<19,$AR$7,""))
