Workbook
Name ANAND: 'Master Sheet'!#REF!
Name ANANDD: 'Master Sheet'!#REF!

Sheet Master Sheet
B1: इस टेबल को पूर्ण भरने के बाद D.A. ARREAR CALCULATION वाली शीट से प्रिंट निकालें। (D.A. ARREAR CALCULATION 58% TO 60%)
A2: CREATED BY : PARMANAND MEGHWAL | D2: WWW.RAJTEACHERS.NET
A3: OFFICE NAME | C3: GOVT SR. SECONDARY SCHOOL, GORDHANPURA, ATRU (BARAN)
A4: S.N. | B4: NAME OF EMPLOYEE | C4: DESIGNATION | D4: BASIC (01.01.2026) | E4: TAX % | F4: SURRENDER (Jan To April) 2026 | G4: GPF/GPF 2004
A5: =IF(B5="","",ROWS($B$5:B5)) -> 1 | B5: PARMANAND MEGHWAL | C5: SENIOR TEACHER | D5: 52300 | E5: 0 | F5: NO | G5: GPF 2004
A6: =IF(B6="","",ROWS($B$5:B6)) -> 2 | B6: GIRDHARI LAL DIGWAL | C6: LECTURER | D6: 48400 | E6: 0 | F6: NO | G6: GPF 2004
A7: =IF(B7="","",ROWS($B$5:B7)) -> 3 | B7: RAVIKANT MEENA | C7: LECTURER | D7: 54500 | E7: 0 | F7: NO | G7: GPF 2004
A8: =IF(B8="","",ROWS($B$5:B8))
A9: =IF(B9="","",ROWS($B$5:B9))
A10: =IF(B10="","",ROWS($B$5:B10))
A11: =IF(B11="","",ROWS($B$5:B11))
A12: =IF(B12="","",ROWS($B$5:B12))
A13: =IF(B13="","",ROWS($B$5:B13))
A14: =IF(B14="","",ROWS($B$5:B14))
A15: =IF(B15="","",ROWS($B$5:B15))
A16: =IF(B16="","",ROWS($B$5:B16))
A17: =IF(B17="","",ROWS($B$5:B17))
A18: =IF(B18="","",ROWS($B$5:B18))
A19: =IF(B19="","",ROWS($B$5:B19))
... A24: =IF(B24="","",ROWS($B$5:B24))
A25: CREATED BY: PARMANAND MEGHWAL

Sheet D.A.Arrear Calculation
A1: ='Master Sheet'!C3 -> GOVT SR. SECONDARY SCHOOL, GORDHANPURA, ATRU (BARAN)
A2: D.A. ARREAR - 01.01.2026 TO 30.04.2026 (58% TO 60%)
A3: S.N. | C3: EMPLOYEE NAME | E3: DESIGNATION | F3: BASIC PAY | G3: D.A. DUE (60%) | M3: D.A. DRAWN (58%) | S3: DIFFERENCE | Z3: DEDUCTION | AC3: TOTAL DEDUCTION | AD3: NET PAY AMMOUNT
G4: Jan | H4: Feb | I4: Mar | J4: Apr | K4: SURRENDER | L4: TOTAL | M4: Jan | N4: Feb | O4: Mar | P4: Apr | Q4: SURRENDER | R4: TOTAL | S4: Jan | T4: Feb | U4: Mar | V4: Apr | W4: SURRENDER | X4: TOTAL | Z4: GPF | AA4: GPF 2004 | AB4: I TAX
A5: =IF('Master Sheet'!A5="","",'Master Sheet'!A5) -> 1 | B5: =IF(A5="",A5+1,A5) -> 1 | C5: =VLOOKUP(A5,'Master Sheet'!$A$5:$G$1048576,2,0) -> PARMANAND MEGHWAL | D5: =IF(A5=B5,"","TOTAL") | E5: =IF(D5="TOTAL","TOTAL",'Master Sheet'!C5) -> SENIOR TEACHER | F5: ='Master Sheet'!D5 -> 52300 | G5: =ROUND($F$5*60/100,0) -> 31380 | H5: =G5 -> 31380 | I5: =H5 -> 31380 | J5: =I5 -> 31380 | K5: =IF('Master Sheet'!F5="YES",ROUND(F5/2*58/100,0),"") | L5: =SUM(G5:K5) -> 125520 | M5: =ROUND($F$5*58/100,0) -> 30334 | N5: =M5 -> 30334 | O5: =N5 -> 30334 | P5: =O5 -> 30334 | Q5: =IF('Master Sheet'!F5="YES",ROUND(F5/2*55/100,0),"") | R5: =SUM(M5:Q5) -> 121336 | S5: =G5-M5 -> 1046 | T5: =H5-N5 -> 1046 | U5: =I5-O5 -> 1046 | V5: =J5-P5 -> 1046 | W5: =IF(K5="","",K5-Q5) | X5: =SUM(S5:W5) -> 4184 | Y5: ='Master Sheet'!G5 -> GPF 2004 | Z5: =IF(Y5="GPF",X5-AB5,0) -> 0 | AA5: =IF(Y5="GPF 2004",X5-AB5,0) -> 4184 | AB5: =ROUND(X5*'Master Sheet'!E5/100,0) -> 0 | AC5: =SUM(Z5:AB5) -> 4184 | AD5: =X5-AC5 -> 0
A6: =IF('Master Sheet'!A6="","",'Master Sheet'!A6) -> 2 | B6: =IFERROR(IF(A6="","TOTAL",A6),"") -> 2 | C6: =VLOOKUP(A6,'Master Sheet'!$A$5:$G$1048576,2,0) -> GIRDHARI LAL DIGWAL | D6: =IF(A6=B6,"","TOTAL") | E6: =IF(D6="TOTAL","TOTAL",'Master Sheet'!C6) -> LECTURER | F6: =IF(D6="TOTAL",SUM($F$5:F5),'Master Sheet'!D6) -> 48400 | G6: =IFERROR(IF(D6="TOTAL",SUM($G$5:G5),F6*60/100),"") -> 29040 | H6: =G6 -> 29040 | I6: =H6 -> 29040 | J6: =I6 -> 29040 | K6: =IF(D6="TOTAL",SUM($K$5:K5),IF('Master Sheet'!F6="YES",'D.A.Arrear Calculation'!F6/2*58%,"")) | L6: =SUM(G6:K6) -> 116160 | M6: =IFERROR(IF(D6="TOTAL",SUM($M$5:M5),F6*58/100),"") -> 28072 | N6: =M6 -> 28072 | O6: =N6 -> 28072 | P6: =O6 -> 28072 | Q6: =IF(D6="TOTAL",SUM($Q$5:Q5),IF('Master Sheet'!F6="YES",'D.A.Arrear Calculation'!F6/2*55%,"")) | R6: =SUM(M6:Q6) -> 112288 | S6: =G6-M6 -> 968 | T6: =H6-N6 -> 968 | U6: =I6-O6 -> 968 | V6: =J6-P6 -> 968 | W6: =IF(K6="","",K6-Q6) | X6: =SUM(S6:W6) -> 3872 | Y6: ='Master Sheet'!G6 -> GPF 2004 | Z6: =IF(D6="TOTAL",SUM($Z$5:Z5),IF(Y6="GPF",X6-AB6,0)) -> 0 | AA6: =IF(D6="TOTAL",SUM($AA$5:AA5),IF(Y6="GPF 2004",X6-AB6,0)) -> 3872 | AB6: =IF(D6="TOTAL",SUM($AB$5:AB5),ROUND(X6*'Master Sheet'!E6/100,0)) -> 0 | AC6: =SUM(Z6:AB6) -> 3872 | AD6: =X6-AC6 -> 0
A7: =IF('Master Sheet'!A7="","",'Master Sheet'!A7) -> 3 | B7: =IFERROR(IF(A7="",(A6+1),A7),"") -> 3 | C7: =VLOOKUP(A7,'Master Sheet'!$A$5:$G$1048576,2,0) -> RAVIKANT MEENA | D7: =IF(A7=B7,"","TOTAL") | E7: =IF(D7="TOTAL","TOTAL",'Master Sheet'!C7) -> LECTURER | F7: =IF(D7="TOTAL",SUM($F$5:F6),'Master Sheet'!D7) -> 54500 | G7: =IFERROR(IF(D7="TOTAL",SUM($G$5:G6),F7*60/100),"") -> 32700 | H7: =G7 -> 32700 | I7: =H7 -> 32700 | J7: =I7 -> 32700 | K7: =IF(D7="TOTAL",SUM($K$5:K6),IF('Master Sheet'!F7="YES",'D.A.Arrear Calculation'!F7/2*58%,"")) | L7: =SUM(G7:K7) -> 130800 | M7: =IFERROR(IF(D7="TOTAL",SUM($M$5:M6),F7*58/100),"") -> 31610 | N7: =M7 -> 31610 | O7: =N7 -> 31610 | P7: =O7 -> 31610 | Q7: =IF(D7="TOTAL",SUM($Q$5:Q6),IF('Master Sheet'!F7="YES",'D.A.Arrear Calculation'!F7/2*55%,"")) | R7: =SUM(M7:Q7) -> 126440 | S7: =G7-M7 -> 1090 | T7: =H7-N7 -> 1090 | U7: =I7-O7 -> 1090 | V7: =J7-P7 -> 1090 | W7: =IF(K7="","",K7-Q7) | X7: =SUM(S7:W7) -> 4360 | Y7: ='Master Sheet'!G7 -> GPF 2004 | Z7: =IF(D7="TOTAL",SUM($Z$5:Z6),IF(Y7="GPF",X7-AB7,0)) -> 0 | AA7: =IF(D7="TOTAL",SUM($AA$5:AA6),IF(Y7="GPF 2004",X7-AB7,0)) -> 4360 | AB7: =IF(D7="TOTAL",SUM($AB$5:AB6),ROUND(X7*'Master Sheet'!E7/100,0)) -> 0 | AC7: =SUM(Z7:AB7) -> 4360 | AD7: =X7-AC7 -> 0
A8: =IF('Master Sheet'!A8="","",'Master Sheet'!A8) | B8: =IFERROR(IF(A8="",(A7+1),A8),"") -> 4 | C8: =VLOOKUP(A8,'Master Sheet'!$A$5:$G$1048576,2,0) -> 0 | D8: =IF(A8=B8,"","TOTAL") -> TOTAL | E8: =IF(D8="TOTAL","TOTAL",'Master Sheet'!C8) -> TOTAL | F8: =IF(D8="TOTAL",SUM($F$5:F7),'Master Sheet'!D8) -> 155200 | G8: =IFERROR(IF(D8="TOTAL",SUM($G$5:G7),F8*60/100),"") -> 93120 | H8: =G8 -> 93120 | I8: =H8 -> 93120 | J8: =I8 -> 93120 | K8: =IF(D8="TOTAL",SUM($K$5:K7),IF('Master Sheet'!F8="YES",'D.A.Arrear Calculation'!F8/2*58%,"")) -> 0 | L8: =SUM(G8:K8) -> 372480 | M8: =IFERROR(IF(D8="TOTAL",SUM($M$5:M7),F8*58/100),"") -> 90016 | N8: =M8 -> 90016 | O8: =N8 -> 90016 | P8: =O8 -> 90016 | Q8: =IF(D8="TOTAL",SUM($Q$5:Q7),IF('Master Sheet'!F8="YES",'D.A.Arrear Calculation'!F8/2*55%,"")) -> 0 | R8: =SUM(M8:Q8) -> 360064 | S8: =G8-M8 -> 3104 | T8: =H8-N8 -> 3104 | U8: =I8-O8 -> 3104 | V8: =J8-P8 -> 3104 | W8: =IF(K8="","",K8-Q8) -> 0 | X8: =SUM(S8:W8) -> 12416 | Y8: ='Master Sheet'!G8 -> 0 | Z8: =IF(D8="TOTAL",SUM($Z$5:Z7),IF(Y8="GPF",X8-AB8,0)) -> 0 | AA8: =IF(D8="TOTAL",SUM($AA$5:AA7),IF(Y8="GPF 2004",X8-AB8,0)) -> 12416 | AB8: =IF(D8="TOTAL",SUM($AB$5:AB7),ROUND(X8*'Master Sheet'!E8/100,0)) -> 0 | AC8: =SUM(Z8:AB8) -> 12416 | AD8: =X8-AC8 -> 0
A9: =IF('Master Sheet'!A9="","",'Master Sheet'!A9) | B9: =IFERROR(IF(A9="",(A8+1),A9),"") | C9: =VLOOKUP(A9,'Master Sheet'!$A$5:$G$1048576,2,0) -> 0 | D9: =IF(A9=B9,"","TOTAL") | E9: =IF(D9="TOTAL","TOTAL",'Master Sheet'!C9) -> 0 | F9: =IF(D9="TOTAL",SUM($F$5:F8),'Master Sheet'!D9) -> 0 | G9: =IFERROR(IF(D9="TOTAL",SUM($G$5:G8),F9*60/100),"") -> 0 | H9: =G9 -> 0 | I9: =H9 -> 0 | J9: =I9 -> 0 | K9: =IF(D9="TOTAL",SUM($K$5:K8),IF('Master Sheet'!F9="YES",'D.A.Arrear Calculation'!F9/2*58%,"")) | L9: =SUM(G9:K9) -> 0 | M9: =IFERROR(IF(D9="TOTAL",SUM($M$5:M8),F9*58/100),"") -> 0 | N9: =M9 -> 0 | O9: =N9 -> 0 | P9: =O9 -> 0 | Q9: =IF(D9="TOTAL",SUM($Q$5:Q8),IF('Master Sheet'!F9="YES",'D.A.Arrear Calculation'!F9/2*55%,"")) | R9: =SUM(M9:Q9) -> 0 | S9: =G9-M9 -> 0 | T9: =H9-N9 -> 0 | U9: =I9-O9 -> 0 | V9: =J9-P9 -> 0 | W9: =IF(K9="","",K9-Q9) | X9: =SUM(S9:W9) -> 0 | Y9: ='Master Sheet'!G9 -> 0 | Z9: =IF(D9="TOTAL",SUM($Z$5:Z8),IF(Y9="GPF",X9-AB9,0)) -> 0 | AA9: =IF(D9="TOTAL",SUM($AA$5:AA8),IF(Y9="GPF 2004",X9-AB9,0)) -> 0 | AB9: =IF(D9="TOTAL",SUM($AB$5:AB8),ROUND(X9*'Master Sheet'!E9/100,0)) -> 0 | AC9: =SUM(Z9:AB9) -> 0 | AD9: =X9-AC9 -> 0
A10: =IF('Master Sheet'!A10="","",'Master Sheet'!A10) | B10: =IFERROR(IF(A10="",(A9+1),A10),"") | C10: =VLOOKUP(A10,'Master Sheet'!$A$5:$G$1048576,2,0) -> 0 | D10: =IF(A10=B10,"","TOTAL") | E10: =IF(D10="TOTAL","TOTAL",'Master Sheet'!C10) -> 0 | F10: =IF(D10="TOTAL",SUM($F$5:F9),'Master Sheet'!D10) -> 0 | G10: =IFERROR(IF(D10="TOTAL",SUM($G$5:G9),F10*60/100),"") -> 0 | H10: =G10 -> 0 | I10: =H10 -> 0 | J10: =I10 -> 0 | K10: =IF(D10="TOTAL",SUM($K$5:K9),IF('Master Sheet'!F10="YES",'D.A.Arrear Calculation'!F10/2*58%,"")) | L10: =SUM(G10:K10) -> 0 | M10: =IFERROR(IF(D10="TOTAL",SUM($M$5:M9),F10*58/100),"") -> 0 | N10: =M10 -> 0 | O10: =N10 -> 0 | P10: =O10 -> 0 | Q10: =IF(D10="TOTAL",SUM($Q$5:Q9),IF('Master Sheet'!F10="YES",'D.A.Arrear Calculation'!F10/2*55%,"")) | R10: =SUM(M10:Q10) -> 0 | S10: =G10-M10 -> 0 | T10: =H10-N10 -> 0 | U10: =I10-O10 -> 0 | V10: =J10-P10 -> 0 | W10: =IF(K10="","",K10-Q10) | X10: =SUM(S10:W10) -> 0 | Y10: ='Master Sheet'!G10 -> 0 | Z10: =IF(D10="TOTAL",SUM($Z$5:Z9),IF(Y10="GPF",X10-AB10,0)) -> 0 | AA10: =IF(D10="TOTAL",SUM($AA$5:AA9),IF(Y10="GPF 2004",X10-AB10,0)) -> 0 | AB10: =IF(D10="TOTAL",SUM($AB$5:AB9),ROUND(X10*'Master Sheet'!E10/100,0)) -> 0 | AC10: =SUM(Z10:AB10) -> 0 | AD10: =X10-AC10 -> 0
A11: =IF('Master Sheet'!A11="","",'Master Sheet'!A11) | B11: =IFERROR(IF(A11="",(A10+1),A11),"") | C11: =VLOOKUP(A11,'Master Sheet'!$A$5:$G$1048576,2,0) -> 0 | D11: =IF(A11=B11,"","TOTAL") | E11: =IF(D11="TOTAL","TOTAL",'Master Sheet'!C11) -> 0 | F11: =IF(D11="TOTAL",SUM($F$5:F10),'Master Sheet'!D11) -> 0 | G11: =IFERROR(IF(D11="TOTAL",SUM($G$5:G10),F11*60/100),"") -> 0 | H11: =G11 -> 0 | I11: =H11 -> 0 | J11: =I11 -> 0 | K11: =IF(D11="TOTAL",SUM($K$5:K10),IF('Master Sheet'!F11="YES",'D.A.Arrear Calculation'!F11/2*58%,"")) | L11: =SUM(G11:K11) -> 0 | M11: =IFERROR(IF(D11="TOTAL",SUM($M$5:M10),F11*58/100),"") -> 0 | N11: =M11 -> 0 | O11: =N11 -> 0 | P11: =O11 -> 0 | Q11: =IF(D11="TOTAL",SUM($Q$5:Q10),IF('Master Sheet'!F11="YES",'D.A.Arrear Calculation'!F11/2*55%,"")) | R11: =SUM(M11:Q11) -> 0 | S11: =G11-M11 -> 0 | T11: =H11-N11 -> 0 | U11: =I11-O11 -> 0 | V11: =J11-P11 -> 0 | W11: =IF(K11="","",K11-Q11) | X11: =SUM(S11:W11) -> 0 | Y11: ='Master Sheet'!G11 -> 0 | Z11: =IF(D11="TOTAL",SUM($Z$5:Z10),IF(Y11="GPF",X11-AB11,0)) -> 0 | AA11: =IF(D11="TOTAL",SUM($AA$5:AA10),IF(Y11="GPF 2004",X11-AB11,0)) -> 0 | AB11: =IF(D11="TOTAL",SUM($AB$5:AB10),ROUND(X11*'Master Sheet'!E11/100,0)) -> 0 | AC11: =SUM(Z11:AB11) -> 0 | AD11: =X11-AC11 -> 0
A12: =IF('Master Sheet'!A12="","",'Master Sheet'!A12) | B12: =IFERROR(IF(A12="",(A11+1),A12),"") | C12: =VLOOKUP(A12,'Master Sheet'!$A$5:$G$1048576,2,0) -> 0 | D12: =IF(A12=B12,"","TOTAL") | E12: =IF(D12="TOTAL","TOTAL",'Master Sheet'!C12) -> 0 | F12: =IF(D12="TOTAL",SUM($F$5:F11),'Master Sheet'!D12) -> 0 | G12: =IFERROR(IF(D12="TOTAL",SUM($G$5:G11),F12*60/100),"") -> 0 | H12: =G12 -> 0 | I12: =H12 -> 0 | J12: =I12 -> 0 | K12: =IF(D12="TOTAL",SUM($K$5:K11),IF('Master Sheet'!F12="YES",'D.A.Arrear Calculation'!F12/2*58%,"")) | L12: =SUM(G12:K12) -> 0 | M12: =IFERROR(IF(D12="TOTAL",SUM($M$5:M11),F12*58/100),"") -> 0 | N12: =M12 -> 0 | O12: =N12 -> 0 | P12: =O12 -> 0 | Q12: =IF(D12="TOTAL",SUM($Q$5:Q11),IF('Master Sheet'!F12="YES",'D.A.Arrear Calculation'!F12/2*55%,"")) | R12: =SUM(M12:Q12) -> 0 | S12: =G12-M12 -> 0 | T12: =H12-N12 -> 0 | U12: =I12-O12 -> 0 | V12: =J12-P12 -> 0 | W12: =IF(K12="","",K12-Q12) | X12: =SUM(S12:W12) -> 0 | Y12: ='Master Sheet'!G12 -> 0 | Z12: =IF(D12="TOTAL",SUM($Z$5:Z11),IF(Y12="GPF",X12-AB12,0)) -> 0 | AA12: =IF(D12="TOTAL",SUM($AA$5:AA11),IF(Y12="GPF 2004",X12-AB12,0)) -> 0 | AB12: =IF(D12="TOTAL",SUM($AB$5:AB11),ROUND(X12*'Master Sheet'!E12/100,0)) -> 0 | AC12: =SUM(Z12:AB12) -> 0 | AD12: =X12-AC12 -> 0
A13: =IF('Master Sheet'!A13="","",'Master Sheet'!A13) | B13: =IFERROR(IF(A13="",(A12+1),A13),"") | C13: =VLOOKUP(A13,'Master Sheet'!$A$5:$G$1048576,2,0) -> 0 | D13: =IF(A13=B13,"","TOTAL") | E13: =IF(D13="TOTAL","TOTAL",'Master Sheet'!C13) -> 0 | F13: =IF(D13="TOTAL",SUM($F$5:F12),'Master Sheet'!D13) -> 0 | G13: =IFERROR(IF(D13="TOTAL",SUM($G$5:G12),F13*60/100),"") -> 0 | H13: =G13 -> 0 | I13: =H13 -> 0 | J13: =I13 -> 0 | K13: =IF(D13="TOTAL",SUM($K$5:K12),IF('Master Sheet'!F13="YES",'D.A.Arrear Calculation'!F13/2*58%,"")) | L13: =SUM(G13:K13) -> 0 | M13: =IFERROR(IF(D13="TOTAL",SUM($M$5:M12),F13*58/100),"") -> 0 | N13: =M13 -> 0 | O13: =N13 -> 0 | P13: =O13 -> 0 | Q13: =IF(D13="TOTAL",SUM($Q$5:Q12),IF('Master Sheet'!F13="YES",'D.A.Arrear Calculation'!F13/2*55%,"")) | R13: =SUM(M13:Q13) -> 0 | S13: =G13-M13 -> 0 | T13: =H13-N13 -> 0 | U13: =I13-O13 -> 0 | V13: =J13-P13 -> 0 | W13: =IF(K13="","",K13-Q13) | X13: =SUM(S13:W13) -> 0 | Y13: ='Master Sheet'!G13 -> 0 | Z13: =IF(D13="TOTAL",SUM($Z$5:Z12),IF(Y13="GPF",X13-AB13,0)) -> 0 | AA13: =IF(D13="TOTAL",SUM($AA$5:AA12),IF(Y13="GPF 2004",X13-AB13,0)) -> 0 | AB13: =IF(D13="TOTAL",SUM($AB$5:AB12),ROUND(X13*'Master Sheet'!E13/100,0)) -> 0 | AC13: =SUM(Z13:AB13) -> 0 | AD13: =X13-AC13 -> 0
A14: =IF('Master Sheet'!A14="","",'Master Sheet'!A14) | B14: =IFERROR(IF(A14="",(A13+1),A14),"") | C14: =VLOOKUP(A14,'Master Sheet'!$A$5:$G$1048576,2,0) -> 0 | D14: =IF(A14=B14,"","TOTAL") | E14: =IF(D14="TOTAL","TOTAL",'Master Sheet'!C14) -> 0 | F14: =IF(D14="TOTAL",SUM($F$5:F13),'Master Sheet'!D14) -> 0 | G14: =IFERROR(IF(D14="TOTAL",SUM($G$5:G13),F14*60/100),"") -> 0 | H14: =G14 -> 0 | I14: =H14 -> 0 | J14: =I14 -> 0 | K14: =IF(D14="TOTAL",SUM($K$5:K13),IF('Master Sheet'!F14="YES",'D.A.Arrear Calculation'!F14/2*58%,"")) | L14: =SUM(G14:K14) -> 0 | M14: =IFERROR(IF(D14="TOTAL",SUM($M$5:M13),F14*58/100),"") -> 0 | N14: =M14 -> 0 | O14: =N14 -> 0 | P14: =O14 -> 0 | Q14: =IF(D14="TOTAL",SUM($Q$5:Q13),IF('Master Sheet'!F14="YES",'D.A.Arrear Calculation'!F14/2*55%,"")) | R14: =SUM(M14:Q14) -> 0 | S14: =G14-M14 -> 0 | T14: =H14-N14 -> 0 | U14: =I14-O14 -> 0 | V14: =J14-P14 -> 0 | W14: =IF(K14="","",K14-Q14) | X14: =SUM(S14:W14) -> 0 | Y14: ='Master Sheet'!G14 -> 0 | Z14: =IF(D14="TOTAL",SUM($Z$5:Z13),IF(Y14="GPF",X14-AB14,0)) -> 0 | AA14: =IF(D14="TOTAL",SUM($AA$5:AA13),IF(Y14="GPF 2004",X14-AB14,0)) -> 0 | AB14: =IF(D14="TOTAL",SUM($AB$5:AB13),ROUND(X14*'Master Sheet'!E14/100,0)) -> 0 | AC14: =SUM(Z14:AB14) -> 0 | AD14: =X14-AC14 -> 0
A15: =IF('Master Sheet'!A15="","",'Master Sheet'!A15) | B15: =IFERROR(IF(A15="",(A14+1),A15),"") | C15: =VLOOKUP(A15,'Master Sheet'!$A$5:$G$1048576,2,0) -> 0 | D15: =IF(A15=B15,"","TOTAL") | E15: =IF(D15="TOTAL","TOTAL",'Master Sheet'!C15) -> 0 | F15: =IF(D15="TOTAL",SUM($F$5:F14),'Master Sheet'!D15) -> 0 | G15: =IFERROR(IF(D15="TOTAL",SUM($G$5:G14),F15*60/100),"") -> 0 | H15: =G15 -> 0 | I15: =H15 -> 0 | J15: =I15 -> 0 | K15: =IF(D15="TOTAL",SUM($K$5:K14),IF('Master Sheet'!F15="YES",'D.A.Arrear Calculation'!F15/2*58%,"")) | L15: =SUM(G15:K15) -> 0 | M15: =IFERROR(IF(D15="TOTAL",SUM($M$5:M14),F15*58/100),"") -> 0 | N15: =M15 -> 0 | O15: =N15 -> 0 | P15: =O15 -> 0 | Q15: =IF(D15="TOTAL",SUM($Q$5:Q14),IF('Master Sheet'!F15="YES",'D.A.Arrear Calculation'!F15/2*55%,"")) | R15: =SUM(M15:Q15) -> 0 | S15: =G15-M15 -> 0 | T15: =H15-N15 -> 0 | U15: =I15-O15 -> 0 | V15: =J15-P15 -> 0 | W15: =IF(K15="","",K15-Q15) | X15: =SUM(S15:W15) -> 0 | Y15: ='Master Sheet'!G15 -> 0 | Z15: =IF(D15="TOTAL",SUM($Z$5:Z14),IF(Y15="GPF",X15-AB15,0)) -> 0 | AA15: =IF(D15="TOTAL",SUM($AA$5:AA14),IF(Y15="GPF 2004",X15-AB15,0)) -> 0 | AB15: =IF(D15="TOTAL",SUM($AB$5:AB14),ROUND(X15*'Master Sheet'!E15/100,0)) -> 0 | AC15: =SUM(Z15:AB15) -> 0 | AD15: =X15-AC15 -> 0
A16: =IF('Master Sheet'!A16="","",'Master Sheet'!A16) | B16: =IFERROR(IF(A16="",(A15+1),A16),"") | C16: =VLOOKUP(A16,'Master Sheet'!$A$5:$G$1048576,2,0) -> 0 | D16: =IF(A16=B16,"","TOTAL") | E16: =IF(D16="TOTAL","TOTAL",'Master Sheet'!C16) -> 0 | F16: =IF(D16="TOTAL",SUM($F$5:F15),'Master Sheet'!D16) -> 0 | G16: =IFERROR(IF(D16="TOTAL",SUM($G$5:G15),F16*60/100),"") -> 0 | H16: =G16 -> 0 | I16: =H16 -> 0 | J16: =I16 -> 0 | K16: =IF(D16="TOTAL",SUM($K$5:K15),IF('Master Sheet'!F16="YES",'D.A.Arrear Calculation'!F16/2*58%,"")) | L16: =SUM(G16:K16) -> 0 | M16: =IFERROR(IF(D16="TOTAL",SUM($M$5:M15),F16*58/100),"") -> 0 | N16: =M16 -> 0 | O16: =N16 -> 0 | P16: =O16 -> 0 | Q16: =IF(D16="TOTAL",SUM($Q$5:Q15),IF('Master Sheet'!F16="YES",'D.A.Arrear Calculation'!F16/2*55%,"")) | R16: =SUM(M16:Q16) -> 0 | S16: =G16-M16 -> 0 | T16: =H16-N16 -> 0 | U16: =I16-O16 -> 0 | V16: =J16-P16 -> 0 | W16: =IF(K16="","",K16-Q16) | X16: =SUM(S16:W16) -> 0 | Y16: ='Master Sheet'!G16 -> 0 | Z16: =IF(D16="TOTAL",SUM($Z$5:Z15),IF(Y16="GPF",X16-AB16,0)) -> 0 | AA16: =IF(D16="TOTAL",SUM($AA$5:AA15),IF(Y16="GPF 2004",X16-AB16,0)) -> 0 | AB16: =IF(D16="TOTAL",SUM($AB$5:AB15),ROUND(X16*'Master Sheet'!E16/100,0)) -> 0 | AC16: =SUM(Z16:AB16) -> 0 | AD16: =X16-AC16 -> 0
A17: =IF('Master Sheet'!A17="","",'Master Sheet'!A17) | B17: =IFERROR(IF(A17="",(A16+1),A17),"") | C17: =VLOOKUP(A17,'Master Sheet'!$A$5:$G$1048576,2,0) -> 0 | D17: =IF(A17=B17,"","TOTAL") | E17: =IF(D17="TOTAL","TOTAL",'Master Sheet'!C17) -> 0 | F17: =IF(D17="TOTAL",SUM($F$5:F16),'Master Sheet'!D17) -> 0 | G17: =IFERROR(IF(D17="TOTAL",SUM($G$5:G16),F17*60/100),"") -> 0 | H17: =G17 -> 0 | I17: =H17 -> 0 | J17: =I17 -> 0 | K17: =IF(D17="TOTAL",SUM($K$5:K16),IF('Master Sheet'!F17="YES",'D.A.Arrear Calculation'!F17/2*58%,"")) | L17: =SUM(G17:K17) -> 0 | M17: =IFERROR(IF(D17="TOTAL",SUM($M$5:M16),F17*58/100),"") -> 0 | N17: =M17 -> 0 | O17: =N17 -> 0 | P17: =O17 -> 0 | Q17: =IF(D17="TOTAL",SUM($Q$5:Q16),IF('Master Sheet'!F17="YES",'D.A.Arrear Calculation'!F17/2*55%,"")) | R17: =SUM(M17:Q17) -> 0 | S17: =G17-M17 -> 0 | T17: =H17-N17 -> 0 | U17: =I17-O17 -> 0 | V17: =J17-P17 -> 0 | W17: =IF(K17="","",K17-Q17) | X17: =SUM(S17:W17) -> 0 | Y17: ='Master Sheet'!G17 -> 0 | Z17: =IF(D17="TOTAL",SUM($Z$5:Z16),IF(Y17="GPF",X17-AB17,0)) -> 0 | AA17: =IF(D17="TOTAL",SUM($AA$5:AA16),IF(Y17="GPF 2004",X17-AB17,0)) -> 0 | AB17: =IF(D17="TOTAL",SUM($AB$5:AB16),ROUND(X17*'Master Sheet'!E17/100,0)) -> 0 | AC17: =SUM(Z17:AB17) -> 0 | AD17: =X17-AC17 -> 0
A18: =IF('Master Sheet'!A18="","",'Master Sheet'!A18) | B18: =IFERROR(IF(A18="",(A17+1),A18),"") | C18: =VLOOKUP(A18,'Master Sheet'!$A$5:$G$1048576,2,0) -> 0 | D18: =IF(A18=B18,"","TOTAL") | E18: =IF(D18="TOTAL","TOTAL",'Master Sheet'!C18) -> 0 | F18: =IF(D18="TOTAL",SUM($F$5:F17),'Master Sheet'!D18) -> 0 | G18: =IFERROR(IF(D18="TOTAL",SUM($G$5:G17),F18*60/100),"") -> 0 | H18: =G18 -> 0 | I18: =H18 -> 0 | J18: =I18 -> 0 | K18: =IF(D18="TOTAL",SUM($K$5:K17),IF('Master Sheet'!F18="YES",'D.A.Arrear Calculation'!F18/2*58%,"")) | L18: =SUM(G18:K18) -> 0 | M18: =IFERROR(IF(D18="TOTAL",SUM($M$5:M17),F18*58/100),"") -> 0 | N18: =M18 -> 0 | O18: =N18 -> 0 | P18: =O18 -> 0 | Q18: =IF(D18="TOTAL",SUM($Q$5:Q17),IF('Master Sheet'!F18="YES",'D.A.Arrear Calculation'!F18/2*55%,"")) | R18: =SUM(M18:Q18) -> 0 | S18: =G18-M18 -> 0 | T18: =H18-N18 -> 0 | U18: =I18-O18 -> 0 | V18: =J18-P18 -> 0 | W18: =IF(K18="","",K18-Q18) | X18: =SUM(S18:W18) -> 0 | Y18: ='Master Sheet'!G18 -> 0 | Z18: =IF(D18="TOTAL",SUM($Z$5:Z17),IF(Y18="GPF",X18-AB18,0)) -> 0 | AA18: =IF(D18="TOTAL",SUM($AA$5:AA17),IF(Y18="GPF 2004",X18-AB18,0)) -> 0 | AB18: =IF(D18="TOTAL",SUM($AB$5:AB17),ROUND(X18*'Master Sheet'!E18/100,0)) -> 0 | AC18: =SUM(Z18:AB18) -> 0 | AD18: =X18-AC18 -> 0
... A24: =IF('Master Sheet'!A24="","",'Master Sheet'!A24) | B24: =IFERROR(IF(A24="",(A23+1),A24),"") | C24: =VLOOKUP(A24,'Master Sheet'!$A$5:$G$1048576,2,0) -> 0 | D24: =IF(A24=B24,"","TOTAL") | E24: =IF(D24="TOTAL","TOTAL",'Master Sheet'!C24) -> 0 | F24: =IF(D24="TOTAL",SUM($F$5:F23),'Master Sheet'!D24) -> 0 | G24: =IFERROR(IF(D24="TOTAL",SUM($G$5:G23),F24*60/100),"") -> 0 | H24: =G24 -> 0 | I24: =H24 -> 0 | J24: =I24 -> 0 | K24: =IF(D24="TOTAL",SUM($K$5:K23),IF('Master Sheet'!F24="YES",'D.A.Arrear Calculation'!F24/2*58%,"")) | L24: =SUM(G24:K24) -> 0 | M24: =IFERROR(IF(D24="TOTAL",SUM($M$5:M23),F24*58/100),"") -> 0 | N24: =M24 -> 0 | O24: =N24 -> 0 | P24: =O24 -> 0 | Q24: =IF(D24="TOTAL",SUM($Q$5:Q23),IF('Master Sheet'!F24="YES",'D.A.Arrear Calculation'!F24/2*55%,"")) | R24: =SUM(M24:Q24) -> 0 | S24: =G24-M24 -> 0 | T24: =H24-N24 -> 0 | U24: =I24-O24 -> 0 | V24: =J24-P24 -> 0 | W24: =IF(K24="","",K24-Q24) | X24: =SUM(S24:W24) -> 0 | Y24: ='Master Sheet'!G24 -> 0 | Z24: =IF(D24="TOTAL",SUM($Z$5:Z23),IF(Y24="GPF",X24-AB24,0)) -> 0 | AA24: =IF(D24="TOTAL",SUM($AA$5:AA23),IF(Y24="GPF 2004",X24-AB24,0)) -> 0 | AB24: =IF(D24="TOTAL",SUM($AB$5:AB23),ROUND(X24*'Master Sheet'!E24/100,0)) -> 0 | AC24: =SUM(Z24:AB24) -> 0 | AD24: =X24-AC24 -> 0
B25: =IFERROR(IF(A25="",(A24+1),A25),"") | D25: =IF(A25=B25,"","TOTAL") | E25: =IF(D25="TOTAL","TOTAL",'Master Sheet'!C25) -> 0 | F25: =IF(D25="TOTAL",SUM($F$5:F24),'Master Sheet'!D25) -> 0 | G25: =IFERROR(IF(D25="TOTAL",SUM($G$5:G24),F25*60/100),"") -> 0 | H25: =G25 -> 0 | I25: =H25 -> 0 | J25: =I25 -> 0 | K25: =IF(D25="TOTAL",SUM($K$5:K24),IF('Master Sheet'!F25="YES",'D.A.Arrear Calculation'!F25/2*58%,"")) | L25: =SUM(G25:K25) -> 0 | M25: =IFERROR(IF(D25="TOTAL",SUM($M$5:M24),F25*58/100),"") -> 0 | N25: =M25 -> 0 | O25: =N25 -> 0 | P25: =O25 -> 0 | Q25: =IF(D25="TOTAL",SUM($Q$5:Q24),IF('Master Sheet'!F25="YES",'D.A.Arrear Calculation'!F25/2*55%,"")) | R25: =SUM(M25:Q25) -> 0 | S25: =G25-M25 -> 0 | T25: =H25-N25 -> 0 | U25: =I25-O25 -> 0 | V25: =J25-P25 -> 0 | W25: =IF(K25="","",K25-Q25) | X25: =SUM(S25:W25) -> 0 | Y25: ='Master Sheet'!G25 -> 0 | Z25: =IF(D25="TOTAL",SUM($Z$5:Z24),IF(Y25="GPF",X25-AB25,0)) -> 0 | AA25: =IF(D25="TOTAL",SUM($AA$5:AA24),IF(Y25="GPF 2004",X25-AB25,0)) -> 0 | AB25: =IF(D25="TOTAL",SUM($AB$5:AB24),ROUND(X25*'Master Sheet'!E25/100,0)) -> 0 | AC25: =SUM(Z25:AB25) -> 0 | AD25: =X25-AC25 -> 0
