Workbook

Sheet GUIDANCE
B2: &%mi;ksx gsrq fn'kk funsZ'k%& | O2: lq>ko@lq/kkj gsrq laidZ djsaA
B3: 1 | C3: loZ izFke d`frnso 010 QkWUV bUlVkWy djsaA | O3: 9664061084
B4: 2 | C4: MkVk ,UVªh 'khV ds dsoy ihys lsy HkjsaA
B5: 3 | C5: ,e-Mh-,e- 'khV esa dsoy izkFkfed ,oa mPp izkFkfed ykHkkfUor cPpksa dh la[;k ihys lsy esa Hkjsa ,oa mi;ksx esa fy;s x;s [kk|kUu esa xsag¡w ;k pkoy lysDV djsaA
B6: 4 | C6: vuqekfur fcy okyh 'khV essa vko';drkuqlkj lkexzh dh nj fy[ksa] lCth]Qy dk uke fy[ksa] xSl [kpZ esa flys.Mj dh la[;k ntZ djsa o nj HkjsaA fdjk.kk lkexzh esa ek=k jkmUM okys dkWye esa lkexzh dh ek=k dks ,fMV djus ds fy;s vuykWd j[kk x;k gS vr% ogka ls ek=k ,fMV dj ldrs gSA
B7: 5 | C7: Qy okys fcy esa ekg esa vkus okys eaxyokj dh fnukad fn[kkbZ nsxh vko';drkuqlkj cny ldrs gSaA
B8: 6 | C8: ;g 'khV dsoy vuqeku ds fy;s gSA
B9: 'khV rS;kj djus esa iwjh lko/kkuh cjrh xbZ gS fQj Hkh dksbZ folaxrh jgrh gS rks foHkkxh; fn'kkfunsZ'k gh ekU; gkxsa] 'khV rS;kj drkZ dh dksbZ ftEesnkjh ugha gksxhA

Sheet DATA ENTRY
B2: fo|ky; dk uke%& | J2: dsoy ihys lsy HkjsaA
B3: iks"kkgkj izHkkjh dk uke%& | C3: lquhy dqekj egkoj | E3: lgk;d izHkkjh dk uke%& | G3: eqds'k dqekj ehuk
B4: eksckbZy uEcj%& | C4: 9664061084 | E4: eksckbZy uEcj%& | G4: 9664061084
B5: ekg dk uke%& | C5: 45870 | E5: iz/kkuk/;kid dk uke%& | G5: Jherh lqfe=k lksuh
B6: nj izfr Nk=%& | C6: izkFkfed | D6: mPp izkFkfed | E6: %&'khV fuekZ.k drkZ%&
C7: 6.78 | D7: 10.17 | E7: lquhy dqekj egkoj v- jkmekfo ohj/kksfy;k
B8: ekfld [kk|kUu forj.k ,oa LVkWd fooj.k
B10: [kk|kUu fooj.k | C10: izkFkfed | E10: mPp izkFkfed | G10: ykHkkfUor Nk= | H10: O;; jkf'k
C11: xsgwa dk fooj.k fdxzk- | D11: pkoy dk fooj.k fdxzk- | E11: xsgwa dk fooj.k fdxzk- | F11: pkoy dk fooj.k fdxzk-
B12: izkjafHkd 'ks"k | C12: 1001.1 | D12: 327.5 | E12: 965.9 | F12: 230.8 | G12: 1 ls 5 | H12: =Sheet2!H6 -> 6929
B13: izkIr | C13: 200 | D13: 150 | E13: 0 | F13: 0 | G13: ='DAILY REGESTER'!B35 -> 1022
B14: ;ksx | C14: =SUM(C12:C13) -> 1201.1 | D14: =SUM(D12:D13) -> 477.5 | E14: =SUM(E12:E13) -> 965.9 | F14: =SUM(F12:F13) -> 230.8 | G14: 6 ls 8 | H14: =Sheet2!H8 -> 19567
B15: O;; | C15: =Sheet2!C9 -> 64.1 | D15: =Sheet2!D9 -> 38.1 | E15: =Sheet2!E9 -> 175.8 | F15: =Sheet2!F9 -> 112.8 | G15: ='DAILY REGESTER'!C35 -> 1924
B16: vafre 'ks"k | C16: =C14-C15 -> 1137 | D16: =D14-D15 -> 439.4 | E16: =E14-E15 -> 790.1 | F16: =F14-F15 -> 118 | G16: dqy ;ksx | H16: =Sheet2!H10 -> 26496
G17: =G13+G15 -> 2946
D29: 46023
D30: 46054
D31: 46082
D32: 45748
D33: 45778
D34: 45809
D35: 45839
D36: 45870
D37: 45901
D38: 45931
D39: 45962
D40: 45992

Sheet DAILY REGESTER
A1: ='DATA ENTRY'!C2
A2: दिनांक | B2: MDM से लाभान्वित | E2: गेंहू का विवरण | J2: चावल का विवरण | O2: उपयोग में लिया गया खाद्यान्न | P2: nky 1ls 5 | Q2: nky 6 ls 8 | R2: dqy nky | S2: lCth 1 ls 5 | T2: lCth 6 ls 8 | U2: dqy lCth | V2: dqy lCth | AA2: dsoy ihys lsy HkjsaA
B3: कक्षा 1 से 5 तक | C3: कक्षा 6 से 8 तक | E3: प्राम्भिक शेष | F3: पो. सप्लायर से प्राप्त | G3: योग | H3: व्यय | I3: अंतिम शेष | J3: प्राम्भिक शेष | K3: पो. सप्लायर से प्राप्त | L3: योग | M3: व्यय | N3: अंतिम शेष | AA3: jsM lsy jfookj ds gS vr% 0 HkjsaA
A4: ='DATA ENTRY'!C5 -> 45870 | B4: 56 | C4: 104 | D4: =SUM(B4:C4) -> 160 | E4: ='DATA ENTRY'!C12+'DATA ENTRY'!E12 -> 1967 | G4: =E4+F4 -> 1967 | H4: =IF(AND(ISNUMBER(SEARCH("गेहूं",O4))),(B4*100/1000)+(C4*150/1000),0) -> 21.2 | I4: =G4-H4 -> 1945.8 | J4: ='DATA ENTRY'!D12+'DATA ENTRY'!F12 -> 558.3 | L4: =J4+K4 -> 558.3 | M4: =IF(AND(ISNUMBER(SEARCH("चावल",O4))),(B4*100/1000)+(C4*150/1000),0) -> 0 | N4: =L4-M4 -> 558.3 | O4: गेहूं | P4: =B4*0.02 -> 1.12 | Q4: =C4*0.03 -> 3.12 | R4: =P4+Q4 -> 4.24 | S4: =B4*0.05 -> 2.8 | T4: =C4*0.075 -> 7.8 | U4: =S4+T4 -> 10.6 | V4: =MROUND(U4,0.1) -> 10.6 | W4: =IF(AND(ISNUMBER(SEARCH("गेहूं",O4))),(B4*100/1000),0) -> 5.6 | X4: =IF(AND(ISNUMBER(SEARCH("गेहूं",O4))),(C4*150/1000),0) -> 15.6 | Y4: =IF(AND(ISNUMBER(SEARCH("चावल",O4))),(B4*100/1000),0) -> 0 | Z4: =IF(AND(ISNUMBER(SEARCH("चावल",O4))),(C4*150/1000),0) -> 0
A5: =A4+1 -> 45871 | B5: 58 | C5: 100 | D5: =SUM(B5:C5) -> 158 | E5: =I4 -> 1945.8 | G5: =E5+F5 -> 1945.8 | H5: =IF(AND(ISNUMBER(SEARCH("गेहूं",O5))),(B5*100/1000)+(C5*150/1000),0) -> 20.8 | I5: =G5-H5 -> 1925 | J5: =N4 -> 558.3 | L5: =J5+K5 -> 558.3 | M5: =IF(AND(ISNUMBER(SEARCH("चावल",O5))),(B5*100/1000)+(C5*150/1000),0) -> 0 | N5: =L5-M5 -> 558.3 | O5: गेहूं | P5: =B5*0.02 -> 1.16 | Q5: =C5*0.03 -> 3 | R5: =P5+Q5 -> 4.16 | S5: =B5*0.05 -> 2.9 | T5: =C5*0.075 -> 7.5 | U5: =S5+T5 -> 10.4 | V5: =MROUND(U5,0.1) -> 10.4 | W5: =IF(AND(ISNUMBER(SEARCH("गेहूं",O5))),(B5*100/1000),0) -> 5.8 | X5: =IF(AND(ISNUMBER(SEARCH("गेहूं",O5))),(C5*150/1000),0) -> 15 | Y5: =IF(AND(ISNUMBER(SEARCH("चावल",O5))),(B5*100/1000),0) -> 0 | Z5: =IF(AND(ISNUMBER(SEARCH("चावल",O5))),(C5*150/1000),0) -> 0
A6: =A5+1 -> 45872 | B6: 0 | C6: 0 | D6: =SUM(B6:C6) -> 0 | E6: =I5 -> 1925 | G6: =E6+F6 -> 1925 | H6: =IF(AND(ISNUMBER(SEARCH("गेहूं",O6))),(B6*100/1000)+(C6*150/1000),0) -> 0 | I6: =G6-H6 -> 1925 | J6: =N5 -> 558.3 | L6: =J6+K6 -> 558.3 | M6: =IF(AND(ISNUMBER(SEARCH("चावल",O6))),(B6*100/1000)+(C6*150/1000),0) -> 0 | N6: =L6-M6 -> 558.3 | O6: चावल | P6: =B6*0.02 -> 0 | Q6: =C6*0.03 -> 0 | R6: =P6+Q6 -> 0 | S6: =B6*0.05 -> 0 | T6: =C6*0.075 -> 0 | U6: =S6+T6 -> 0 | V6: =MROUND(U6,0.1) -> 0 | W6: =IF(AND(ISNUMBER(SEARCH("गेहूं",O6))),(B6*100/1000),0) -> 0 | X6: =IF(AND(ISNUMBER(SEARCH("गेहूं",O6))),(C6*150/1000),0) -> 0 | Y6: =IF(AND(ISNUMBER(SEARCH("चावल",O6))),(B6*100/1000),0) -> 0 | Z6: =IF(AND(ISNUMBER(SEARCH("चावल",O6))),(C6*150/1000),0) -> 0
A7: =A6+1 -> 45873 | B7: 54 | C7: 91 | D7: =SUM(B7:C7) -> 145 | E7: =I6 -> 1925 | G7: =E7+F7 -> 1925 | H7: =IF(AND(ISNUMBER(SEARCH("गेहूं",O7))),(B7*100/1000)+(C7*150/1000),0) -> 19.05 | I7: =G7-H7 -> 1905.95 | J7: =N6 -> 558.3 | L7: =J7+K7 -> 558.3 | M7: =IF(AND(ISNUMBER(SEARCH("चावल",O7))),(B7*100/1000)+(C7*150/1000),0) -> 0 | N7: =L7-M7 -> 558.3 | O7: गेहूं | P7: =B7*0.02 -> 1.08 | Q7: =C7*0.03 -> 2.73 | R7: =P7+Q7 -> 3.81 | S7: =B7*0.05 -> 2.7 | T7: =C7*0.075 -> 6.825 | U7: =S7+T7 -> 9.525 | V7: =MROUND(U7,0.1) -> 9.5 | W7: =IF(AND(ISNUMBER(SEARCH("गेहूं",O7))),(B7*100/1000),0) -> 5.4 | X7: =IF(AND(ISNUMBER(SEARCH("गेहूं",O7))),(C7*150/1000),0) -> 13.65 | Y7: =IF(AND(ISNUMBER(SEARCH("चावल",O7))),(B7*100/1000),0) -> 0 | Z7: =IF(AND(ISNUMBER(SEARCH("चावल",O7))),(C7*150/1000),0) -> 0
A8: =A7+1 -> 45874 | B8: 59 | C8: 108 | D8: =SUM(B8:C8) -> 167 | E8: =I7 -> 1905.95 | G8: =E8+F8 -> 1905.95 | H8: =IF(AND(ISNUMBER(SEARCH("गेहूं",O8))),(B8*100/1000)+(C8*150/1000),0) -> 0 | I8: =G8-H8 -> 1905.95 | J8: =N7 -> 558.3 | L8: =J8+K8 -> 558.3 | M8: =IF(AND(ISNUMBER(SEARCH("चावल",O8))),(B8*100/1000)+(C8*150/1000),0) -> 22.1 | N8: =L8-M8 -> 536.2 | O8: चावल | P8: =B8*0.02 -> 1.18 | Q8: =C8*0.03 -> 3.24 | R8: =P8+Q8 -> 4.42 | S8: =B8*0.05 -> 2.95 | T8: =C8*0.075 -> 8.1 | U8: =S8+T8 -> 11.05 | V8: =MROUND(U8,0.1) -> 11.1 | W8: =IF(AND(ISNUMBER(SEARCH("गेहूं",O8))),(B8*100/1000),0) -> 0 | X8: =IF(AND(ISNUMBER(SEARCH("गेहूं",O8))),(C8*150/1000),0) -> 0 | Y8: =IF(AND(ISNUMBER(SEARCH("चावल",O8))),(B8*100/1000),0) -> 5.9 | Z8: =IF(AND(ISNUMBER(SEARCH("चावल",O8))),(C8*150/1000),0) -> 16.2
A9: =A8+1 -> 45875 | B9: 0 | C9: 0 | D9: =SUM(B9:C9) -> 0 | E9: =I8 -> 1905.95 | G9: =E9+F9 -> 1905.95 | H9: =IF(AND(ISNUMBER(SEARCH("गेहूं",O9))),(B9*100/1000)+(C9*150/1000),0) -> 0 | I9: =G9-H9 -> 1905.95 | J9: =N8 -> 536.2 | L9: =J9+K9 -> 536.2 | M9: =IF(AND(ISNUMBER(SEARCH("चावल",O9))),(B9*100/1000)+(C9*150/1000),0) -> 0 | N9: =L9-M9 -> 536.2 | O9: गेहूं | P9: =B9*0.02 -> 0 | Q9: =C9*0.03 -> 0 | R9: =P9+Q9 -> 0 | S9: =B9*0.05 -> 0 | T9: =C9*0.075 -> 0 | U9: =S9+T9 -> 0 | V9: =MROUND(U9,0.1) -> 0 | W9: =IF(AND(ISNUMBER(SEARCH("गेहूं",O9))),(B9*100/1000),0) -> 0 | X9: =IF(AND(ISNUMBER(SEARCH("गेहूं",O9))),(C9*150/1000),0) -> 0 | Y9: =IF(AND(ISNUMBER(SEARCH("चावल",O9))),(B9*100/1000),0) -> 0 | Z9: =IF(AND(ISNUMBER(SEARCH("चावल",O9))),(C9*150/1000),0) -> 0
A10: =A9+1 -> 45876 | B10: 36 | C10: 98 | D10: =SUM(B10:C10) -> 134 | E10: =I9 -> 1905.95 | G10: =E10+F10 -> 1905.95 | H10: =IF(AND(ISNUMBER(SEARCH("गेहूं",O10))),(B10*100/1000)+(C10*150/1000),0) -> 0 | I10: =G10-H10 -> 1905.95 | J10: =N9 -> 536.2 | L10: =J10+K10 -> 536.2 | M10: =IF(AND(ISNUMBER(SEARCH("चावल",O10))),(B10*100/1000)+(C10*150/1000),0) -> 18.3 | N10: =L10-M10 -> 517.9 | O10: चावल | P10: =B10*0.02 -> 0.72 | Q10: =C10*0.03 -> 2.94 | R10: =P10+Q10 -> 3.66 | S10: =B10*0.05 -> 1.8 | T10: =C10*0.075 -> 7.35 | U10: =S10+T10 -> 9.15 | V10: =MROUND(U10,0.1) -> 9.2 | W10: =IF(AND(ISNUMBER(SEARCH("गेहूं",O10))),(B10*100/1000),0) -> 0 | X10: =IF(AND(ISNUMBER(SEARCH("गेहूं",O10))),(C10*150/1000),0) -> 0 | Y10: =IF(AND(ISNUMBER(SEARCH("चावल",O10))),(B10*100/1000),0) -> 3.6 | Z10: =IF(AND(ISNUMBER(SEARCH("चावल",O10))),(C10*150/1000),0) -> 14.7
A11: =A10+1 -> 45877 | B11: 54 | C11: 101 | D11: =SUM(B11:C11) -> 155 | E11: =I10 -> 1905.95 | G11: =E11+F11 -> 1905.95 | H11: =IF(AND(ISNUMBER(SEARCH("गेहूं",O11))),(B11*100/1000)+(C11*150/1000),0) -> 20.55 | I11: =G11-H11 -> 1885.4 | J11: =N10 -> 517.9 | L11: =J11+K11 -> 517.9 | M11: =IF(AND(ISNUMBER(SEARCH("चावल",O11))),(B11*100/1000)+(C11*150/1000),0) -> 0 | N11: =L11-M11 -> 517.9 | O11: गेहूं | P11: =B11*0.02 -> 1.08 | Q11: =C11*0.03 -> 3.03 | R11: =P11+Q11 -> 4.11 | S11: =B11*0.05 -> 2.7 | T11: =C11*0.075 -> 7.575 | U11: =S11+T11 -> 10.275 | V11: =MROUND(U11,0.1) -> 10.3 | W11: =IF(AND(ISNUMBER(SEARCH("गेहूं",O11))),(B11*100/1000),0) -> 5.4 | X11: =IF(AND(ISNUMBER(SEARCH("गेहूं",O11))),(C11*150/1000),0) -> 15.15 | Y11: =IF(AND(ISNUMBER(SEARCH("चावल",O11))),(B11*100/1000),0) -> 0 | Z11: =IF(AND(ISNUMBER(SEARCH("चावल",O11))),(C11*150/1000),0) -> 0
A12: =A11+1 -> 45878 | B12: 0 | C12: 0 | D12: =SUM(B12:C12) -> 0 | E12: =I11 -> 1885.4 | G12: =E12+F12 -> 1885.4 | H12: =IF(AND(ISNUMBER(SEARCH("गेहूं",O12))),(B12*100/1000)+(C12*150/1000),0) -> 0 | I12: =G12-H12 -> 1885.4 | J12: =N11 -> 517.9 | L12: =J12+K12 -> 517.9 | M12: =IF(AND(ISNUMBER(SEARCH("चावल",O12))),(B12*100/1000)+(C12*150/1000),0) -> 0 | N12: =L12-M12 -> 517.9 | O12: गेहूं | P12: =B12*0.02 -> 0 | Q12: =C12*0.03 -> 0 | R12: =P12+Q12 -> 0 | S12: =B12*0.05 -> 0 | T12: =C12*0.075 -> 0 | U12: =S12+T12 -> 0 | V12: =MROUND(U12,0.1) -> 0 | W12: =IF(AND(ISNUMBER(SEARCH("गेहूं",O12))),(B12*100/1000),0) -> 0 | X12: =IF(AND(ISNUMBER(SEARCH("गेहूं",O12))),(C12*150/1000),0) -> 0 | Y12: =IF(AND(ISNUMBER(SEARCH("चावल",O12))),(B12*100/1000),0) -> 0 | Z12: =IF(AND(ISNUMBER(SEARCH("चावल",O12))),(C12*150/1000),0) -> 0
A13: =A12+1 -> 45879 | B13: 0 | C13: 0 | D13: =SUM(B13:C13) -> 0 | E13: =I12 -> 1885.4 | G13: =E13+F13 -> 1885.4 | H13: =IF(AND(ISNUMBER(SEARCH("गेहूं",O13))),(B13*100/1000)+(C13*150/1000),0) -> 0 | I13: =G13-H13 -> 1885.4 | J13: =N12 -> 517.9 | L13: =J13+K13 -> 517.9 | M13: =IF(AND(ISNUMBER(SEARCH("चावल",O13))),(B13*100/1000)+(C13*150/1000),0) -> 0 | N13: =L13-M13 -> 517.9 | O13: चावल | P13: =B13*0.02 -> 0 | Q13: =C13*0.03 -> 0 | R13: =P13+Q13 -> 0 | S13: =B13*0.05 -> 0 | T13: =C13*0.075 -> 0 | U13: =S13+T13 -> 0 | V13: =MROUND(U13,0.1) -> 0 | W13: =IF(AND(ISNUMBER(SEARCH("गेहूं",O13))),(B13*100/1000),0) -> 0 | X13: =IF(AND(ISNUMBER(SEARCH("गेहूं",O13))),(C13*150/1000),0) -> 0 | Y13: =IF(AND(ISNUMBER(SEARCH("चावल",O13))),(B13*100/1000),0) -> 0 | Z13: =IF(AND(ISNUMBER(SEARCH("चावल",O13))),(C13*150/1000),0) -> 0
A14: =A13+1 -> 45880 | B14: 39 | C14: 69 | D14: =SUM(B14:C14) -> 108 | E14: =I13 -> 1885.4 | G14: =E14+F14 -> 1885.4 | H14: =IF(AND(ISNUMBER(SEARCH("गेहूं",O14))),(B14*100/1000)+(C14*150/1000),0) -> 14.25 | I14: =G14-H14 -> 1871.15 | J14: =N13 -> 517.9 | L14: =J14+K14 -> 517.9 | M14: =IF(AND(ISNUMBER(SEARCH("चावल",O14))),(B14*100/1000)+(C14*150/1000),0) -> 0 | N14: =L14-M14 -> 517.9 | O14: गेहूं | P14: =B14*0.02 -> 0.78 | Q14: =C14*0.03 -> 2.07 | R14: =P14+Q14 -> 2.85 | S14: =B14*0.05 -> 1.95 | T14: =C14*0.075 -> 5.175 | U14: =S14+T14 -> 7.125 | V14: =MROUND(U14,0.1) -> 7.1 | W14: =IF(AND(ISNUMBER(SEARCH("गेहूं",O14))),(B14*100/1000),0) -> 3.9 | X14: =IF(AND(ISNUMBER(SEARCH("गेहूं",O14))),(C14*150/1000),0) -> 10.35 | Y14: =IF(AND(ISNUMBER(SEARCH("चावल",O14))),(B14*100/1000),0) -> 0 | Z14: =IF(AND(ISNUMBER(SEARCH("चावल",O14))),(C14*150/1000),0) -> 0
A15: =A14+1 -> 45881 | B15: 52 | C15: 103 | D15: =SUM(B15:C15) -> 155 | E15: =I14 -> 1871.15 | G15: =E15+F15 -> 1871.15 | H15: =IF(AND(ISNUMBER(SEARCH("गेहूं",O15))),(B15*100/1000)+(C15*150/1000),0) -> 0 | I15: =G15-H15 -> 1871.15 | J15: =N14 -> 517.9 | L15: =J15+K15 -> 517.9 | M15: =IF(AND(ISNUMBER(SEARCH("चावल",O15))),(B15*100/1000)+(C15*150/1000),0) -> 20.65 | N15: =L15-M15 -> 497.25 | O15: चावल | P15: =B15*0.02 -> 1.04 | Q15: =C15*0.03 -> 3.09 | R15: =P15+Q15 -> 4.13 | S15: =B15*0.05 -> 2.6 | T15: =C15*0.075 -> 7.725 | U15: =S15+T15 -> 10.325 | V15: =MROUND(U15,0.1) -> 10.3 | W15: =IF(AND(ISNUMBER(SEARCH("गेहूं",O15))),(B15*100/1000),0) -> 0 | X15: =IF(AND(ISNUMBER(SEARCH("गेहूं",O15))),(C15*150/1000),0) -> 0 | Y15: =IF(AND(ISNUMBER(SEARCH("चावल",O15))),(B15*100/1000),0) -> 5.2 | Z15: =IF(AND(ISNUMBER(SEARCH("चावल",O15))),(C15*150/1000),0) -> 15.45
A16: =A15+1 -> 45882 | B16: 61 | C16: 116 | D16: =SUM(B16:C16) -> 177 | E16: =I15 -> 1871.15 | G16: =E16+F16 -> 1871.15 | H16: =IF(AND(ISNUMBER(SEARCH("गेहूं",O16))),(B16*100/1000)+(C16*150/1000),0) -> 23.5 | I16: =G16-H16 -> 1847.65 | J16: =N15 -> 497.25 | L16: =J16+K16 -> 497.25 | M16: =IF(AND(ISNUMBER(SEARCH("चावल",O16))),(B16*100/1000)+(C16*150/1000),0) -> 0 | N16: =L16-M16 -> 497.25 | O16: गेहूं | P16: =B16*0.02 -> 1.22 | Q16: =C16*0.03 -> 3.48 | R16: =P16+Q16 -> 4.7 | S16: =B16*0.05 -> 3.05 | T16: =C16*0.075 -> 8.7 | U16: =S16+T16 -> 11.75 | V16: =MROUND(U16,0.1) -> 11.8 | W16: =IF(AND(ISNUMBER(SEARCH("गेहूं",O16))),(B16*100/1000),0) -> 6.1 | X16: =IF(AND(ISNUMBER(SEARCH("गेहूं",O16))),(C16*150/1000),0) -> 17.4 | Y16: =IF(AND(ISNUMBER(SEARCH("चावल",O16))),(B16*100/1000),0) -> 0 | Z16: =IF(AND(ISNUMBER(SEARCH("चावल",O16))),(C16*150/1000),0) -> 0
... A34: =A33+1 -> 45900 | B34: 0 | C34: 0 | D34: =SUM(B34:C34) -> 0 | E34: =I33 -> 1727.1 | G34: =E34+F34 -> 1727.1 | H34: =IF(AND(ISNUMBER(SEARCH("गेहूं",O34))),(B34*100/1000)+(C34*150/1000),0) -> 0 | I34: =G34-H34 -> 1727.1 | J34: =N33 -> 407.4 | L34: =J34+K34 -> 407.4 | M34: =IF(AND(ISNUMBER(SEARCH("चावल",O34))),(B34*100/1000)+(C34*150/1000),0) -> 0 | N34: =L34-M34 -> 407.4 | O34: चावल | P34: =B34*0.02 -> 0 | Q34: =C34*0.03 -> 0 | R34: =P34+Q34 -> 0 | S34: =B34*0.05 -> 0 | T34: =C34*0.075 -> 0 | U34: =S34+T34 -> 0 | V34: =MROUND(U34,0.1) -> 0 | W34: =IF(AND(ISNUMBER(SEARCH("गेहूं",O34))),(B34*100/1000),0) -> 0 | X34: =IF(AND(ISNUMBER(SEARCH("गेहूं",O34))),(C34*150/1000),0) -> 0 | Y34: =IF(AND(ISNUMBER(SEARCH("चावल",O34))),(B34*100/1000),0) -> 0 | Z34: =IF(AND(ISNUMBER(SEARCH("चावल",O34))),(C34*150/1000),0) -> 0
A35: कुल योग | B35: =SUM(B4:B33) -> 1022 | C35: =SUM(C4:C34) -> 1924 | D35: =SUM(B35:C35) -> 2946 | E35: =E4 -> 1967 | F35: =SUM(F4:F33) -> 0 | G35: =E35+F35 -> 1967 | H35: =SUM(H4:H33) -> 239.9 | I35: =G35-H35 -> 1727.1 | J35: =J4 -> 558.3 | K35: =SUM(K4:K33) -> 0 | L35: =J35+K35 -> 558.3 | M35: =SUM(M4:M33) -> 150.9 | N35: =L35-M35 -> 407.4 | P35: =SUM(P4:P34) -> 20.44 | Q35: =SUM(Q4:Q34) -> 57.72 | R35: =SUM(R4:R34) -> 78.16 | S35: =SUM(S4:S34) -> 51.1 | T35: =SUM(T4:T34) -> 144.3 | U35: =SUM(U4:U34) -> 195.4 | V35: =MROUND(U35,0.1) -> 195.4 | W35: =SUM(W4:W34) -> 64.1 | X35: =SUM(X4:X34) -> 175.8 | Y35: =SUM(Y4:Y34) -> 38.1 | Z35: =SUM(Z4:Z34) -> 112.8

Sheet Sheet2
B2: ekfld [kk|kUu forj.k ,oa LVkWd fooj.k
B4: [kk|kUu fooj.k | C4: izkFkfed | E4: mPp izkFkfed | G4: ykHkkfUor Nk= | H4: O;; jkf'k
C5: xsgwa dk fooj.k | D5: pkoy dk fooj.k | E5: xsgwa dk fooj.k | F5: pkoy dk fooj.k
B6: izkjafHkd 'ks"k | G6: 1 ls 5 | H6: =ROUND(G7*'DATA ENTRY'!C7,0) -> 6929
B7: izkIr | G7: ='DAILY REGESTER'!B35 -> 1022
B8: ;ksx | C8: =SUM(C6:C7) -> 0 | D8: =SUM(D6:D7) -> 0 | E8: =SUM(E6:E7) -> 0 | F8: =SUM(F6:F7) -> 0 | G8: 6 ls 8 | H8: =ROUND(G9*'DATA ENTRY'!D7,0) -> 19567
B9: O;; | C9: ='DAILY REGESTER'!W35 -> 64.1 | D9: ='DAILY REGESTER'!Y35 -> 38.1 | E9: ='DAILY REGESTER'!X35 -> 175.8 | F9: ='DAILY REGESTER'!Z35 -> 112.8 | G9: ='DAILY REGESTER'!C35 -> 1924
B10: vafre 'ks"k | C10: =C8-C9 -> -64.1 | D10: =D8-D9 -> -38.1 | E10: =E8-E9 -> -175.8 | F10: =F8-F9 -> -112.8 | G10: dqy ;ksx | H10: =SUM(H6:H9) -> 26496
G11: =G7+G9 -> 2946

Sheet ASTMITED BILL
A1: fdjk.kk lkexzh fcy | N1: lCth fcy | U1: QYk fcy
A2: dz- la- | B2: lkexzh dk uke | C2: ek=k | D2: ek=k jkmUM esa | E2: nj | F2: jkf'k | N2: dz-la- | O2: fnukad | P2: lkexzh dk uke | Q2: ek=k | R2: nj | S2: jkf'k | U2: dz- la- | V2: fnukad | W2: lkexzh dk uke | X2: ek=k | Y2: nj | Z2: jkf'k
A3: 1 | B3: eawx nky | C3: ='DAILY REGESTER'!R35*2/5 -> 31.264 | D3: 31.25 | E3: 100 | F3: =ROUND(E3*D3,0) -> 3125 | N3: 1 | O3: ='DAILY REGESTER'!A4 -> 45870 | P3: yksdh VekVj | Q3: ='DAILY REGESTER'!V4 -> 10.6 | R3: 30 | S3: =Q3*R3 -> 318 | U3: 1 | V3: {=_xlfn._XLWS.FILTER('DAILY REGESTER'!A4:A34,TEXT('DAILY REGESTER'!A4:A34,"dddd")="Tuesday")} -> 45874 | X3: =IF(V3="","",VLOOKUP(V3,'DAILY REGESTER'!$A$4:$D$34,4,FALSE)*0.1) -> 16.7 | Y3: 35 | Z3: =X3*Y3 -> 584.5
A4: 2 | B4: puk nky | C4: ='DAILY REGESTER'!R35*2/5 -> 31.264 | D4: 31.25 | E4: 80 | F4: =ROUND(E4*D4,0) -> 2500 | N4: 2 | O4: ='DAILY REGESTER'!A5 -> 45871 | P4: CkSaxu] VekVj | Q4: ='DAILY REGESTER'!V5 -> 10.4 | R4: 35 | S4: =Q4*R4 -> 364 | U4: 2 | V4: 45881 | X4: =IF(V4="","",VLOOKUP(V4,'DAILY REGESTER'!$A$4:$D$34,4,FALSE)*0.1) -> 15.5 | Y4: 30 | Z4: =X4*Y4 -> 465
A5: 3 | B5: mM+n nky | C5: ='DAILY REGESTER'!R35*1/5 -> 15.632 | D5: 15.6 | E5: 110 | F5: =ROUND(E5*D5,0) -> 1716 | N5: 3 | O5: ='DAILY REGESTER'!A6 -> 45872 | Q5: ='DAILY REGESTER'!V6 -> 0 | R5: 0 | S5: =Q5*R5 -> 0 | U5: 3 | V5: 45888 | X5: =IF(V5="","",VLOOKUP(V5,'DAILY REGESTER'!$A$4:$D$34,4,FALSE)*0.1) -> 18.3 | Y5: 30 | Z5: =X5*Y5 -> 549
A6: 4 | B6: rsy | C6: ='DAILY REGESTER'!B35*5/1000+'DAILY REGESTER'!C35*7.5/1000 -> 19.54 | D6: 19.5 | E6: 160 | F6: =ROUND(E6*D6,0) -> 3120 | N6: 4 | O6: ='DAILY REGESTER'!A7 -> 45873 | P6: rqjbZ] VekVj | Q6: ='DAILY REGESTER'!V7 -> 9.5 | R6: 40 | S6: =Q6*R6 -> 380 | U6: 4 | V6: 45895 | X6: =IF(V6="","",VLOOKUP(V6,'DAILY REGESTER'!$A$4:$D$34,4,FALSE)*0.1) -> 0 | Y6: 40 | Z6: =X6*Y6 -> 0
A7: 5 | B7: fefpZ | C7: =Sheet2!G11*2/1000 -> 5.892 | D7: 6 | E7: 300 | F7: =ROUND(E7*D7,0) -> 1800 | N7: 5 | O7: ='DAILY REGESTER'!A8 -> 45874 | P7: ikyd] VekVj | Q7: ='DAILY REGESTER'!V8 -> 11.1 | R7: 35 | S7: =Q7*R7 -> 388.5 | U7: 5 | X7: 0 | Y7: 40 | Z7: =X7*Y7 -> 0
A8: 6 | B8: /kfu;k | C8: =Sheet2!G11*2/1000 -> 5.892 | D8: 6 | E8: 280 | F8: =ROUND(E8*D8,0) -> 1680 | N8: 6 | O8: ='DAILY REGESTER'!A9 -> 45875 | Q8: ='DAILY REGESTER'!V9 -> 0 | R8: 0 | S8: =Q8*R8 -> 0 | U8: 6 | V8: कुल योग | Z8: =SUM(Z3:Z7) -> 1598.5
A9: 7 | B9: gYnh | C9: =Sheet2!G11*1.3/1000 -> 3.8298 | D9: 3.5 | E9: 250 | F9: =ROUND(E9*D9,0) -> 875 | N9: 7 | O9: ='DAILY REGESTER'!A10 -> 45876 | P9: iRrkxksHkh] vkyw] VekVj | Q9: ='DAILY REGESTER'!V10 -> 9.2 | R9: 30 | S9: =Q9*R9 -> 276 | U9: vuqekfur fcy jkf'k dk ;ksx
A10: 8 | B10: thjk | C10: =Sheet2!G11*0.25/1000 -> 0.7365 | D10: 0.75 | E10: 350 | F10: =ROUND(E10*D10,0) -> 263 | N10: 8 | O10: ='DAILY REGESTER'!A11 -> 45877 | P10: CkSaxu] VekVj | Q10: ='DAILY REGESTER'!V11 -> 10.3 | R10: 30 | S10: =Q10*R10 -> 309 | U10: fdjk.kk | V10: =V29 -> 15139
A11: 9 | B11: ued | C11: =Sheet2!G11*2/1000 -> 5.892 | D11: 6 | E11: 10 | F11: =ROUND(E11*D11,0) -> 60 | N11: 9 | O11: ='DAILY REGESTER'!A12 -> 45878 | Q11: ='DAILY REGESTER'!V12 -> 0 | R11: 30 | S11: =Q11*R11 -> 0 | U11: Qy | V11: =V30 -> 1598.5
A12: 10 | B12: ekfpl | C12: 2 | D12: 0 | E12: 1 | F12: =ROUND(E12*D12,0) -> 0 | N12: 10 | O12: ='DAILY REGESTER'!A13 -> 45879 | Q12: ='DAILY REGESTER'!V13 -> 0 | R12: 30 | S12: =Q12*R12 -> 0 | U12: lCth | V12: =V31 -> 6261.5
A13: 11 | B13: lkcqu | C13: 0 | E13: 10 | F13: =ROUND(E13*D13,0) -> 0 | N13: 11 | O13: ='DAILY REGESTER'!A14 -> 45880 | P13: Xokj Qyh | Q13: ='DAILY REGESTER'!V14 -> 7.1 | R13: 40 | S13: =Q13*R13 -> 284 | U13: bZ/ku | V13: =V32 -> 1784 | Y13: a
A14: ;ksx | F14: =SUM(F3:F13) -> 15139 | N14: 12 | O14: ='DAILY REGESTER'!A15 -> 45881 | P14: yksdh VekVj | Q14: ='DAILY REGESTER'!V15 -> 10.3 | R14: 30 | S14: =Q14*R14 -> 309 | U14: filkbZ | V14: =V33 -> 719.7
A15: xSl¼bZ/ku½ lkexzh | N15: 13 | O15: ='DAILY REGESTER'!A16 -> 45882 | P15: VekVj] fefpZ | Q15: ='DAILY REGESTER'!V16 -> 11.8 | R15: 25 | S15: =Q15*R15 -> 295 | U15: vU; | V15: =F33 -> 993.3
A16: dz- la- | B16: lkexzh dk uke | C16: ek=k | E16: nj | F16: jkf'k | N16: 14 | O16: ='DAILY REGESTER'!A17 -> 45883 | P16: vkyw] iRrkxksHkh] VekVj | Q16: ='DAILY REGESTER'!V17 -> 11.3 | R16: 30 | S16: =Q16*R16 -> 339 | U16: ;ksx | V16: =SUM(V10:W15) -> 26496
A17: 1 | B17: xSl fjfQfyax | C17: 2 | E17: 892 | F17: =E17*C17 -> 1784 | N17: 15 | O17: ='DAILY REGESTER'!A18 -> 45884 | Q17: ='DAILY REGESTER'!V18 -> 0 | R17: 40 | S17: =Q17*R17 -> 0
A18: 2 | N18: 16 | O18: ='DAILY REGESTER'!A19 -> 45885 | Q18: ='DAILY REGESTER'!V19 -> 0 | R18: 30 | S18: =Q18*R18 -> 0 | U18: jkf'k dk vUrj
A19: 3 | N19: 17 | O19: ='DAILY REGESTER'!A20 -> 45886 | P19: aaaaaagggggg | Q19: ='DAILY REGESTER'!V20 -> 0 | R19: 50 | S19: =Q19*R19 -> 0 | U19: dqy Lohd`r jkf'k | W19: =Sheet2!H10 -> 26496
A20: 4 | B20: ;ksx | F20: =SUM(F17:F19) -> 1784 | N20: 18 | O20: ='DAILY REGESTER'!A21 -> 45887 | P20: VekVj] fefpZ | Q20: ='DAILY REGESTER'!V21 -> 11.1 | R20: 40 | S20: =Q20*R20 -> 444 | U20: dqy O;; jkf'k | W20: =V34 -> 25502.7
N21: 19 | O21: ='DAILY REGESTER'!A22 -> 45888 | P21: yksdh VekVj | Q21: ='DAILY REGESTER'!V22 -> 12.3 | R21: 30 | S21: =Q21*R21 -> 369 | U21: jkf'k dk vUrj | W21: =W19-W20 -> 993.3
A22: filkbZ jkf'k | N22: 20 | O22: ='DAILY REGESTER'!A23 -> 45889 | P22: iRrkxksHkh] vkyw] VekVj | Q22: ='DAILY REGESTER'!V23 -> 12.3 | R22: 30 | S22: =Q22*R22 -> 369
A23: dz- la- | B23: lkexzh dk uke | C23: ek=k fd-xzk- | E23: nj | F23: jkf'k | N23: 21 | O23: ='DAILY REGESTER'!A24 -> 45890 | P23: vkyw] VekVj | Q23: ='DAILY REGESTER'!V24 -> 10.8 | R23: 30 | S23: =Q23*R23 -> 324 | U23: jkf'k dk vUrj
A24: 1 | B24: xsgw¡ filkbZ | C24: ='DAILY REGESTER'!H35 -> 239.9 | E24: 3 | F24: =C24*E24 -> 719.7 | N24: 22 | O24: ='DAILY REGESTER'!A25 -> 45891 | P24: gjs I;kt] vkyw | Q24: ='DAILY REGESTER'!V25 -> 10.1 | R24: 30 | S24: =Q24*R24 -> 303 | U24: dqy Lohd`r jkf'k | W24: =Sheet2!H10 -> 26496
A25: 2 | N25: 23 | O25: ='DAILY REGESTER'!A26 -> 45892 | P25: ikyd] VekVj | Q25: ='DAILY REGESTER'!V26 -> 10.1 | R25: 30 | S25: =Q25*R25 -> 303 | U25: dqy O;; jkf'k | W25: =V16 -> 26496
A26: 3 | N26: 24 | O26: ='DAILY REGESTER'!A27 -> 45893 | Q26: ='DAILY REGESTER'!V27 -> 0 | R26: 40 | S26: =Q26*R26 -> 0 | U26: jkf'k dk vUrj | W26: =W24-W25 -> 0
A27: 4 | B27: ;ksx | F27: =SUM(F24:F25) -> 719.7 | N27: 25 | O27: ='DAILY REGESTER'!A28 -> 45894 | Q27: ='DAILY REGESTER'!V28 -> 0 | R27: 30 | S27: =Q27*R27 -> 0
A28: vU; lkexzh jkf'k | N28: 26 | O28: ='DAILY REGESTER'!A29 -> 45895 | Q28: ='DAILY REGESTER'!V29 -> 0 | R28: 30 | S28: =Q28*R28 -> 0 | U28: vuqekfur fcy jkf'k dk ;ksx
A29: dz- la- | B29: lkexzh dk uke | C29: ek=k fd-xzk- | E29: nj | F29: jkf'k | N29: 27 | O29: ='DAILY REGESTER'!A30 -> 45896 | P29: VekVj] fefpZ | Q29: ='DAILY REGESTER'!V30 -> 6.5 | R29: 40 | S29: =Q29*R29 -> 260 | U29: fdjk.kk | V29: =F14 -> 15139
A30: 1 | B30: I;kt | C30: =MIN('DATA ENTRY'!G17*10/1000,'ASTMITED BILL'!W21/'ASTMITED BILL'!E30) -> 29.46 | E30: 30 | F30: =(C30*E30) -> 883.8 | N30: 28 | O30: ='DAILY REGESTER'!A31 -> 45897 | P30: cSaxu] VekVj] vkyw | Q30: ='DAILY REGESTER'!V31 -> 10.5 | R30: 30 | S30: =Q30*R30 -> 315 | U30: Qy | V30: =Z8 -> 1598.5
A31: 2 | B31: yglqu | C31: =MIN('DATA ENTRY'!G17*2/10,'ASTMITED BILL'!W21-'ASTMITED BILL'!F30)/'ASTMITED BILL'!E31 -> 1.095 | E31: 100 | F31: =(C31*E31) -> 109.5 | N31: 29 | O31: ='DAILY REGESTER'!A32 -> 45898 | P31: iRrkxksHkh] vkyw] VekVj | Q31: ='DAILY REGESTER'!V32 -> 10.4 | R31: 30 | S31: =Q31*R31 -> 312 | U31: lCth | V31: =S34 -> 6261.5
A32: 3 | N32: 30 | O32: ='DAILY REGESTER'!A33 -> 45899 | Q32: ='DAILY REGESTER'!V33 -> 0 | R32: 30 | S32: =Q32*R32 -> 0 | U32: bZ/ku | V32: =F20 -> 1784
A33: 4 | B33: ;ksx | F33: =SUM(F30:F31) -> 993.3 | N33: 31 | O33: ='DAILY REGESTER'!A34 -> 45900 | Q33: ='DAILY REGESTER'!V34 -> 0 | R33: 30 | S33: =Q33*R33 -> 0 | U33: filkbZ | V33: =F27 -> 719.7
N34: 32 | O34: ='DAILY REGESTER'!A35 -> कुल योग | Q34: ='DAILY REGESTER'!V35 -> 195.4 | S34: =SUM(S3:S33) -> 6261.5 | U34: ;ksx | V34: =SUM(V29:W33) -> 25502.7

Sheet UNLOCK BILL
A3: fdjk.kk lkexzh fcy | O3: lCth fcy | X3: QYk fcy
A4: dz- la- | B4: lkexzh dk uke | C4: ek=k | D4: nj | E4: jkf'k | F4: mi;ksx esa yh xbZ ek=k | G4: 'ks"k ek=k | O4: dz-la- | P4: fnukad | Q4: lkexzh dk uke | R4: ek=k | S4: nj | T4: jkf'k | U4: mi;ksx esa yh xbZ ek=k | V4: 'ks"k ek=k | X4: dz- la- | Y4: fnukad | Z4: lkexzh dk uke | AA4: ek=k | AB4: nj | AC4: jkf'k
A5: 1 | B5: eawx nky | C5: ='DAILY REGESTER'!R35*2/5 -> 31.264 | D5: 100 | E5: =ROUND(D5*C5,0) -> 3126 | F5: =C5 -> 31.264 | G5: =C5-F5 -> 0 | O5: 1 | P5: =P7 -> 45870 | Q5: I;kt | R5: 15 | S5: 30 | T5: 300 | U5: 15 | V5: 0
A6: 2 | B6: puk nky | C6: ='DAILY REGESTER'!R35*2/5 -> 31.264 | D6: 80 | E6: =ROUND(D6*C6,0) -> 2501 | F6: =C6 -> 31.264 | G6: =C6-F6 -> 0
A7: 3 | B7: mM+n nky | C7: ='DAILY REGESTER'!R35*1/5 -> 15.632 | D7: 110 | E7: =ROUND(D7*C7,0) -> 1720 | F7: =C7 -> 15.632 | G7: =C7-F7 -> 0 | O7: 1 | P7: ='DAILY REGESTER'!A4 -> 45870 | Q7: ='ASTMITED BILL'!P3 -> yksdh VekVj | R7: ='ASTMITED BILL'!Q3 -> 10.6 | S7: ='ASTMITED BILL'!R3 -> 30 | T7: ='ASTMITED BILL'!S3 -> 318 | U7: =R7 -> 10.6 | V7: =R7-U7 -> 0 | X7: 1 | Y7: {=_xlfn._XLWS.FILTER('DAILY REGESTER'!A4:A34,TEXT('DAILY REGESTER'!A4:A34,"dddd")="Tuesday")} -> 45874 | AA7: =IF(Y7="","",VLOOKUP(Y7,'DAILY REGESTER'!$A$4:$D$34,4,FALSE)*0.1) -> 16.7 | AB7: 25 | AC7: =AA7*AB7 -> 417.5
A8: 4 | B8: rsy | C8: ='DAILY REGESTER'!B35*5/1000+'DAILY REGESTER'!C35*7.5/1000 -> 19.54 | D8: 160 | E8: =ROUND(D8*C8,0) -> 3126 | F8: =C8 -> 19.54 | G8: =C8-F8 -> 0 | O8: 2 | P8: ='DAILY REGESTER'!A5 -> 45871 | Q8: ='ASTMITED BILL'!P4 -> CkSaxu] VekVj | R8: ='ASTMITED BILL'!Q4 -> 10.4 | S8: ='ASTMITED BILL'!R4 -> 35 | T8: ='ASTMITED BILL'!S4 -> 364 | U8: =R8 -> 10.4 | V8: =R8-U8 -> 0 | X8: 2 | Y8: 45881 | AA8: =IF(Y8="","",VLOOKUP(Y8,'DAILY REGESTER'!$A$4:$D$34,4,FALSE)*0.1) -> 15.5 | AB8: 30 | AC8: =AA8*AB8 -> 465
A9: 5 | B9: fefpZ | C9: =Sheet2!G11*2/1000 -> 5.892 | D9: 300 | E9: =ROUND(D9*C9,0) -> 1768 | F9: =C9 -> 5.892 | G9: =C9-F9 -> 0 | O9: 3 | P9: ='DAILY REGESTER'!A6 -> 45872 | Q9: ='ASTMITED BILL'!P5 -> 0 | R9: ='ASTMITED BILL'!Q5 -> 0 | S9: ='ASTMITED BILL'!R5 -> 0 | T9: ='ASTMITED BILL'!S5 -> 0 | U9: =R9 -> 0 | V9: =R9-U9 -> 0 | X9: 3 | Y9: 45888 | AA9: =IF(Y9="","",VLOOKUP(Y9,'DAILY REGESTER'!$A$4:$D$34,4,FALSE)*0.1) -> 18.3 | AB9: 30 | AC9: =AA9*AB9 -> 549
A10: 6 | B10: /kfu;k | C10: =Sheet2!G11*2/1000 -> 5.892 | D10: 280 | E10: =ROUND(D10*C10,0) -> 1650 | F10: =C10 -> 5.892 | G10: =C10-F10 -> 0 | O10: 4 | P10: ='DAILY REGESTER'!A7 -> 45873 | Q10: ='ASTMITED BILL'!P6 -> rqjbZ] VekVj | R10: ='ASTMITED BILL'!Q6 -> 9.5 | S10: ='ASTMITED BILL'!R6 -> 40 | T10: ='ASTMITED BILL'!S6 -> 380 | U10: =R10 -> 9.5 | V10: =R10-U10 -> 0 | X10: 4 | Y10: 45895 | AA10: =IF(Y10="","",VLOOKUP(Y10,'DAILY REGESTER'!$A$4:$D$34,4,FALSE)*0.1) -> 0 | AB10: 0 | AC10: =AA10*AB10 -> 0
A11: 7 | B11: gYnh | C11: =Sheet2!G11*1.3/1000 -> 3.8298 | D11: 250 | E11: =ROUND(D11*C11,0) -> 957 | F11: =C11 -> 3.8298 | G11: =C11-F11 -> 0 | O11: 5 | P11: ='DAILY REGESTER'!A8 -> 45874 | Q11: ='ASTMITED BILL'!P7 -> ikyd] VekVj | R11: ='ASTMITED BILL'!Q7 -> 11.1 | S11: ='ASTMITED BILL'!R7 -> 35 | T11: ='ASTMITED BILL'!S7 -> 388.5 | U11: =R11 -> 11.1 | V11: =R11-U11 -> 0 | X11: 5 | AB11: 0 | AC11: =AA11*AB11 -> 0
A12: 8 | B12: thjk | C12: =Sheet2!G11*0.25/1000 -> 0.7365 | D12: 350 | E12: =ROUND(D12*C12,0) -> 258 | F12: =C12 -> 0.7365 | G12: =C12-F12 -> 0 | O12: 6 | P12: ='DAILY REGESTER'!A9 -> 45875 | Q12: ='ASTMITED BILL'!P8 -> 0 | R12: ='ASTMITED BILL'!Q8 -> 0 | S12: ='ASTMITED BILL'!R8 -> 0 | T12: ='ASTMITED BILL'!S8 -> 0 | U12: =R12 -> 0 | V12: =R12-U12 -> 0 | X12: 6 | Y12: कुल योग | AC12: =SUM(AC7:AC11) -> 1431.5
A13: 9 | B13: ued | C13: =Sheet2!G11*2/1000 -> 5.892 | D13: 10 | E13: =ROUND(D13*C13,0) -> 59 | F13: =C13 -> 5.892 | G13: =C13-F13 -> 0 | O13: 7 | P13: ='DAILY REGESTER'!A10 -> 45876 | Q13: ='ASTMITED BILL'!P9 -> iRrkxksHkh] vkyw] VekVj | R13: ='ASTMITED BILL'!Q9 -> 9.2 | S13: ='ASTMITED BILL'!R9 -> 30 | T13: ='ASTMITED BILL'!S9 -> 276 | U13: =R13 -> 9.2 | V13: =R13-U13 -> 0 | X13: vuqekfur fcy jkf'k dk ;ksx
A14: 10 | B14: ekfpl | C14: 5 | D14: 1 | E14: =ROUND(D14*C14,0) -> 5 | F14: =C14 -> 5 | G14: =C14-F14 -> 0 | O14: 8 | P14: ='DAILY REGESTER'!A11 -> 45877 | Q14: ='ASTMITED BILL'!P10 -> CkSaxu] VekVj | R14: ='ASTMITED BILL'!Q10 -> 10.3 | S14: ='ASTMITED BILL'!R10 -> 30 | T14: ='ASTMITED BILL'!S10 -> 309 | U14: =R14 -> 10.3 | V14: =R14-U14 -> 0 | X14: fdjk.kk | Y14: =Y33 -> 15220
A15: 11 | B15: lkcqu | C15: 5 | D15: 10 | E15: =ROUND(D15*C15,0) -> 50 | F15: =C15 -> 5 | G15: =C15-F15 -> 0 | O15: 9 | P15: ='DAILY REGESTER'!A12 -> 45878 | Q15: ='ASTMITED BILL'!P11 -> 0 | R15: ='ASTMITED BILL'!Q11 -> 0 | S15: ='ASTMITED BILL'!R11 -> 30 | T15: ='ASTMITED BILL'!S11 -> 0 | U15: =R15 -> 0 | V15: =R15-U15 -> 0 | X15: Qy | Y15: =Y34 -> 1431.5
A16: ;ksx | E16: =SUM(E5:E15) -> 15220 | F16: =C16 -> 0 | G16: =C16-F16 -> 0 | O16: 10 | P16: ='DAILY REGESTER'!A13 -> 45879 | Q16: ='ASTMITED BILL'!P12 | R16: ='ASTMITED BILL'!Q12 -> 0 | S16: ='ASTMITED BILL'!R12 -> 30 | T16: ='ASTMITED BILL'!S12 -> 0 | U16: =R16 -> 0 | V16: =R16-U16 -> 0 | X16: lCth | Y16: =Y35 -> 6561.5
O17: 11 | P17: ='DAILY REGESTER'!A14 -> 45880 | Q17: ='ASTMITED BILL'!P13 -> Xokj Qyh | R17: ='ASTMITED BILL'!Q13 -> 7.1 | S17: ='ASTMITED BILL'!R13 -> 40 | T17: ='ASTMITED BILL'!S13 -> 284 | U17: =R17 -> 7.1 | V17: =R17-U17 -> 0 | X17: bZ/ku | Y17: =Y36 -> 1784 | AB17: a
O18: 12 | P18: ='DAILY REGESTER'!A15 -> 45881 | Q18: ='ASTMITED BILL'!P14 -> yksdh VekVj | R18: ='ASTMITED BILL'!Q14 -> 10.3 | S18: ='ASTMITED BILL'!R14 -> 30 | T18: ='ASTMITED BILL'!S14 -> 309 | U18: =R18 -> 10.3 | V18: =R18-U18 -> 0 | X18: filkbZ | Y18: =Y37 -> 839.65
A19: xSl¼bZ/ku½ lkexzh | F19: =C19 -> 0 | G19: =C19-F19 -> 0 | O19: 13 | P19: ='DAILY REGESTER'!A16 -> 45882 | Q19: ='ASTMITED BILL'!P15 -> VekVj] fefpZ | R19: ='ASTMITED BILL'!Q15 -> 11.8 | S19: ='ASTMITED BILL'!R15 -> 25 | T19: ='ASTMITED BILL'!S15 -> 295 | U19: =R19 -> 11.8 | V19: =R19-U19 -> 0 | X19: vU; | Y19: =E37 -> 659.35
A20: dz- la- | B20: lkexzh dk uke | C20: ek=k | D20: nj | E20: jkf'k | F20: mi;ksx esa yh xbZ ek=k | G20: 'ks"k ek=k | O20: 14 | P20: ='DAILY REGESTER'!A17 -> 45883 | Q20: ='ASTMITED BILL'!P16 -> vkyw] iRrkxksHkh] VekVj | R20: ='ASTMITED BILL'!Q16 -> 11.3 | S20: ='ASTMITED BILL'!R16 -> 30 | T20: ='ASTMITED BILL'!S16 -> 339 | U20: =R20 -> 11.3 | V20: =R20-U20 -> 0 | X20: ;ksx | Y20: =SUM(Y14:Z19) -> 26496
A21: 1 | B21: xSl fjfQfyax | C21: 2 | D21: 892 | E21: =D21*C21 -> 1784 | F21: 1 | G21: =C21-F21 -> 1 | O21: 15 | P21: ='DAILY REGESTER'!A18 -> 45884 | Q21: ='ASTMITED BILL'!P17 -> 0 | R21: ='ASTMITED BILL'!Q17 -> 0 | S21: ='ASTMITED BILL'!R17 -> 40 | T21: ='ASTMITED BILL'!S17 -> 0 | U21: =R21 -> 0 | V21: =R21-U21 -> 0
A22: 2 | F22: =C22 -> 0 | G22: =C22-F22 -> 0 | O22: 16 | P22: ='DAILY REGESTER'!A19 -> 45885 | Q22: ='ASTMITED BILL'!P18 -> 0 | R22: ='ASTMITED BILL'!Q18 -> 0 | S22: ='ASTMITED BILL'!R18 -> 30 | T22: ='ASTMITED BILL'!S18 -> 0 | U22: =R22 -> 0 | V22: =R22-U22 -> 0 | X22: jkf'k dk vUrj
A23: 3 | F23: =C23 -> 0 | G23: =C23-F23 -> 0 | O23: 17 | P23: ='DAILY REGESTER'!A20 -> 45886 | Q23: ='ASTMITED BILL'!P19 -> aaaaaagggggg | R23: ='ASTMITED BILL'!Q19 -> 0 | S23: ='ASTMITED BILL'!R19 -> 50 | T23: ='ASTMITED BILL'!S19 -> 0 | U23: =R23 -> 0 | V23: =R23-U23 -> 0 | X23: dqy Lohd`r jkf'k | Z23: =Sheet2!H10 -> 26496
A24: 4 | B24: ;ksx | E24: =SUM(E21:E23) -> 1784 | O24: 18 | P24: ='DAILY REGESTER'!A21 -> 45887 | Q24: ='ASTMITED BILL'!P20 -> VekVj] fefpZ | R24: ='ASTMITED BILL'!Q20 -> 11.1 | S24: ='ASTMITED BILL'!R20 -> 40 | T24: ='ASTMITED BILL'!S20 -> 444 | U24: =R24 -> 11.1 | V24: =R24-U24 -> 0 | X24: dqy O;; jkf'k | Z24: =Y38 -> 25836.65
O25: 19 | P25: ='DAILY REGESTER'!A22 -> 45888 | Q25: ='ASTMITED BILL'!P21 -> yksdh VekVj | R25: ='ASTMITED BILL'!Q21 -> 12.3 | S25: ='ASTMITED BILL'!R21 -> 30 | T25: ='ASTMITED BILL'!S21 -> 369 | U25: =R25 -> 12.3 | V25: =R25-U25 -> 0 | X25: jkf'k dk vUrj | Z25: =Z23-Z24 -> 659.35
A26: filkbZ jkf'k | O26: 20 | P26: ='DAILY REGESTER'!A23 -> 45889 | Q26: ='ASTMITED BILL'!P22 -> iRrkxksHkh] vkyw] VekVj | R26: ='ASTMITED BILL'!Q22 -> 12.3 | S26: ='ASTMITED BILL'!R22 -> 30 | T26: ='ASTMITED BILL'!S22 -> 369 | U26: =R26 -> 12.3 | V26: =R26-U26 -> 0
A27: dz- la- | B27: lkexzh dk uke | C27: ek=k fd-xzk- | D27: nj | E27: jkf'k | O27: 21 | P27: ='DAILY REGESTER'!A24 -> 45890 | Q27: ='ASTMITED BILL'!P23 -> vkyw] VekVj | R27: ='ASTMITED BILL'!Q23 -> 10.8 | S27: ='ASTMITED BILL'!R23 -> 30 | T27: ='ASTMITED BILL'!S23 -> 324 | U27: =R27 -> 10.8 | V27: =R27-U27 -> 0 | X27: jkf'k dk vUrj
A28: 1 | B28: xsgw¡ filkbZ | C28: ='DAILY REGESTER'!H35 -> 239.9 | D28: 3.5 | E28: =C28*D28 -> 839.65 | O28: 22 | P28: ='DAILY REGESTER'!A25 -> 45891 | Q28: ='ASTMITED BILL'!P24 -> gjs I;kt] vkyw | R28: ='ASTMITED BILL'!Q24 -> 10.1 | S28: ='ASTMITED BILL'!R24 -> 30 | T28: ='ASTMITED BILL'!S24 -> 303 | U28: =R28 -> 10.1 | V28: =R28-U28 -> 0 | X28: dqy Lohd`r jkf'k | Z28: =Sheet2!H10 -> 26496
A29: 2 | O29: 23 | P29: ='DAILY REGESTER'!A26 -> 45892 | Q29: ='ASTMITED BILL'!P25 -> ikyd] VekVj | R29: ='ASTMITED BILL'!Q25 -> 10.1 | S29: ='ASTMITED BILL'!R25 -> 30 | T29: ='ASTMITED BILL'!S25 -> 303 | U29: =R29 -> 10.1 | V29: =R29-U29 -> 0 | X29: dqy O;; jkf'k | Z29: =Y20 -> 26496
A30: 3 | O30: 24 | P30: ='DAILY REGESTER'!A27 -> 45893 | Q30: ='ASTMITED BILL'!P26 -> 0 | R30: ='ASTMITED BILL'!Q26 -> 0 | S30: ='ASTMITED BILL'!R26 -> 40 | T30: ='ASTMITED BILL'!S26 -> 0 | U30: =R30 -> 0 | V30: =R30-U30 -> 0 | X30: jkf'k dk vUrj | Z30: =Z28-Z29 -> 0
A31: 4 | B31: ;ksx | E31: =SUM(E28:E29) -> 839.65 | O31: 25 | P31: ='DAILY REGESTER'!A28 -> 45894 | Q31: ='ASTMITED BILL'!P27 -> 0 | R31: ='ASTMITED BILL'!Q27 -> 0 | S31: ='ASTMITED BILL'!R27 -> 30 | T31: ='ASTMITED BILL'!S27 -> 0 | U31: =R31 -> 0 | V31: =R31-U31 -> 0
A32: vU; lkexzh jkf'k | O32: 26 | P32: ='DAILY REGESTER'!A29 -> 45895 | Q32: ='ASTMITED BILL'!P28 -> 0 | R32: ='ASTMITED BILL'!Q28 -> 0 | S32: ='ASTMITED BILL'!R28 -> 30 | T32: ='ASTMITED BILL'!S28 -> 0 | U32: =R32 -> 0 | V32: =R32-U32 -> 0 | X32: vuqekfur fcy jkf'k dk ;ksx
A33: dz- la- | B33: lkexzh dk uke | C33: ek=k fd-xzk- | D33: nj | E33: jkf'k | O33: 27 | P33: ='DAILY REGESTER'!A30 -> 45896 | Q33: ='ASTMITED BILL'!P29 -> VekVj] fefpZ | R33: ='ASTMITED BILL'!Q29 -> 6.5 | S33: ='ASTMITED BILL'!R29 -> 40 | T33: ='ASTMITED BILL'!S29 -> 260 | U33: =R33 -> 6.5 | V33: =R33-U33 -> 0 | X33: fdjk.kk | Y33: =E16 -> 15220
A34: 1 | B34: I;kt | C34: =MIN('DATA ENTRY'!G17*10/1000,'UNLOCK BILL'!Z25/'UNLOCK BILL'!D34) -> 29.46 | D34: 20 | E34: =(C34*D34) -> 589.2 | O34: 28 | P34: ='DAILY REGESTER'!A31 -> 45897 | Q34: ='ASTMITED BILL'!P30 -> cSaxu] VekVj] vkyw | R34: ='ASTMITED BILL'!Q30 -> 10.5 | S34: ='ASTMITED BILL'!R30 -> 30 | T34: ='ASTMITED BILL'!S30 -> 315 | U34: =R34 -> 10.5 | V34: =R34-U34 -> 0 | X34: Qy | Y34: =AC12 -> 1431.5
A35: 2 | B35: yglqu | C35: =MIN('DATA ENTRY'!G17*2/10,'UNLOCK BILL'!Z25-'UNLOCK BILL'!E34)/'UNLOCK BILL'!D35 -> 0.7015 | D35: 100 | E35: =(C35*D35) -> 70.15 | O35: 29 | P35: ='DAILY REGESTER'!A32 -> 45898 | Q35: ='ASTMITED BILL'!P31 -> iRrkxksHkh] vkyw] VekVj | R35: ='ASTMITED BILL'!Q31 -> 10.4 | S35: ='ASTMITED BILL'!R31 -> 30 | T35: ='ASTMITED BILL'!S31 -> 312 | U35: =R35 -> 10.4 | V35: =R35-U35 -> 0 | X35: lCth | Y35: =T38 -> 6561.5
A36: 3 | O36: 30 | P36: ='DAILY REGESTER'!A33 -> 45899 | Q36: ='ASTMITED BILL'!P32 -> 0 | R36: ='ASTMITED BILL'!Q32 -> 0 | S36: ='ASTMITED BILL'!R32 -> 30 | T36: ='ASTMITED BILL'!S32 -> 0 | U36: =R36 -> 0 | V36: =R36-U36 -> 0 | X36: bZ/ku | Y36: =E24 -> 1784
A37: 4 | B37: ;ksx | E37: =SUM(E34:E35) -> 659.35 | O37: 31 | P37: ='DAILY REGESTER'!A34 -> 45900 | Q37: ='ASTMITED BILL'!P33 -> 0 | R37: ='ASTMITED BILL'!Q33 -> 0 | S37: ='ASTMITED BILL'!R33 -> 30 | T37: ='ASTMITED BILL'!S33 -> 0 | U37: =R37 -> 0 | V37: =R37-U37 -> 0 | X37: filkbZ | Y37: =E31 -> 839.65
O38: 32 | P38: ='DAILY REGESTER'!A35 -> कुल योग | R38: =SUM(R5:R37) -> 210.7 | T38: =SUM(T5:T37) -> 6561.5 | X38: ;ksx | Y38: =SUM(Y33:Z37) -> 25836.65
