Workbook
Name _tds1: #REF!
Name _tds1: #REF!
Name _tds2: #REF!
Name _tds2: #REF!
Name AIR.Code001: #REF!
Name AIR.Code001: #REF!
Name AIR.Code002: #REF!
Name AIR.Code002: #REF!
Name AIR.Code003: #REF!
Name AIR.Code003: #REF!
Name AIR.Code004: #REF!
Name AIR.Code004: #REF!
Name AIR.Code005: #REF!
Name AIR.Code005: #REF!
Name AIR.Code006: #REF!
Name AIR.Code006: #REF!
Name AIR.Code007: #REF!
Name AIR.Code007: #REF!
Name AIR.Code008: #REF!
Name AIR.Code008: #REF!
Name AIR.TaxExmpIntInc: #REF!
Name AIR.TaxExmpIntInc: #REF!
Name Bank1: #REF!
Name Bank1: #REF!
Name Bank10: #REF!
Name Bank10: #REF!
Name Bank11: #REF!
Name Bank11: #REF!
Name Bank12: #REF!
Name Bank12: #REF!
Name Bank2: #REF!
Name Bank2: #REF!
Name Bank3: #REF!
Name Bank3: #REF!
Name Bank4: #REF!
Name Bank4: #REF!
Name Bank5: #REF!
Name Bank5: #REF!
Name Bank6: #REF!
Name Bank6: #REF!
Name Bank6PCAR: #REF!
Name Bank6PCAR: #REF!
Name Bank7: #REF!
Name Bank7: #REF!
Name Bank8: #REF!
Name Bank8: #REF!
Name Bank9: #REF!
Name Bank9: #REF!
Name BankAccNo: #REF!
Name BankAccNo: #REF!
Name BankArrear: #REF!
Name BankArrear: #REF!
Name BankArrear0: #REF!
Name BankArrear0: #REF!
Name BankArrear1: #REF!
Name BankArrear1: #REF!
Name BankArrear2: #REF!
Name BankArrear2: #REF!
Name BankArrear3: #REF!
Name BankArrear3: #REF!

Sheet Salary
X2: =Y2&" / "&Z2 -> RURAL / 1800 | Y2: RURAL | Z2: 1800 | AA2: 730
O3: =Q3&" / "&R3 -> Yes / Yes | Q3: Yes | R3: Yes | S3: 0 | X3: =Y3&" / "&Z3 -> RURAL / 1900 | Y3: RURAL | Z3: 1900 | AA3: 770
O4: =Q4&" / "&R4 -> Yes / No | Q4: Yes | R4: No | S4: 0 | X4: =Y4&" / "&Z4 -> RURAL / 4200 | Y4: RURAL | Z4: 4200 | AA4: 1340
O5: =Q5&" / "&R5 -> No / Yes | Q5: No | R5: Yes | S5: 5181 | X5: =Y5&" / "&Z5 -> RURAL / 4600 | Y5: RURAL | Z5: 4600 | AA5: 1840
O6: =Q6&" / "&R6 -> No / No | Q6: No | R6: No | S6: 0 | X6: =Y6&" / "&Z6 -> RURAL / 4800 | Y6: RURAL | Z6: 4800 | AA6: 1870
X7: =Y7&" / "&Z7 -> RURAL / 5400 | Y7: RURAL | Z7: 5400 | AA7: 2100
X8: =Y8&" / "&Z8 -> URBAN / 1800 | Y8: URBAN | Z8: 1800 | AA8: 1100
O9: =Q9&" / "&R9 -> Yes / Yes | Q9: Yes | R9: Yes | S9: 5100 | X9: =Y9&" / "&Z9 -> URBAN / 1900 | Y9: URBAN | Z9: 1900 | AA9: 1160
O10: =Q10&" / "&R10 -> Yes / No | Q10: Yes | R10: No | S10: 0 | X10: =Y10&" / "&Z10 -> URBAN / 4200 | Y10: URBAN | Z10: 4200 | AA10: 2020
O11: =Q11&" / "&R11 -> No / Yes | Q11: No | R11: Yes | S11: 0 | X11: =Y11&" / "&Z11 -> URBAN / 4600 | Y11: URBAN | Z11: 4600 | AA11: 2760
O12: =Q12&" / "&R12 -> No / No | Q12: No | R12: No | S12: 0 | X12: =Y12&" / "&Z12 -> URBAN / 4800 | Y12: URBAN | Z12: 4800 | AA12: 2810
X13: =Y13&" / "&Z13 -> URBAN / 5400 | Y13: URBAN | Z13: 5400 | AA13: 3150
C14: NPS EMPLOYEE | E14: YES | G14: INCREMENT MONTH | L14: JULY | N14: BONUS | O14: YES | Q14: HRA | S14: RURAL | U14: G PAY | W14: 1800 | Y14: SENIOR CITIZEN | AA14: NO
C15: JHS BAKAURA
C16: Incometax Computation Financial (2025-26) Assessment Year (2026-27)
C17: EHRMS ID | E17: 125645 | I17: EMPLOYEE NAME | M17: Parmanand Meghwal | Q17: SEX | S17: MALE | W17: BANK NAME | Z17: DCB AURANGABAD | AC17: Yes
C18: EMPLOYEE ID | E18: 1.10003e+15 | I18: FAHER'S NAME | M18: Bhanwar Lal | Q18: ADHAR NO. | S18: 699056365783 | W18: A/C NO. | Z18: 00820000002794 | AC18: No
C19: PAN NO. | E19: xxxxxx | I19: DESIGNATION | M19: TEACHER | Q19: BLOCK | S19: LAKHAWTI | W19: BRANCH NAME | Z19: AURANGABAD
C20: MOBILE NO. | E20: 9784125000 | I20: DATE OF BIRTH | M20: 02-03-1983 | Q20: GRADE PAY | S20: 1800 | W20: IFSC CODE | Z20: UPCB000BULND
C21: RECEIPTS | O21: DEDUCTIONS | Z21: Net Cash Payment | AA21: Bill No. & T.V. No.
C22: Month | D22: Basic Pay | E22: Dearness Pay | F22: Leave Pay | G22: Spl. Pay | H22: D.A. | I22: HRA | J22: Washing Allow. | K22: C.C.A. | L22: Handicap Allow | M22: Other Allowance 2 | N22: Gross Salary | O22: =IF(E14="No","GPF","NPS") -> NPS | Q22: GIS | R22: PPF | S22: LIC | T22: Group Insurance Accidental | U22: HBA Premium | V22: HBA Interest | W22: Income Tax / TDS | X22: Other Deduction | Y22: Total Deduction
B23: 3 | C23: 45717 | D23: 46500 | E23: 0 | F23: 0 | G23: 0 | H23: =ROUND(53%*D23,0) -> 24645 | I23: =VLOOKUP(S14&" / "&W14,X1:AA13,4,0) -> 730 | J23: 0 | K23: 0 | L23: 0 | M23: 0 | N23: =SUM(D23:M23) -> 71875 | O23: =IF($E$14="Yes",ROUND((D23+H23)*0.1,0),IF($E$14="No",ROUND((D23)*0.1,0))) -> 7115 | P23: =IF($E$14="Yes",ROUND((D23+H23)*0.14,0)) -> 9960 | Q23: 87 | R23: 0 | S23: 0 | T23: 0 | W23: 1000 | Y23: =O23+Q23+R23+S23+T23+U23+V23+W23+X23 -> 8202 | Z23: =N23-Y23 -> 63673 | AC23: 1800
B24: 4 | C24: 45748 | D24: =D23 -> 46500 | E24: =IF(E$23=0,0,ROUND(D24/2,0)) -> 0 | F24: =IF(F$23=0,0,F23) -> 0 | G24: =IF(G$23=0,0,G23) -> 0 | H24: =ROUND(55%*D24,0) -> 25575 | I24: =I23 -> 730 | J24: =IF(J$23=0,0,J23) -> 0 | K24: =IF(K$23=0,0,K23) -> 0 | L24: =IF(L$23=0,0,L23) -> 0 | M24: =IF(M$23=0,0,M23) -> 0 | N24: =SUM(D24:M24) -> 72805 | O24: =IF($E$14="Yes",ROUND((D24+H24)*0.1,0),IF($E$14="No",ROUND((D24)*0.1,0))) -> 7208 | P24: =IF($E$14="Yes",ROUND((D24+H24)*0.14,0)) -> 10091 | Q24: =Q23 -> 87 | R24: =R23 -> 0 | S24: =S23 -> 0 | U24: =U23 -> 0 | V24: =V23 -> 0 | W24: =W23 -> 1000 | X24: =X23 -> 0 | Y24: =O24+Q24+R24+S24+T24+U24+V24+W24+X24 -> 8295 | Z24: =N24-Y24 -> 64510 | AC24: 1900
B25: 5 | C25: 45778 | D25: =D24 -> 46500 | E25: =IF($E$23=0,0,ROUND(D25/2,0)) -> 0 | F25: =IF(F$23=0,0,F24) -> 0 | G25: =IF(G$23=0,0,G24) -> 0 | H25: =ROUND(55%*D25,0) -> 25575 | I25: =I24 -> 730 | J25: =IF(J$23=0,0,J24) -> 0 | K25: =IF(K$23=0,0,K24) -> 0 | L25: =IF(L$23=0,0,L24) -> 0 | M25: =IF(M$23=0,0,M24) -> 0 | N25: =SUM(D25:M25) -> 72805 | O25: =IF($E$14="Yes",ROUND((D25+H25)*0.1,0),IF($E$14="No",ROUND((D25)*0.1,0))) -> 7208 | P25: =IF($E$14="Yes",ROUND((D25+H25)*0.14,0)) -> 10091 | Q25: =Q24 -> 87 | R25: =R24 -> 0 | S25: =S24 -> 0 | T25: 0 | U25: =U24 -> 0 | V25: =V24 -> 0 | W25: =W24 -> 1000 | X25: =X24 -> 0 | Y25: =O25+Q25+R25+S25+T25+U25+V25+W25+X25 -> 8295 | Z25: =N25-Y25 -> 64510 | AC25: 4200
B26: 6 | C26: 45809 | D26: =D25 -> 46500 | E26: =IF($E$23=0,0,ROUND(D26/2,0)) -> 0 | F26: =IF(F$23=0,0,F25) -> 0 | G26: =IF(G$23=0,0,G25) -> 0 | H26: =ROUND(55%*D26,0) -> 25575 | I26: =I25 -> 730 | J26: =IF(J$23=0,0,J25) -> 0 | K26: =IF(K$23=0,0,K25) -> 0 | L26: =IF(L$23=0,0,L25) -> 0 | M26: =IF(M$23=0,0,M25) -> 0 | N26: =SUM(D26:M26) -> 72805 | O26: =IF($E$14="Yes",ROUND((D26+H26)*0.1,0),IF($E$14="No",ROUND((D26)*0.1,0))) -> 7208 | P26: =IF($E$14="Yes",ROUND((D26+H26)*0.14,0)) -> 10091 | Q26: =Q25 -> 87 | R26: =R25 -> 0 | S26: =S25 -> 0 | T26: 0 | U26: =U25 -> 0 | V26: =V25 -> 0 | W26: =W25 -> 1000 | X26: =X25 -> 0 | Y26: =O26+Q26+R26+S26+T26+U26+V26+W26+X26 -> 8295 | Z26: =N26-Y26 -> 64510 | AC26: 4600
B27: 7 | C27: 45839 | D27: =IF(L14="JULY",MROUND(ROUND(1.03*D26,0),100),D26) -> 47900 | E27: =IF($E$23=0,0,ROUND(D27/2,0)) -> 0 | F27: =IF(F$23=0,0,F26) -> 0 | G27: =IF(G$23=0,0,G26) -> 0 | H27: =ROUND(55%*D27,0) -> 26345 | I27: =I26 -> 730 | J27: =IF(J$23=0,0,J26) -> 0 | K27: =IF(K$23=0,0,K26) -> 0 | L27: =IF(L$23=0,0,L26) -> 0 | M27: =IF(M$23=0,0,M26) -> 0 | N27: =SUM(D27:M27) -> 74975 | O27: =IF($E$14="Yes",ROUND((D27+H27)*0.1,0),IF($E$14="No",ROUND((D27)*0.1,0))) -> 7425 | P27: =IF($E$14="Yes",ROUND((D27+H27)*0.14,0)) -> 10394 | Q27: =Q26 -> 87 | R27: =R26 -> 0 | S27: =S26 -> 0 | T27: 0 | U27: =U26 -> 0 | V27: =V26 -> 0 | W27: =W26 -> 1000 | X27: =X26 -> 0 | Y27: =O27+Q27+R27+S27+T27+U27+V27+W27+X27 -> 8512 | Z27: =N27-Y27 -> 66463 | AC27: 4800
B28: 8 | C28: 45870 | D28: =D27 -> 47900 | E28: =IF($E$23=0,0,ROUND(D28/2,0)) -> 0 | F28: =IF(F$23=0,0,F27) -> 0 | G28: =IF(G$23=0,0,G27) -> 0 | H28: =ROUND(55%*D28,0) -> 26345 | I28: =I27 -> 730 | J28: =IF(J$23=0,0,J27) -> 0 | K28: =IF(K$23=0,0,K27) -> 0 | L28: =IF(L$23=0,0,L27) -> 0 | M28: =IF(M$23=0,0,M27) -> 0 | N28: =SUM(D28:M28) -> 74975 | O28: =IF($E$14="Yes",ROUND((D28+H28)*0.1,0),IF($E$14="No",ROUND((D28)*0.1,0))) -> 7425 | P28: =IF($E$14="Yes",ROUND((D28+H28)*0.14,0)) -> 10394 | Q28: =Q27 -> 87 | R28: =R27 -> 0 | S28: =S27 -> 0 | T28: 0 | U28: =U27 -> 0 | V28: =V27 -> 0 | W28: =W27 -> 1000 | X28: =X27 -> 0 | Y28: =O28+Q28+R28+S28+T28+U28+V28+W28+X28 -> 8512 | Z28: =N28-Y28 -> 66463 | AC28: 5400
B29: 9 | C29: 45901 | D29: =D28 -> 47900 | E29: =IF($E$23=0,0,ROUND(D29/2,0)) -> 0 | F29: =IF(F$23=0,0,F28) -> 0 | G29: =IF(G$23=0,0,G28) -> 0 | H29: =ROUND(55%*D29,0) -> 26345 | I29: =I28 -> 730 | J29: =IF(J$23=0,0,J28) -> 0 | K29: =IF(K$23=0,0,K28) -> 0 | L29: =IF(L$23=0,0,L28) -> 0 | M29: =IF(M$23=0,0,M28) -> 0 | N29: =SUM(D29:M29) -> 74975 | O29: =IF($E$14="Yes",ROUND((D29+H29)*0.1,0),IF($E$14="No",ROUND((D29)*0.1,0))) -> 7425 | P29: =IF($E$14="Yes",ROUND((D29+H29)*0.14,0)) -> 10394 | Q29: =Q28 -> 87 | R29: =R28 -> 0 | S29: =S28 -> 0 | T29: 0 | U29: =U28 -> 0 | V29: =V28 -> 0 | W29: =W28 -> 1000 | X29: =X28 -> 0 | Y29: =O29+Q29+R29+S29+T29+U29+V29+W29+X29 -> 8512 | Z29: =N29-Y29 -> 66463
B30: 10 | C30: 45931 | D30: =D29 -> 47900 | E30: =IF($E$23=0,0,ROUND(D30/2,0)) -> 0 | F30: =IF(F$23=0,0,F29) -> 0 | G30: =IF(G$23=0,0,G29) -> 0 | H30: =ROUND(58%*D30,0) -> 27782 | I30: =I29 -> 730 | J30: =IF(J$23=0,0,J29) -> 0 | K30: =IF(K$23=0,0,K29) -> 0 | L30: =IF(L$23=0,0,L29) -> 0 | M30: =IF(M$23=0,0,M29) -> 0 | N30: =SUM(D30:M30) -> 76412 | O30: =IF($E$14="Yes",ROUND((D30+H30)*0.1,0),IF($E$14="No",ROUND((D30)*0.1,0))) -> 7568 | P30: =IF($E$14="Yes",ROUND((D30+H30)*0.14,0)) -> 10595 | Q30: =Q29 -> 87 | R30: =R29 -> 0 | S30: =S29 -> 0 | T30: 0 | U30: =U29 -> 0 | V30: =V29 -> 0 | W30: =W29 -> 1000 | X30: =X29 -> 0 | Y30: =O30+Q30+R30+S30+T30+U30+V30+W30+X30 -> 8655 | Z30: =N30-Y30 -> 67757
B31: 11 | C31: 45962 | D31: =D30 -> 47900 | E31: =IF($E$23=0,0,ROUND(D31/2,0)) -> 0 | F31: =IF(F$23=0,0,F30) -> 0 | G31: =IF(G$23=0,0,G30) -> 0 | H31: =ROUND(58%*D31,0) -> 27782 | I31: =I30 -> 730 | J31: =IF(J$23=0,0,J30) -> 0 | K31: =IF(K$23=0,0,K30) -> 0 | L31: =IF(L$23=0,0,L30) -> 0 | M31: =IF(M$23=0,0,M30) -> 0 | N31: =SUM(D31:M31) -> 76412 | O31: =IF($E$14="Yes",ROUND((D31+H31)*0.1,0),IF($E$14="No",ROUND((D31)*0.1,0))) -> 7568 | P31: =IF($E$14="Yes",ROUND((D31+H31)*0.14,0)) -> 10595 | Q31: =Q30 -> 87 | R31: =R30 -> 0 | S31: =S30 -> 0 | T31: 0 | U31: =U30 -> 0 | V31: =V30 -> 0 | W31: =W30 -> 1000 | X31: =X30 -> 0 | Y31: =O31+Q31+R31+S31+T31+U31+V31+W31+X31 -> 8655 | Z31: =N31-Y31 -> 67757
B32: 12 | C32: 45992 | D32: =D31 -> 47900 | E32: =IF($E$23=0,0,ROUND(D32/2,0)) -> 0 | F32: =IF(F$23=0,0,F31) -> 0 | G32: =IF(G$23=0,0,G31) -> 0 | H32: =ROUND(58%*D32,0) -> 27782 | I32: =I31 -> 730 | J32: =IF(J$23=0,0,J31) -> 0 | K32: =IF(K$23=0,0,K31) -> 0 | L32: =IF(L$23=0,0,L31) -> 0 | M32: =IF(M$23=0,0,M31) -> 0 | N32: =SUM(D32:M32) -> 76412 | O32: =IF($E$14="Yes",ROUND((D32+H32)*0.1,0),IF($E$14="No",ROUND((D32)*0.1,0))) -> 7568 | P32: =IF($E$14="Yes",ROUND((D32+H32)*0.14,0)) -> 10595 | Q32: =Q31 -> 87 | R32: =R31 -> 0 | S32: =S31 -> 0 | T32: 0 | U32: =U31 -> 0 | V32: =V31 -> 0 | W32: =W31 -> 1000 | Y32: =O32+Q32+R32+S32+T32+U32+V32+W32+X32 -> 8655 | Z32: =N32-Y32 -> 67757
B33: 1 | C33: 46023 | D33: =IF(L14="JAN",MROUND(ROUND(1.03*D32,0),100),D32) -> 47900 | E33: =IF($E$23=0,0,ROUND(D33/2,0)) -> 0 | F33: =IF(F$23=0,0,F32) -> 0 | G33: =IF(G$23=0,0,G32) -> 0 | H33: =ROUND(58%*D33,0) -> 27782 | I33: =I32 -> 730 | J33: =IF(J$23=0,0,J32) -> 0 | K33: =IF(K$23=0,0,K32) -> 0 | L33: =IF(L$23=0,0,L32) -> 0 | M33: =IF(M$23=0,0,M32) -> 0 | N33: =SUM(D33:M33) -> 76412 | O33: =IF($E$14="Yes",ROUND((D33+H33)*0.1,0),IF($E$14="No",ROUND((D33)*0.1,0))) -> 7568 | P33: =IF($E$14="Yes",ROUND((D33+H33)*0.14,0)) -> 10595 | Q33: =Q32 -> 87 | R33: =R32 -> 0 | S33: =S32 -> 0 | T33: 0 | U33: =U32 -> 0 | V33: =V32 -> 0 | W33: =W32 -> 1000 | Y33: =O33+Q33+R33+S33+T33+U33+V33+W33+X33 -> 8655 | Z33: =N33-Y33 -> 67757
B34: 2 | C34: 46054 | D34: =D33 -> 47900 | E34: =IF($E$23=0,0,ROUND(D34/2,0)) -> 0 | F34: =IF(F$23=0,0,F33) -> 0 | G34: =IF(G$23=0,0,G33) -> 0 | H34: =ROUND(58%*D34,0) -> 27782 | I34: =I33 -> 730 | J34: =IF(J$23=0,0,J33) -> 0 | K34: =IF(K$23=0,0,K33) -> 0 | L34: =IF(L$23=0,0,L33) -> 0 | M34: =IF(M$23=0,0,M33) -> 0 | N34: =SUM(D34:M34) -> 76412 | O34: =IF($E$14="Yes",ROUND((D34+H34)*0.1,0),IF($E$14="No",ROUND((D34)*0.1,0))) -> 7568 | P34: =IF($E$14="Yes",ROUND((D34+H34)*0.14,0)) -> 10595 | Q34: =Q33 -> 87 | R34: =R33 -> 0 | S34: =S33 -> 0 | T34: 0 | U34: =U33 -> 0 | V34: =V33 -> 0 | W34: =W33 -> 1000 | Y34: =O34+Q34+R34+S34+T34+U34+V34+W34+X34 -> 8655 | Z34: =N34-Y34 -> 67757
C35: DA Arrear 55% | H35: =(ROUND(55%*D23,0)-ROUND(53%*D23,0))*3 -> 2790 | N35: =H35 -> 2790 | O35: =IF(E14="Yes",ROUND(H35*10/100,0),IF(E14="no",ROUNDDOWN(N35,-2))) -> 279 | P35: =IF($E$14="Yes",ROUND((D35+H35)*0.14,0)) -> 391 | S35: 0 | Y35: =O35+Q35+R35+S35+T35+U35+V35+W35+X35 -> 279 | Z35: =N35-Y35 -> 2511
C36: DA Arrear 58% | H36: =(ROUND(58%*D27,0)-ROUND(55%*D27,0))*3 -> 4311 | N36: =H36 -> 4311 | O36: =IF(E14="Yes",ROUND(H36*10/100,0),IF(E14="no",ROUNDDOWN(N36,-2))) -> 431 | P36: =IF($E$14="Yes",ROUND((D36+H36)*0.14,0)) -> 604 | Y36: =O36+Q36+R36+S36+T36+U36+V36+W36+X36 -> 431 | Z36: =N36-Y36 -> 3880
C37: Bonus | D37: =IF(O14="Yes",6908,0) -> 6908 | N37: =SUM(D37:M37) -> 6908 | Y37: =O37+Q37+R37+S37+T37+U37+V37+W37+X37 -> 0 | Z37: =N37-Y37 -> 6908
C38: Fixation Arrear | N38: =SUM(D38:M38) -> 0 | Y38: =SUM(O38:X38) -> 0 | Z38: =N38-Y38 -> 0
C39: Salary Arrear 1 | N39: =SUM(D39:M39) -> 0 | Y39: =SUM(O39:X39) -> 0 | Z39: =N39-Y39 -> 0
C40: Salary Arrear 2 | N40: =SUM(D40:M40) -> 0 | Y40: =SUM(O40:X40) -> 0 | Z40: =N40-Y40 -> 0
C41: Other | E41: 0 | F41: 0 | N41: =SUM(D41:M41) -> 0 | Y41: =SUM(O41:X41) -> 0 | Z41: =N41-Y41 -> 0
...

Sheet Other Deduction
A1: Details of Deductions, Income/Deposits and Exemptions Other Than Salary
A2: =Salary!M17& " , " &Salary!K17&" PAN - "&Salary!E19 -> Parmanand Meghwal , PAN - xxxxxx
A3: 1. House Rent | B3: 0 | D3: 17. 80TTA/80TTB Maximum Interest on Savings Account | E3: 0 | F3: BASIC+D.A. | DR3: UPS Kuhada Khurd
A4: 2. Entertainment Allowance | B4: 0 | D4: 18. Income Of Other Source (Bank FD, Interest etc) | E4: 0 | F4: =Salary!D42+Salary!H42 -> 902524
A5: 3. Expenditure tax under section 16(III) | B5: 0 | D5: 19. 80C - Other Deductions In Under Section | E5: 0 | F5: Taxable Amt
A6: 4. Income from House Property | B6: 0 | D6: 20. (80CCC) Contribution to Pension Plan - Other Than NPS | E6: 0 | F6: ='Tax Old Regime'!P46 -> 770680
A7: 5. House Tax | B7: 0 | D7: 21. 80CCD(1B) Additional Contribution in NPS - (Max. 50000) | E7: 0 | F7: Tax Deposited
A8: 6. Home Loan Principal Amount | B8: 0 | D8: 22. 80D Medical Insurance Premium | E8: 0 | F8: =Salary!W42 -> 12000
A9: 7. Interest of House Loan | B9: 0 | D9: 23. 80DD Medical treatment of dependents with disabilities | E9: 0 | F9: Rebate Under Section 80C, 80CCC, 80CCD(1)
A10: 8. LIC - Life Insurance (Other Than Salary) | B10: 0 | D10: 24. 80DDB Deduction for treatment of specific diseases | E10: 0 | DR10: UPS Banediya Charnan
A11: 9. PLI | B11: 0 | D11: 25. 80E Interest on loan taken for higher education | E11: 0 | DR11: UPS Laxmipura Dhakaran
A12: 10. Tution Fees | B12: 0 | D12: 26. 80G Donations given to charitable institutions etc. | E12: 0 | F12: ='Tax Old Regime'!P30 -> 90608 | DR12: UPS Pathraj Kala
A13: 11. ULIP / Annual Plan | B13: 0 | D13: 27. 80U In case of permanent physical disability | E13: 0
A14: 12. NSC - National Savings Certificate | B14: 0 | D14: 28. 80GGA Donations given for approved scientific, social, rural development etc. | E14: 0 | F14: Receipt Required for House Rent Exemption | DR14: PS Aarampura
A15: 13. Interest of NSC | B15: 0 | D15: 29. Equity Linked Savings Scheme | E15: 0 | DR15: UPS Laxmipura Dhakaran
A16: 14. PPF -Public Provident Fund | B16: 0 | D16: 30. Defferred Annuty | E16: 0 | DR16: UPS Raghunathpura
A17: 15. NSS -National Savings Scheme | B17: 0 | D17: 31. Relief under section 89 | E17: 0 | F17: =IF(B3>=1,(F4*10%+B3),0) -> 0 | DR17: UPS Manda
A18: 16. Sukanya Samriddhi Yojana | B18: 0 | D18: 32. TDS - Income tax deposited in addition to salary bill | E18: 0 | DR18: UPS Sandla
A19: ='Tax Old Regime'!A62 -> Income Tax Payable | D19: ='Tax Old Regime'!P62 -> 57301 | E19: HRA | F19: =Salary!I42 -> 8760 | DR19: UPS Ramsinghpura
A20: ="Total Rebate of (US 80C, 80CCC,80CCD(1)) = "&'Tax Old Regime'!P30 -> Total Rebate of (US 80C, 80CCC,80CCD(1)) = 90608 | D20: ="Investable Amount = "&(150000-'Tax Old Regime'!P30) -> Investable Amount = 59392 | DR20: GSS Ganeshganj
A21: DOWNLOD TAX SOFTWARE - RAJTEACHERS.NET
A22: CREATED BY : PARMANAND MEGHWAL SENIOR TEACHER (9784379510) , BARAN RAJASTHAN.

Sheet Tax Old Regime
A1: =Salary!C15 -> JHS BAKAURA
A2: Income Tax Computation Year 2025-2026 (Assessment Year 2026-2027)
A3: 1 | B3: Name | D3: =Salary!M17 -> Parmanand Meghwal | J3: Designation | K3: =Salary!M19 -> TEACHER | N3: PAN : | O3: =Salary!E19 -> xxxxxx
A4: 2 | B4: Total Income from Salary With NPS | O4: Rs | P4: =IF(Salary!E14="No",Salary!N42,(Salary!N42+Salary!P42)) -> 1036669
A5: 3 | B5: House Rent, Under Section 10(13-A) and other Allowances Under Section 10(14) which are Exempt from tax. | O5: Rs | P5: ='Other Deduction'!B3 -> 0
A6: 4 | B6: Remanent (2-3) | O6: Rs | P6: =P4-P5 -> 1036669
A7: 5 | B7: (i) Entertainment Allowance 16(II) (Maximum limit Rs.5000) | L7: ='Other Deduction'!B4 -> 0
B8: (ii) Expenditure tax under section 16(III) | L8: ='Other Deduction'!B5 -> 0
B9: (iii) Standard Deduction (Maximum limit Rs.50000) | L9: =IF(P6<50000,P6,50000) -> 50000 | O9: Rs | P9: =SUM(L7:N9) -> 50000
A10: 6 | B10: Remanent (4-5) | O10: Rs | P10: =P6-P9 -> 986669
A11: 7 | B11: (A) Income from House Property: (1) In Own Use - Nil | J11: (2) Rent Received is Rs. | L11: ='Other Deduction'!B6 -> 0
B12: (B) Subtract | D12: Rent of 30% | G12: Interest of House Loan | J12: House Tax | L12: Total
D13: =ROUND(L11*0.3,0) -> 0 | G13: =IF((Salary!V42+'Other Deduction'!B9)>200000,200000,(Salary!V42+'Other Deduction'!B9)) -> 0 | J13: ='Other Deduction'!B7 -> 0 | L13: =D13+G13+J13 -> 0
B14: Remainder -/+ (sum of 7(A) and 7(B) | O14: Rs | P14: =L11-L13 -> 0
A15: 8 | B15: Total Balance -/+ (6 & 7) | O15: Rs | P15: =P10+P14 -> 986669
A16: 9 | B16: Other Income | O16: Rs | P16: ='Other Deduction'!E3+'Other Deduction'!E4 -> 0
A17: 10 | B17: Gross Income (8+9) | O17: Rs | P17: =P15+P16 -> 986669
A18: 11 | B18: Deduct Deduction Under Section US - 80C, 80CCC,80CCD (1)
B19: (A) - Maximum limit 1,50,000 & Under Section (80CCE) Except
B20: 1 | C20: NPS (New Pension Scheme) | G20: Rs | H20: =IF(Salary!E14="Yes",Salary!O42,0) -> 89564 | I20: 10 | J20: Contribution to Pension Plan (80CCC) | M20: Rs | N20: ='Other Deduction'!E6 -> 0
B21: 2 | C21: LIC - Life Insurance | G21: Rs | H21: =Salary!S42+'Other Deduction'!B10 -> 0 | I21: 11 | J21: Interest paid on National Savings Certificate | M21: Rs | N21: ='Other Deduction'!B15 -> 0
B22: 3 | C22: NSC - National Savings Certificate | G22: Rs | H22: ='Other Deduction'!B14 -> 0 | I22: 12 | J22: Tution Fees | M22: Rs | N22: ='Other Deduction'!B12 -> 0
B23: 4 | C23: PPF -Public Provident Fund | G23: Rs | H23: ='Other Deduction'!B16 -> 0 | I23: 13 | J23: Equity Linked Savings Scheme | M23: Rs | N23: ='Other Deduction'!E15 -> 0
B24: 5 | C24: NSS -National Savings Scheme | G24: Rs | H24: ='Other Deduction'!B17 -> 0 | I24: 14 | J24: Defferred Annuty | M24: Rs | N24: ='Other Deduction'!E16 -> 0
B25: 6 | C25: GPF -Public provident fund | G25: Rs | H25: =IF(Salary!E14="no",Salary!O42,0) -> 0 | I25: 15 | J25: PLI | M25: Rs | N25: ='Other Deduction'!B11 -> 0
B26: 7 | C26: Group Insurance | G26: Rs | H26: =Salary!Q42 -> 1044 | I26: 16 | J26: Other Deductions - (80C) | M26: Rs | N26: ='Other Deduction'!E5 -> 0
B27: 8 | C27: ULIP / Annual Plan | G27: Rs | H27: ='Other Deduction'!B13 -> 0 | I27: 17 | J27: Sukanya Samriddhi Yojana | M27: Rs | N27: ='Other Deduction'!B18 -> 0
B28: 9 | C28: HBA Premium -Home Loan Principal Amount | G28: Rs | H28: =Salary!U42+'Other Deduction'!B8 -> 0 | I28: 18 | M28: Rs
B29: Total (1 To 18) | M29: Rs | N29: =SUM(H20:H28)+SUM(N20:N28) -> 90608
B30: Maximum Deduction Amount Up to Rs 1.50 lakh | O30: Rs | P30: =IF(N29<150001,ROUND(N29,0),150000) -> 90608
B31: (B) Less - Section 80CCD(2) The Amount of Pension Contribution by the Employer (14% of the Maximum Salary) Separately exempted | O31: Rs | P31: =IF(Salary!E14="yes",Salary!P42,0) -> 125385
B32: (C) Less - Section 80CCD (1B) Additional Contribution to New Pension Scheme (Maximum Rs.50,000) | O32: Rs | P32: ='Other Deduction'!E7 -> 0
B33: Total (A+B+C) | P33: =P30+P31+P32 -> 215993
A34: 12 | B34: Other Deductions
B35: 1. Section 80D Medical Insurance Premium (Rs. 25000 for Self, Spouse and Children, Rs. 25000 for Parents, Rs. 50000 for Senior Citizen) | O35: Rs | P35: ='Other Deduction'!E8 -> 0
B36: 2. Section 80DD Medical Treatment of dependents with Disabilities (maximum 75,000 and 80% or more disability 125,000) | O36: Rs | P36: ='Other Deduction'!E9 -> 0
B37: 3. Section 80DDB Deduction for Treatment of Specific Diseases (Maximum Rs.40,000, Rs.100,000 for Senior Citizen) | O37: Rs | P37: ='Other Deduction'!E10 -> 0
B38: 4. Section 80E Interest on Loan taken for Higher Education | O38: Rs | P38: ='Other Deduction'!E11 -> 0
B39: 5. Section 80G Donations given to Charitable Institutions etc. (100 percent in A category and 50 percent in B category) | O39: Rs | P39: ='Other Deduction'!E12 -> 0
B40: 6. Section 80U In case of Permanent Physical Disability (maximum 75,000 and 125,000 as per the 1995 Act) | O40: Rs | P40: ='Other Deduction'!E13 -> 0
...

Sheet Tax New Regime
A1: =Salary!C15 -> JHS BAKAURA
A2: Income Tax Computation Year 2025-2026 (Assessment Year 2026-2027)
A3: 1 | B3: Name | D3: =Salary!M17 -> Parmanand Meghwal | J3: Designation | K3: =Salary!M19 -> TEACHER | N3: PAN : | O3: =Salary!E19 -> xxxxxx
A4: 2 | B4: Total Income from Salary | O4: Rs | P4: =IF(Salary!E14="No",Salary!N42,(Salary!N42+Salary!P42)) -> 1036669
A5: 3 | B5: House Rent, Under Section 10(13-A) and other Allowances Under Section 10(14) which are Exempt from tax. | O5: Rs
A6: 4 | B6: Remanent (2-3) | O6: Rs | P6: =P4-P5 -> 1036669
A7: 5 | B7: (i) Entertainment Allowance 16(II) (Maximum limit Rs.5000) | L7: ='Other Deduction'!B4 -> 0
B8: (ii) Expenditure tax under section 16(III) | L8: ='Other Deduction'!B5 -> 0
B9: (iii) Standard Deduction (Maximum limit Rs.75000) | L9: 75000 | O9: Rs | P9: =SUM(L7:N9) -> 75000
A10: 6 | B10: Remanent (4-5) | O10: Rs | P10: =P6-P9-L8 -> 961669
A11: 7 | B11: (A) Income from House Property: (1) In Own Use - Nil | J11: (2) Rent Received is Rs. | L11: ='Other Deduction'!B6 -> 0
B12: (B) Subtract | D12: Rent of 30% | G12: Interest of House Loan | J12: House Tax | L12: Total
D13: =ROUND(L11*0.3,0) -> 0 | G13: =IF((Salary!V42+'Other Deduction'!B9)>200000,200000,(Salary!V42+'Other Deduction'!B9)) -> 0 | J13: ='Other Deduction'!B7 -> 0 | L13: =D13+G13+J13 -> 0
B14: Remainder -/+ (sum of 7(A) and 7(B) | O14: Rs | P14: 0
A15: 8 | B15: Total Balance -/+ (6 & 7) | O15: Rs | P15: =P10+P14 -> 961669
A16: 9 | B16: Other Income | O16: Rs | P16: ='Other Deduction'!E3+'Other Deduction'!E4 -> 0
A17: 10 | B17: Gross Income (8+9) | O17: Rs | P17: =P15+P16 -> 961669
A18: 11 | B18: Deduct Deduction Under Section US - 80C, 80CCC,80CCD (1)
B19: (A) - Maximum limit 1,50,000 & Under Section (80CCE) Except
B20: 1 | C20: NPS (New Pension Scheme) | G20: Rs | H20: =IF(Salary!E14="Yes",Salary!O42,0) -> 89564 | I20: 10 | J20: Contribution to Pension Plan (80CCC) | M20: Rs | N20: ='Other Deduction'!E6 -> 0
B21: 2 | C21: LIC - Life Insurance | G21: Rs | H21: =Salary!S42+'Other Deduction'!B10 -> 0 | I21: 11 | J21: Interest paid on National Savings Certificate | M21: Rs | N21: ='Other Deduction'!B15 -> 0
B22: 3 | C22: NSC - National Savings Certificate | G22: Rs | H22: ='Other Deduction'!B14 -> 0 | I22: 12 | J22: Tution Fees | M22: Rs | N22: ='Other Deduction'!B12 -> 0
B23: 4 | C23: PPF -Public Provident Fund | G23: Rs | H23: ='Other Deduction'!B16 -> 0 | I23: 13 | J23: Equity Linked Savings Scheme | M23: Rs | N23: ='Other Deduction'!E15 -> 0
B24: 5 | C24: NSS -National Savings Scheme | G24: Rs | H24: ='Other Deduction'!B17 -> 0 | I24: 14 | J24: Defferred Annuty | M24: Rs | N24: ='Other Deduction'!E16 -> 0
B25: 6 | C25: GPF -Public provident fund | G25: Rs | H25: =IF(Salary!E14="no",Salary!O42,0) -> 0 | I25: 15 | J25: PLI | M25: Rs | N25: ='Other Deduction'!B11 -> 0
B26: 7 | C26: Group Insurance | G26: Rs | H26: =Salary!Q42 -> 1044 | I26: 16 | J26: Other Deductions - (80C) | M26: Rs | N26: ='Other Deduction'!E5 -> 0
B27: 8 | C27: ULIP / Annual Plan | G27: Rs | H27: ='Other Deduction'!B13 -> 0 | I27: 17 | J27: Sukanya Samriddhi Yojana | M27: Rs | N27: ='Other Deduction'!B18 -> 0
B28: 9 | C28: HBA Premium -Home Loan Principal Amount | G28: Rs | H28: =Salary!U42+'Other Deduction'!B8 -> 0 | I28: 18 | M28: Rs
B29: Total (1 To 18) | M29: Rs | N29: =SUM(H20:H28)+SUM(N20:N28) -> 90608
B30: Maximum Deduction Amount Up to Rs 1.50 lakh | O30: Rs | P30: 0
B31: (B) Less - Section 80CCD(2) The Amount of Pension Contribution by the Employer (14% of the Maximum Salary) Separately exempted | O31: Rs | P31: =IF(Salary!E14="yes",Salary!P42,0) -> 125385
B32: (C) Less - Section 80CCD (1B) Additional Contribution to New Pension Scheme (Maximum Rs.50,000) | O32: Rs | P32: 0
B33: Total (A+B+C) | P33: =P30+P31+P32 -> 125385
A34: 12 | B34: Other Deductions
B35: 1. Section 80D Medical Insurance Premium (Rs. 25000 for Self, Spouse and Children, Rs. 25000 for Parents, Rs. 50000 for Senior Citizen) | O35: Rs | P35: 0
B36: 2. Section 80DD Medical Treatment of dependents with Disabilities (maximum 75,000 and 80% or more disability 125,000) | O36: Rs | P36: 0
B37: 3. Section 80DDB Deduction for Treatment of Specific Diseases (Maximum Rs.40,000, Rs.100,000 for Senior Citizen) | O37: Rs | P37: 0
B38: 4. Section 80E Interest on Loan taken for Higher Education | O38: Rs | P38: 0
B39: 5. Section 80G Donations given to Charitable Institutions etc. (100 percent in A category and 50 percent in B category) | O39: Rs | P39: 0
B40: 6. Section 80U In case of Permanent Physical Disability (maximum 75,000 and 125,000 as per the 1995 Act) | O40: Rs | P40: 0
...
