Workbook
Name _tds1: #REF!
Name _tds1: #REF!
Name _tds2: #REF!
Name _tds2: #REF!
Name AIR.Code001: #REF!
Name AIR.Code001: #REF!
Name AIR.Code002: #REF!
Name AIR.Code002: #REF!
Name AIR.Code003: #REF!
Name AIR.Code003: #REF!
Name AIR.Code004: #REF!
Name AIR.Code004: #REF!
Name AIR.Code005: #REF!
Name AIR.Code005: #REF!
Name AIR.Code006: #REF!
Name AIR.Code006: #REF!
Name AIR.Code007: #REF!
Name AIR.Code007: #REF!
Name AIR.Code008: #REF!
Name AIR.Code008: #REF!
Name AIR.TaxExmpIntInc: #REF!
Name AIR.TaxExmpIntInc: #REF!
Name Bank1: #REF!
Name Bank1: #REF!
Name Bank10: #REF!
Name Bank10: #REF!
Name Bank11: #REF!
Name Bank11: #REF!
Name Bank12: #REF!
Name Bank12: #REF!
Name Bank2: #REF!
Name Bank2: #REF!
Name Bank3: #REF!
Name Bank3: #REF!
Name Bank4: #REF!
Name Bank4: #REF!
Name Bank5: #REF!
Name Bank5: #REF!
Name Bank6: #REF!
Name Bank6: #REF!
Name Bank6PCAR: #REF!
Name Bank6PCAR: #REF!
Name Bank7: #REF!
Name Bank7: #REF!
Name Bank8: #REF!
Name Bank8: #REF!
Name Bank9: #REF!
Name Bank9: #REF!
Name BankAccNo: #REF!
Name BankAccNo: #REF!
Name BankArrear: #REF!
Name BankArrear: #REF!
Name BankArrear0: #REF!
Name BankArrear0: #REF!
Name BankArrear1: #REF!
Name BankArrear1: #REF!
Name BankArrear2: #REF!
Name BankArrear2: #REF!
Name BankArrear3: #REF!
Name BankArrear3: #REF!

Sheet Salary Seet
C2: NPS EMPLOYEE | E2: No | G2: HRA | I2: 0.1 | J2: TRANSPORT ALLOWANCE CITY | P2: OTHER | S2: LEVEL | U2: L-14 | V2: BONUS | X2: Yes | Y2: MARCH 2025 BASIC | AB2: 61500 | AC2: 0.09 | AD2: 0.18
S4: =T4&" / "&U4 -> TPTA / L-1 | T4: TPTA | U4: L-1 | V4: 1350
S5: =T5&" / "&U5 -> TPTA / L-2 | T5: TPTA | U5: L-2 | V5: 1350 | AB5: =VLOOKUP(P2&" / "&U2,S3:V63,4,0) -> 3600
S6: =T6&" / "&U6 -> TPTA / L-3 | T6: TPTA | U6: L-3 | V6: 3600
S7: =T7&" / "&U7 -> TPTA / L-4 | T7: TPTA | U7: L-4 | V7: 3600
S8: =T8&" / "&U8 -> TPTA / L-5 | T8: TPTA | U8: L-5 | V8: 3600
S9: =T9&" / "&U9 -> TPTA / L-6 | T9: TPTA | U9: L-6 | V9: 3600
S10: =T10&" / "&U10 -> TPTA / L-7 | T10: TPTA | U10: L-7 | V10: 3600
S11: =T11&" / "&U11 -> TPTA / L-8 | T11: TPTA | U11: L-8 | V11: 3600
S12: =T12&" / "&U12 -> TPTA / L-9 | T12: TPTA | U12: L-9 | V12: 7200
S13: =T13&" / "&U13 -> TPTA / L-10 | T13: TPTA | U13: L-10 | V13: 7200
S14: =T14&" / "&U14 -> TPTA / L-11 | T14: TPTA | U14: L-11 | V14: 7200
S15: =T15&" / "&U15 -> TPTA / L-12 | T15: TPTA | U15: L-12 | V15: 7200
S16: =T16&" / "&U16 -> TPTA / L-13 | T16: TPTA | U16: L-13 | V16: 7200
S17: =T17&" / "&U17 -> TPTA / L-14 | T17: TPTA | U17: L-14 | V17: 7200
... S63: =T63&" / "&U63 -> Not Allowed / L-20 | T63: Not Allowed | U63: L-20 | V63: 0
C66: Govt Senior Secondary School, Gordhanpura Baran. | AC66: Yes | AD66: Yes
C67: Incometax Computation Financial (2025-26) Assessment Year (2026-27) | AC67: No | AD67: No
C68: Name Of Employee | E68: PARMANAND MEGHWAL | K68: Designation | O68: PRINCIPAL | V68: EMPLOYEE ID | Y68: 123456789 | AA68: PAN | AB68: AAAAAAA | AC68: TPTA
C69: DDO Code | E69: 21719 | K69: DDO Name | O69: ASHOK KUMAR SHARMA | V69: MOBILE NO. | Y69: 9784379510 | AA69: TAN | AB69: AAAAAAA | AC69: OTHER
C70: RECEIPTS | P70: DEDUCTIONS | AA70: Net Cash Payment | AB70: Bill No. & T.V. No. | AC70: Not Allowed
C71: Month | D71: Basic Pay | E71: Dearness Pay | F71: Leave Pay | G71: Spl. Pay | H71: D.A. | I71: HRA | J71: Washing Allow. | K71: C.C.A. | L71: Handicap Allow | M71: Transport Allow. | N71: Other Allowance | O71: Gross Salary | P71: =IF(E2="No","GPF","NPS") -> GPF | Q71: GOVT NPS | R71: CGEGIS | S71: CGHS | T71: LIC | U71: Professional Tax | V71: Recovery | W71: Other Deduction | X71: Income Tax / TDS | Y71: Other Deduction | Z71: Total Deduction
B72: 3 | C72: 45717 | D72: =AB2 -> 61500 | E72: 0 | F72: 0 | G72: 0 | H72: =ROUND(53%*D72,0) -> 32595 | I72: =IF($I$2=20%,ROUND(0.18*D72,0),ROUND(0.09*D72,0)) -> 5535 | J72: 0 | K72: 0 | L72: 0 | M72: =$AB$5*38%+$AB$5 -> 4968 | N72: 0 | O72: =SUM(D72:N72) -> 104598 | P72: =IF($E$2="Yes",ROUND((D72+H72)*14/100,0),IF($E$2="No",IF(D74<23101,1450,IF(D74<28501,1625,IF(D74<38501,2100,IF(D74<51501,2850,IF(D74<62001,3575,IF(D74<72001,4200,IF(D74<80001,4800,IF(D74<116001,6150,IF(D74<167001,8900,10500))))))))),0)) -> 3575 | Q72: =IF($E$2="Yes",ROUND((D72+H72)*10/100,0),IF($E$2="No",IF(D74<23101,1450,IF(D74<28501,1625,IF(D74<38501,2100,IF(D74<51501,2850,IF(D74<62001,3575,IF(D74<72001,4200,IF(D74<80001,4800,IF(D74<116001,6150,IF(D74<167001,8900,10500))))))))),0)) -> 3575 | R72: 30 | S72: 450 | T72: 0 | U72: 250 | X72: 1000 | Z72: =SUM(Q72:Y72) -> 5305 | AA72: =O72-Z72 -> 99293 | AC72: L-1
B73: 4 | C73: 45748 | D73: =D72 -> 61500 | E73: =IF(E$72=0,0,ROUND(D73/2,0)) -> 0 | F73: =IF(F$72=0,0,F72) -> 0 | G73: =IF(G$72=0,0,G72) -> 0 | H73: =ROUND(55%*D73,0) -> 33825 | I73: =IF($I$2=20%,ROUND(0.18*D73,0),ROUND(0.09*D73,0)) -> 5535 | J73: =IF(J$72=0,0,J72) -> 0 | K73: =IF(K$72=0,0,K72) -> 0 | L73: =IF(L$72=0,0,L72) -> 0 | M73: =$AB$5*42%+$AB$5 -> 5112 | N73: =IF(N$72=0,0,N72) -> 0 | O73: =SUM(D73:N73) -> 105972 | P73: =IF($E$2="Yes",ROUND((D73+H73)*14/100,0),IF($E$2="No",IF(D75<23101,1450,IF(D75<28501,1625,IF(D75<38501,2100,IF(D75<51501,2850,IF(D75<62001,3575,IF(D75<72001,4200,IF(D75<80001,4800,IF(D75<116001,6150,IF(D75<167001,8900,10500))))))))),0)) -> 3575 | Q73: =IF($E$2="Yes",ROUND((D73+H73)*10/100,0),IF($E$2="No",IF(D75<23101,1450,IF(D75<28501,1625,IF(D75<38501,2100,IF(D75<51501,2850,IF(D75<62001,3575,IF(D75<72001,4200,IF(D75<80001,4800,IF(D75<116001,6150,IF(D75<167001,8900,10500))))))))),0)) -> 3575 | R73: =R72 -> 30 | S73: =S72 -> 450 | T73: =T72 -> 0 | U73: =U72 -> 250 | V73: =V72 -> 0 | W73: =W72 -> 0 | X73: =X72 -> 1000 | Y73: =Y72 -> 0 | Z73: =SUM(Q73:Y73) -> 5305 | AA73: =O73-Z73 -> 100667 | AC73: L-2
B74: 5 | C74: 45778 | D74: =D73 -> 61500 | E74: =IF($E$72=0,0,ROUND(D74/2,0)) -> 0 | F74: =IF(F$72=0,0,F73) -> 0 | G74: =IF(G$72=0,0,G73) -> 0 | H74: =ROUND(55%*D74,0) -> 33825 | I74: =IF($I$2=20%,ROUND(0.18*D74,0),ROUND(0.09*D74,0)) -> 5535 | J74: =IF(J$72=0,0,J73) -> 0 | K74: =IF(K$72=0,0,K73) -> 0 | L74: =IF(L$72=0,0,L73) -> 0 | M74: =$AB$5*42%+$AB$5 -> 5112 | N74: =IF(N$72=0,0,N73) -> 0 | O74: =SUM(D74:N74) -> 105972 | P74: =IF($E$2="Yes",ROUND((D74+H74)*14/100,0),IF($E$2="No",IF(D76<23101,1450,IF(D76<28501,1625,IF(D76<38501,2100,IF(D76<51501,2850,IF(D76<62001,3575,IF(D76<72001,4200,IF(D76<80001,4800,IF(D76<116001,6150,IF(D76<167001,8900,10500))))))))),0)) -> 4200 | Q74: =IF($E$2="Yes",ROUND((D74+H74)*10/100,0),IF($E$2="No",IF(D76<23101,1450,IF(D76<28501,1625,IF(D76<38501,2100,IF(D76<51501,2850,IF(D76<62001,3575,IF(D76<72001,4200,IF(D76<80001,4800,IF(D76<116001,6150,IF(D76<167001,8900,10500))))))))),0)) -> 4200 | R74: =R73 -> 30 | S74: =S73 -> 450 | T74: =T73 -> 0 | U74: =U73 -> 250 | V74: =V73 -> 0 | W74: =W73 -> 0 | X74: =X73 -> 1000 | Y74: =Y73 -> 0 | Z74: =SUM(Q74:Y74) -> 5930 | AA74: =O74-Z74 -> 100042 | AC74: L-3
B75: 6 | C75: 45809 | D75: =D74 -> 61500 | E75: =IF($E$72=0,0,ROUND(D75/2,0)) -> 0 | F75: =IF(F$72=0,0,F74) -> 0 | G75: =IF(G$72=0,0,G74) -> 0 | H75: =ROUND(55%*D75,0) -> 33825 | I75: =IF($I$2=20%,ROUND(0.18*D75,0),ROUND(0.09*D75,0)) -> 5535 | J75: =IF(J$72=0,0,J74) -> 0 | K75: =IF(K$72=0,0,K74) -> 0 | L75: =IF(L$72=0,0,L74) -> 0 | M75: =$AB$5*42%+$AB$5 -> 5112 | N75: =IF(N$72=0,0,N74) -> 0 | O75: =SUM(D75:N75) -> 105972 | P75: =IF($E$2="Yes",ROUND((D75+H75)*14/100,0),IF($E$2="No",IF(D77<23101,1450,IF(D77<28501,1625,IF(D77<38501,2100,IF(D77<51501,2850,IF(D77<62001,3575,IF(D77<72001,4200,IF(D77<80001,4800,IF(D77<116001,6150,IF(D77<167001,8900,10500))))))))),0)) -> 4200 | Q75: =IF($E$2="Yes",ROUND((D75+H75)*10/100,0),IF($E$2="No",IF(D77<23101,1450,IF(D77<28501,1625,IF(D77<38501,2100,IF(D77<51501,2850,IF(D77<62001,3575,IF(D77<72001,4200,IF(D77<80001,4800,IF(D77<116001,6150,IF(D77<167001,8900,10500))))))))),0)) -> 4200 | R75: =R74 -> 30 | S75: =S74 -> 450 | T75: =T74 -> 0 | U75: =U74 -> 250 | V75: =V74 -> 0 | W75: =W74 -> 0 | X75: =X74 -> 1000 | Y75: =Y74 -> 0 | Z75: =SUM(Q75:Y75) -> 5930 | AA75: =O75-Z75 -> 100042 | AC75: L-4
B76: 7 | C76: 45839 | D76: =MROUND(ROUND(1.03*D72,0),100) -> 63300 | E76: =IF($E$72=0,0,ROUND(D76/2,0)) -> 0 | F76: =IF(F$72=0,0,F75) -> 0 | G76: =IF(G$72=0,0,G75) -> 0 | H76: =ROUND(55%*D76,0) -> 34815 | I76: =IF($I$2=20%,ROUND(0.18*D76,0),ROUND(0.09*D76,0)) -> 5697 | J76: =IF(J$72=0,0,J75) -> 0 | K76: =IF(K$72=0,0,K75) -> 0 | L76: =IF(L$72=0,0,L75) -> 0 | M76: =$AB$5*42%+$AB$5 -> 5112 | N76: =IF(N$72=0,0,N75) -> 0 | O76: =SUM(D76:N76) -> 108924 | P76: =IF($E$2="Yes",ROUND((D76+H76)*14/100,0),IF($E$2="No",IF(D78<23101,1450,IF(D78<28501,1625,IF(D78<38501,2100,IF(D78<51501,2850,IF(D78<62001,3575,IF(D78<72001,4200,IF(D78<80001,4800,IF(D78<116001,6150,IF(D78<167001,8900,10500))))))))),0)) -> 4200 | Q76: =IF($E$2="Yes",ROUND((D76+H76)*10/100,0),IF($E$2="No",IF(D78<23101,1450,IF(D78<28501,1625,IF(D78<38501,2100,IF(D78<51501,2850,IF(D78<62001,3575,IF(D78<72001,4200,IF(D78<80001,4800,IF(D78<116001,6150,IF(D78<167001,8900,10500))))))))),0)) -> 4200 | R76: =R75 -> 30 | S76: =S75 -> 450 | T76: =T75 -> 0 | U76: =U75 -> 250 | V76: =V75 -> 0 | W76: =W75 -> 0 | X76: =X75 -> 1000 | Y76: =Y75 -> 0 | Z76: =SUM(Q76:Y76) -> 5930 | AA76: =O76-Z76 -> 102994 | AC76: L-5
B77: 8 | C77: 45870 | D77: =D76 -> 63300 | E77: =IF($E$72=0,0,ROUND(D77/2,0)) -> 0 | F77: =IF(F$72=0,0,F76) -> 0 | G77: =IF(G$72=0,0,G76) -> 0 | H77: =ROUND(55%*D77,0) -> 34815 | I77: =IF($I$2=20%,ROUND(0.18*D77,0),ROUND(0.09*D77,0)) -> 5697 | J77: =IF(J$72=0,0,J76) -> 0 | K77: =IF(K$72=0,0,K76) -> 0 | L77: =IF(L$72=0,0,L76) -> 0 | M77: =$AB$5*42%+$AB$5 -> 5112 | N77: =IF(N$72=0,0,N76) -> 0 | O77: =SUM(D77:N77) -> 108924 | P77: =IF($E$2="Yes",ROUND((D77+H77)*14/100,0),IF($E$2="No",IF(D79<23101,1450,IF(D79<28501,1625,IF(D79<38501,2100,IF(D79<51501,2850,IF(D79<62001,3575,IF(D79<72001,4200,IF(D79<80001,4800,IF(D79<116001,6150,IF(D79<167001,8900,10500))))))))),0)) -> 4200 | Q77: =IF($E$2="Yes",ROUND((D77+H77)*10/100,0),IF($E$2="No",IF(D79<23101,1450,IF(D79<28501,1625,IF(D79<38501,2100,IF(D79<51501,2850,IF(D79<62001,3575,IF(D79<72001,4200,IF(D79<80001,4800,IF(D79<116001,6150,IF(D79<167001,8900,10500))))))))),0)) -> 4200 | R77: =R76 -> 30 | S77: =S76 -> 450 | T77: =T76 -> 0 | U77: =U76 -> 250 | V77: =V76 -> 0 | W77: =W76 -> 0 | X77: =X76 -> 1000 | Y77: =Y76 -> 0 | Z77: =SUM(Q77:Y77) -> 5930 | AA77: =O77-Z77 -> 102994 | AC77: L-6
B78: 9 | C78: 45901 | D78: =D77 -> 63300 | E78: =IF($E$72=0,0,ROUND(D78/2,0)) -> 0 | F78: =IF(F$72=0,0,F77) -> 0 | G78: =IF(G$72=0,0,G77) -> 0 | H78: =ROUND(55%*D78,0) -> 34815 | I78: =IF($I$2=20%,ROUND(0.18*D78,0),ROUND(0.09*D78,0)) -> 5697 | J78: =IF(J$72=0,0,J77) -> 0 | K78: =IF(K$72=0,0,K77) -> 0 | L78: =IF(L$72=0,0,L77) -> 0 | M78: =$AB$5*42%+$AB$5 -> 5112 | N78: =IF(N$72=0,0,N77) -> 0 | O78: =SUM(D78:N78) -> 108924 | P78: =IF($E$2="Yes",ROUND((D78+H78)*14/100,0),IF($E$2="No",IF(D80<23101,1450,IF(D80<28501,1625,IF(D80<38501,2100,IF(D80<51501,2850,IF(D80<62001,3575,IF(D80<72001,4200,IF(D80<80001,4800,IF(D80<116001,6150,IF(D80<167001,8900,10500))))))))),0)) -> 4200 | Q78: =IF($E$2="Yes",ROUND((D78+H78)*10/100,0),IF($E$2="No",IF(D80<23101,1450,IF(D80<28501,1625,IF(D80<38501,2100,IF(D80<51501,2850,IF(D80<62001,3575,IF(D80<72001,4200,IF(D80<80001,4800,IF(D80<116001,6150,IF(D80<167001,8900,10500))))))))),0)) -> 4200 | R78: =R77 -> 30 | S78: =S77 -> 450 | T78: =T77 -> 0 | U78: =U77 -> 250 | V78: =V77 -> 0 | W78: =W77 -> 0 | X78: =X77 -> 1000 | Y78: =Y77 -> 0 | Z78: =SUM(Q78:Y78) -> 5930 | AA78: =O78-Z78 -> 102994 | AC78: L-7
B79: 10 | C79: 45931 | D79: =D78 -> 63300 | E79: =IF($E$72=0,0,ROUND(D79/2,0)) -> 0 | F79: =IF(F$72=0,0,F78) -> 0 | G79: =IF(G$72=0,0,G78) -> 0 | H79: =ROUND(58%*D79,0) -> 36714 | I79: =IF($I$2=20%,ROUND(0.18*D79,0),ROUND(0.09*D79,0)) -> 5697 | J79: =IF(J$72=0,0,J78) -> 0 | K79: =IF(K$72=0,0,K78) -> 0 | L79: =IF(L$72=0,0,L78) -> 0 | M79: =$AB$5*46%+$AB$5 -> 5256 | N79: =IF(N$72=0,0,N78) -> 0 | O79: =SUM(D79:N79) -> 110967 | P79: =IF($E$2="Yes",ROUND((D79+H79)*14/100,0),IF($E$2="No",IF(D81<23101,1450,IF(D81<28501,1625,IF(D81<38501,2100,IF(D81<51501,2850,IF(D81<62001,3575,IF(D81<72001,4200,IF(D81<80001,4800,IF(D81<116001,6150,IF(D81<167001,8900,10500))))))))),0)) -> 4200 | Q79: =IF($E$2="Yes",ROUND((D79+H79)*10/100,0),IF($E$2="No",IF(D81<23101,1450,IF(D81<28501,1625,IF(D81<38501,2100,IF(D81<51501,2850,IF(D81<62001,3575,IF(D81<72001,4200,IF(D81<80001,4800,IF(D81<116001,6150,IF(D81<167001,8900,10500))))))))),0)) -> 4200 | R79: =R78 -> 30 | S79: =S78 -> 450 | T79: =T78 -> 0 | U79: =U78 -> 250 | V79: =V78 -> 0 | W79: =W78 -> 0 | X79: =X78 -> 1000 | Y79: =Y78 -> 0 | Z79: =SUM(Q79:Y79) -> 5930 | AA79: =O79-Z79 -> 105037 | AC79: L-8
B80: 11 | C80: 45962 | D80: =D79 -> 63300 | E80: =IF($E$72=0,0,ROUND(D80/2,0)) -> 0 | F80: =IF(F$72=0,0,F79) -> 0 | G80: =IF(G$72=0,0,G79) -> 0 | H80: =ROUND(58%*D80,0) -> 36714 | I80: =IF($I$2=20%,ROUND(0.2*D80,0),ROUND(0.1*D80,0)) -> 6330 | J80: =IF(J$72=0,0,J79) -> 0 | K80: =IF(K$72=0,0,K79) -> 0 | L80: =IF(L$72=0,0,L79) -> 0 | M80: =$AB$5*46%+$AB$5 -> 5256 | N80: =IF(N$72=0,0,N79) -> 0 | O80: =SUM(D80:N80) -> 111600 | P80: =IF($E$2="Yes",ROUND((D80+H80)*14/100,0),IF($E$2="No",IF(D82<23101,1450,IF(D82<28501,1625,IF(D82<38501,2100,IF(D82<51501,2850,IF(D82<62001,3575,IF(D82<72001,4200,IF(D82<80001,4800,IF(D82<116001,6150,IF(D82<167001,8900,10500))))))))),0)) -> 4200 | Q80: =IF($E$2="Yes",ROUND((D80+H80)*10/100,0),IF($E$2="No",IF(D82<23101,1450,IF(D82<28501,1625,IF(D82<38501,2100,IF(D82<51501,2850,IF(D82<62001,3575,IF(D82<72001,4200,IF(D82<80001,4800,IF(D82<116001,6150,IF(D82<167001,8900,10500))))))))),0)) -> 4200 | R80: =R79 -> 30 | S80: =S79 -> 450 | T80: =T79 -> 0 | U80: =U79 -> 250 | V80: =V79 -> 0 | W80: =W79 -> 0 | X80: =X79 -> 1000 | Y80: =Y79 -> 0 | Z80: =SUM(Q80:Y80) -> 5930 | AA80: =O80-Z80 -> 105670 | AC80: L-9
B81: 12 | C81: 45992 | D81: =D80 -> 63300 | E81: =IF($E$72=0,0,ROUND(D81/2,0)) -> 0 | F81: =IF(F$72=0,0,F80) -> 0 | G81: =IF(G$72=0,0,G80) -> 0 | H81: =ROUND(58%*D81,0) -> 36714 | I81: =IF($I$2=20%,ROUND(0.2*D81,0),ROUND(0.1*D81,0)) -> 6330 | J81: =IF(J$72=0,0,J80) -> 0 | K81: =IF(K$72=0,0,K80) -> 0 | L81: =IF(L$72=0,0,L80) -> 0 | M81: =$AB$5*46%+$AB$5 -> 5256 | N81: =IF(N$72=0,0,N80) -> 0 | O81: =SUM(D81:N81) -> 111600 | P81: =IF($E$2="Yes",ROUND((D81+H81)*14/100,0),IF($E$2="No",IF(D83<23101,1450,IF(D83<28501,1625,IF(D83<38501,2100,IF(D83<51501,2850,IF(D83<62001,3575,IF(D83<72001,4200,IF(D83<80001,4800,IF(D83<116001,6150,IF(D83<167001,8900,10500))))))))),0)) -> 4200 | Q81: =IF($E$2="Yes",ROUND((D81+H81)*10/100,0),IF($E$2="No",IF(D83<23101,1450,IF(D83<28501,1625,IF(D83<38501,2100,IF(D83<51501,2850,IF(D83<62001,3575,IF(D83<72001,4200,IF(D83<80001,4800,IF(D83<116001,6150,IF(D83<167001,8900,10500))))))))),0)) -> 4200 | R81: =R80 -> 30 | S81: =S80 -> 450 | T81: =T80 -> 0 | U81: =U80 -> 250 | V81: =V80 -> 0 | W81: =W80 -> 0 | X81: =X80 -> 1000 | Z81: =SUM(Q81:Y81) -> 5930 | AA81: =O81-Z81 -> 105670 | AC81: L-10
B82: 1 | C82: 46023 | D82: =D81 -> 63300 | E82: =IF($E$72=0,0,ROUND(D82/2,0)) -> 0 | F82: =IF(F$72=0,0,F81) -> 0 | G82: =IF(G$72=0,0,G81) -> 0 | H82: =ROUND(58%*D82,0) -> 36714 | I82: =IF($I$2=20%,ROUND(0.2*D82,0),ROUND(0.1*D82,0)) -> 6330 | J82: =IF(J$72=0,0,J81) -> 0 | K82: =IF(K$72=0,0,K81) -> 0 | L82: =IF(L$72=0,0,L81) -> 0 | M82: =$AB$5*46%+$AB$5 -> 5256 | N82: =IF(N$72=0,0,N81) -> 0 | O82: =SUM(D82:N82) -> 111600 | P82: =IF($E$2="Yes",ROUND((D82+H82)*14/100,0),IF($E$2="No",IF(D84<23101,1450,IF(D84<28501,1625,IF(D84<38501,2100,IF(D84<51501,2850,IF(D84<62001,3575,IF(D84<72001,4200,IF(D84<80001,4800,IF(D84<116001,6150,IF(D84<167001,8900,10500))))))))),0)) -> 1450 | Q82: =IF($E$2="Yes",ROUND((D82+H82)*10/100,0),IF($E$2="No",IF(D84<23101,1450,IF(D84<28501,1625,IF(D84<38501,2100,IF(D84<51501,2850,IF(D84<62001,3575,IF(D84<72001,4200,IF(D84<80001,4800,IF(D84<116001,6150,IF(D84<167001,8900,10500))))))))),0)) -> 1450 | R82: =R81 -> 30 | S82: =S81 -> 450 | T82: =T81 -> 0 | U82: =U81 -> 250 | V82: =V81 -> 0 | W82: =W81 -> 0 | X82: =X81 -> 1000 | Z82: =SUM(Q82:Y82) -> 3180 | AA82: =O82-Z82 -> 108420 | AC82: L-11
B83: 2 | C83: 46054 | D83: =D82 -> 63300 | E83: =IF($E$72=0,0,ROUND(D83/2,0)) -> 0 | F83: =IF(F$72=0,0,F82) -> 0 | G83: =IF(G$72=0,0,G82) -> 0 | H83: =ROUND(58%*D83,0) -> 36714 | I83: =IF($I$2=20%,ROUND(0.2*D83,0),ROUND(0.1*D83,0)) -> 6330 | J83: =IF(J$72=0,0,J82) -> 0 | K83: =IF(K$72=0,0,K82) -> 0 | L83: =IF(L$72=0,0,L82) -> 0 | M83: =$AB$5*46%+$AB$5 -> 5256 | N83: =IF(N$72=0,0,N82) -> 0 | O83: =SUM(D83:N83) -> 111600 | P83: =IF($E$2="Yes",ROUND((D83+H83)*14/100,0),IF($E$2="No",IF(D85<23101,1450,IF(D85<28501,1625,IF(D85<38501,2100,IF(D85<51501,2850,IF(D85<62001,3575,IF(D85<72001,4200,IF(D85<80001,4800,IF(D85<116001,6150,IF(D85<167001,8900,10500))))))))),0)) -> 1450 | Q83: =IF($E$2="Yes",ROUND((D83+H83)*10/100,0),IF($E$2="No",IF(D85<23101,1450,IF(D85<28501,1625,IF(D85<38501,2100,IF(D85<51501,2850,IF(D85<62001,3575,IF(D85<72001,4200,IF(D85<80001,4800,IF(D85<116001,6150,IF(D85<167001,8900,10500))))))))),0)) -> 1450 | R83: =R82 -> 30 | S83: =S82 -> 450 | T83: =T82 -> 0 | U83: =U82 -> 250 | V83: =V82 -> 0 | W83: =W82 -> 0 | X83: =X82 -> 1000 | Z83: =SUM(Q83:Y83) -> 3180 | AA83: =O83-Z83 -> 108420 | AC83: L-12
C84: DA Arrear 55% | H84: =(ROUND(55%*D72,0)-ROUND(53%*D72,0))*3 -> 3690 | M84: =($AB$5*4%)*3 -> 432 | O84: =SUM(D84:N84) -> 4122 | P84: =IF($E$2="Yes",ROUND((D84+H84)*14/100,0),IF($E$2="No",IF(D86<23101,1450,IF(D86<28501,1625,IF(D86<38501,2100,IF(D86<51501,2850,IF(D86<62001,3575,IF(D86<72001,4200,IF(D86<80001,4800,IF(D86<116001,6150,IF(D86<167001,8900,10500))))))))),0)) -> 1450 | Q84: =IF($E$2="Yes",ROUND((D84+H84)*10/100,0),IF($E$2="No",IF(D86<23101,1450,IF(D86<28501,1625,IF(D86<38501,2100,IF(D86<51501,2850,IF(D86<62001,3575,IF(D86<72001,4200,IF(D86<80001,4800,IF(D86<116001,6150,IF(D86<167001,8900,10500))))))))),0)) -> 1450 | T84: 0 | Z84: =SUM(Q84:Y84) -> 1450 | AA84: =O84-Z84 -> 2672 | AC84: L-13
C85: DA Arrear 58% | H85: =(ROUND(58%*D76,0)-ROUND(55%*D76,0))*3 -> 5697 | M85: =($AB$5*4%)*3 -> 432 | O85: =SUM(D85:N85) -> 6129 | P85: =IF($E$2="Yes",ROUND((D85+H85)*14/100,0),IF($E$2="No",IF(D87<23101,1450,IF(D87<28501,1625,IF(D87<38501,2100,IF(D87<51501,2850,IF(D87<62001,3575,IF(D87<72001,4200,IF(D87<80001,4800,IF(D87<116001,6150,IF(D87<167001,8900,10500))))))))),0)) -> 1450 | Q85: =IF($E$2="Yes",ROUND((D85+H85)*10/100,0),IF($E$2="No",IF(D87<23101,1450,IF(D87<28501,1625,IF(D87<38501,2100,IF(D87<51501,2850,IF(D87<62001,3575,IF(D87<72001,4200,IF(D87<80001,4800,IF(D87<116001,6150,IF(D87<167001,8900,10500))))))))),0)) -> 1450 | T85: 0 | Z85: =SUM(Q85:Y85) -> 1450 | AA85: =O85-Z85 -> 4679 | AC85: L-14
C86: Bonus | D86: =IF(X2="Yes",6908,0) -> 6908 | O86: =SUM(D86:N86) -> 6908 | Z86: =SUM(Q86:Y86) -> 0 | AA86: =O86-Z86 -> 6908 | AC86: L-15
C87: Fixation Arrear | O87: =SUM(D87:N87) -> 0 | Z87: =SUM(Q87:Y87) -> 0 | AA87: =O87-Z87 -> 0 | AC87: L-16
C88: Salary Arrear 1 | O88: =SUM(D88:N88) -> 0 | P88: =IF($E$2="Yes",ROUND((D88+H88)*10/100,0),IF($E$2="No",IF(D90<23101,1450,IF(D90<28501,1625,IF(D90<38501,2100,IF(D90<51501,2850,IF(D90<62001,3575,IF(D90<72001,4200,IF(D90<80001,4800,IF(D90<116001,6150,IF(D90<167001,8900,10500))))))))),0)) -> 1450 | Z88: =SUM(Q88:Y88) -> 0 | AA88: =O88-Z88 -> 0 | AC88: L-17
C89: Salary Arrear 2 | O89: =SUM(D89:N89) -> 0 | Z89: =SUM(Q89:Y89) -> 0 | AA89: =O89-Z89 -> 0 | AC89: L-18
...

Sheet Other Deduction
A1: Details of Deductions, Income/Deposits and Exemptions Other Than Salary
A2: ='Salary Seet'!E68 -> PARMANAND MEGHWAL
A3: 1. House Rent | B3: 0 | D3: 18. 80TTA/80TTB Maximum Interest on Savings Account | E3: 0 | F3: BASIC+D.A. | DR3: UPS Kuhada Khurd
A4: 2. Entertainment Allowance | B4: 0 | D4: 19. Income Of Other Source (Bank FD, Interest etc) | E4: 0 | F4: ='Salary Seet'!D92+'Salary Seet'!H92 -> 1190780
A5: 3. Expenditure tax under section 16(III) | B5: 0 | D5: 20. 80C - Other Deductions In Under Section | E5: 0 | F5: Taxable Amt
A6: 4. Income from House Property | B6: 0 | D6: 21. (80CCC) Contribution to Pension Plan - Other Than NPS | E6: 0 | F6: ='Tax Old Regime'!P49 -> 1197450
A7: 5. House Tax | B7: 0 | D7: 22. 80CCD(1B) Additional Contribution in NPS - (Max. 50000) | E7: 0 | F7: Tax Deposited
A8: 6. Home Loan Principal Amount | B8: 0 | D8: 23. 80D Medical Insurance Premium | E8: 0 | F8: ='Salary Seet'!X92 -> 12000
A9: 7. Interest of House Loan | B9: 0 | D9: 24. 80DD Medical treatment of dependents with disabilities | E9: 0 | F9: Rebate Under Section 80C, 80CCC, 80CCD(1)
A10: 8. LIC - Life Insurance (Other Than Salary) | B10: 0 | D10: 25. 80DDB Deduction for treatment of specific diseases | E10: 0 | DR10: UPS Banediya Charnan
A11: 9. PLI | B11: 0 | D11: 26. 80E Interest on loan taken for higher education | E11: 0 | DR11: UPS Laxmipura Dhakaran
A12: 10. Tution Fees | B12: 0 | D12: 27. 80G Donations given to charitable institutions etc. | E12: 0 | F12: ='Tax Old Regime'!P32 -> 48360 | DR12: UPS Pathraj Kala
A13: 11. ULIP / Annual Plan | B13: 0 | D13: 28. 80U In case of permanent physical disability | E13: 0
A14: 12. NSC - National Savings Certificate | B14: 0 | D14: 29. 80GGA Donations given for approved scientific, social, rural development etc. | E14: 0 | F14: Receipt Required for House Rent Exemption | DR14: PS Aarampura
A15: 13. Interest of NSC | B15: 0 | D15: 30. Equity Linked Savings Scheme | E15: 0 | DR15: UPS Laxmipura Dhakaran
A16: 14. PPF -Public Provident Fund | B16: 0 | D16: 31. Defferred Annuty | E16: 0 | DR16: UPS Raghunathpura
A17: 15. NSS -National Savings Scheme | B17: 0 | D17: 32. Relief under section 89 | E17: 0 | F17: =IF(B3>=1,(F4*10%+B3),0) -> 0 | DR17: UPS Manda
A18: 16. Sukanya Samriddhi Yojana | B18: 0 | D18: 33. TDS - Income tax deposited in addition to salary bill | E18: 0 | DR18: UPS Sandla
A19: 17. Section 10(14) Deduction | B19: 0 | D19: 34. Section 80GGC Donations Made to Political Parties | E19: 0
A20: ='Tax Old Regime'!A65 -> Income Tax Payable | D20: ='Tax Old Regime'!P65 -> 166604 | E20: HRA | F20: ='Salary Seet'!I92 -> 70248 | DR20: UPS Ramsinghpura
A21: ="Total Rebate of (US 80C, 80CCC,80CCD(1)) = "&'Tax Old Regime'!P32 -> Total Rebate of (US 80C, 80CCC,80CCD(1)) = 48360 | D21: ="Investable Amount = "&(150000-'Tax Old Regime'!P32) -> Investable Amount = 101640 | DR21: GSS Ganeshganj
A22: DOWNLOD TAX SOFTWARE - RAJTEACHERS.NET
A23: CREATED BY : PARMANAND MEGHWAL SENIOR TEACHER (9784379510) , BARAN RAJASTHAN.

Sheet Tax Old Regime
A1: ='Salary Seet'!C66 -> Govt Senior Secondary School, Gordhanpura Baran.
A2: Income Tax Computation Year 2025-2026 (Assessment Year 2026-2027)
A3: 1 | B3: Name | D3: ='Salary Seet'!$E$68 -> PARMANAND MEGHWAL | J3: Designation | K3: ='Salary Seet'!O68 -> PRINCIPAL | N3: PAN : | O3: ='Salary Seet'!AB68 -> AAAAAAA
A4: 2 | B4: Total Income from Salary With NPS | O4: Rs | P4: =IF('Salary Seet'!E2="No",'Salary Seet'!O92,('Salary Seet'!O92+'Salary Seet'!P92)) -> 1323812
A5: 3 | B5: (i) House Rent, Under Section 10(13-A) and other Allowances | O5: Rs | P5: ='Other Deduction'!B3 -> 0
B6: (ii) Under Section 10(14) which are Exempt from tax. | P6: ='Other Deduction'!B19 -> 0
A7: 4 | B7: 'ks"k ¼2&3½ | O7: Rs | P7: =P4-P5-P6 -> 1323812
A8: 5 | B8: (i) Entertainment Allowance 16(II) (Maximum limit Rs.5000) | L8: ='Other Deduction'!B4 -> 0
B9: (ii) Expenditure tax under section 16(III) | L9: ='Other Deduction'!B5 -> 0
B10: (iii) Professional Tax under section 10 | L10: ='Salary Seet'!U92 -> 3000
B11: (iv) Standard Deduction (Maximum limit Rs.50000) | L11: 75000 | O11: Rs | P11: =SUM(L8:N11) -> 78000
A12: 6 | B12: Remanent (4-5) | O12: Rs | P12: =P7-P11 -> 1245812
A13: 7 | B13: (A) Income from House Property: (1) In Own Use - Nil | J13: (2) Rent Received is Rs. | L13: ='Other Deduction'!B6 -> 0
B14: (B) Subtract | D14: Rent of 30% | G14: Interest of House Loan | J14: House Tax | L14: Total
D15: =ROUND(L13*0.3,0) -> 0 | G15: =IF(('Salary Seet'!W92+'Other Deduction'!B9)>200000,200000,('Salary Seet'!W92+'Other Deduction'!B9)) -> 0 | J15: ='Other Deduction'!B7 -> 0 | L15: =D15+G15+J15 -> 0
B16: Remainder -/+ (sum of 7(A) and 7(B) | O16: Rs | P16: =L13-L15 -> 0
A17: 8 | B17: Total Balance -/+ (6 & 7) | O17: Rs | P17: =P12+P16 -> 1245812
A18: 9 | B18: Other Income | O18: Rs | P18: ='Other Deduction'!E3+'Other Deduction'!E4 -> 0
A19: 10 | B19: Gross Income (8+9) | O19: Rs | P19: =P17+P18 -> 1245812
A20: 11 | B20: Deduct Deduction Under Section US - 80C, 80CCC,80CCD (1)
B21: (A) - Maximum limit 1,50,000 & Under Section (80CCE) Except
B22: 1 | C22: NPS (New Pension Scheme) | G22: Rs | H22: =IF('Salary Seet'!E2<>"No",'Salary Seet'!P92,0) -> 0 | I22: 10 | J22: Contribution to Pension Plan (80CCC) | M22: Rs | N22: ='Other Deduction'!E6 -> 0
B23: 2 | C23: LIC - Life Insurance | G23: Rs | H23: ='Salary Seet'!T92+'Other Deduction'!B10 -> 0 | I23: 11 | J23: Interest paid on National Savings Certificate | M23: Rs | N23: ='Other Deduction'!B15 -> 0
B24: 3 | C24: NSC - National Savings Certificate | G24: Rs | H24: ='Other Deduction'!B14 -> 0 | I24: 12 | J24: Tution Fees | M24: Rs | N24: ='Other Deduction'!B12 -> 0
B25: 4 | C25: PPF -Public Provident Fund | G25: Rs | H25: ='Other Deduction'!B16 -> 0 | I25: 13 | J25: Equity Linked Savings Scheme | M25: Rs | N25: ='Other Deduction'!E15 -> 0
B26: 5 | C26: NSS -National Savings Scheme | G26: Rs | H26: ='Other Deduction'!B17 -> 0 | I26: 14 | J26: Defferred Annuty | M26: Rs | N26: ='Other Deduction'!E16 -> 0
B27: 6 | C27: GPF -Public provident fund | G27: Rs | H27: =IF('Salary Seet'!E2<>"Yes",'Salary Seet'!P92,0) -> 48000 | I27: 15 | J27: PLI | M27: Rs | N27: ='Other Deduction'!B11 -> 0
B28: 7 | C28: Group Insurance | G28: Rs | H28: ='Salary Seet'!R92 -> 360 | I28: 16 | J28: Other Deductions - (80C) | M28: Rs | N28: ='Other Deduction'!E5 -> 0
B29: 8 | C29: ULIP / Annual Plan | G29: Rs | H29: ='Other Deduction'!B13 -> 0 | I29: 17 | J29: Sukanya Samriddhi Yojana | M29: Rs | N29: ='Other Deduction'!B18 -> 0
B30: 9 | C30: HBA Premium -Home Loan Principal Amount | G30: Rs | H30: ='Other Deduction'!B8 -> 0 | I30: 18 | M30: Rs
B31: Total (1 To 18) | M31: Rs | N31: =SUM(H22:H30)+SUM(N22:N30) -> 48360
B32: Maximum Deduction Amount Up to Rs 1.50 lakh | O32: Rs | P32: =IF(N31<150001,ROUND(N31,0),150000) -> 48360
B33: (B) Less - Section 80CCD(2) The Amount of Pension Contribution by the Employer (14% of the Maximum Salary) Separately exempted | O33: Rs | P33: =IF('Salary Seet'!E2="Yes",'Salary Seet'!Q92,0) -> 0
B34: (C) Less - Section 80CCD (1B) Additional Contribution to New Pension Scheme (Maximum Rs.50,000) | O34: Rs | P34: ='Other Deduction'!E7 -> 0
B35: Total (A+B+C) | P35: =P32+P33+P34 -> 48360
A36: 12 | B36: Other Deductions
B37: 1. Section 80D Medical Insurance Premium (Rs. 25000 for Self, Spouse and Children, Rs. 25000 for Parents, Rs. 50000 for Senior Citizen) | O37: Rs | P37: ='Other Deduction'!E8 -> 0
B38: 2. Section 80DD Medical Treatment of dependents with Disabilities (maximum 75,000 and 80% or more disability 125,000) | O38: Rs | P38: ='Other Deduction'!E9 -> 0
B39: 3. Section 80DDB Deduction for Treatment of Specific Diseases (Maximum Rs.40,000, Rs.100,000 for Senior Citizen) | O39: Rs | P39: ='Other Deduction'!E10 -> 0
B40: 4. Section 80E Interest on Loan taken for Higher Education | O40: Rs | P40: ='Other Deduction'!E11 -> 0
...

Sheet Tax New Regime
A1: ='Salary Seet'!C66 -> Govt Senior Secondary School, Gordhanpura Baran.
A2: Income Tax Computation Year 2025-2026 (Assessment Year 2026-2027)
A3: 1 | B3: Name | D3: ='Salary Seet'!$E$68 -> PARMANAND MEGHWAL | J3: Designation | K3: ='Salary Seet'!O68 -> PRINCIPAL | N3: PAN : | O3: ='Salary Seet'!AB68 -> AAAAAAA
A4: 2 | B4: Total Income from Salary With NPS | O4: Rs | P4: =IF('Salary Seet'!E2="No",'Salary Seet'!O92,('Salary Seet'!O92+'Salary Seet'!P92)) -> 1323812
A5: 3 | B5: House Rent, Under Section 10(13-A) and other Allowances Under Section 10(14) which are Exempt from tax. | O5: Rs | P5: 0
A6: 4 | B6: Remanent (2-3) | O6: Rs | P6: =P4-P5 -> 1323812
A7: 5 | B7: (i) Entertainment Allowance 16(II) (Maximum limit Rs.5000) | L7: ='Other Deduction'!B4 -> 0
B8: (ii) Expenditure tax under section 16(III) | L8: ='Other Deduction'!B5 -> 0
B9: (iii) Professional Tax under section 10 | L9: ='Salary Seet'!U92 -> 3000
B10: (iv) Standard Deduction (Maximum limit Rs.50000) | L10: =IF(P6<75000,P6,75000) -> 75000 | O10: Rs | P10: =L10 -> 75000
A11: 6 | B11: Remanent (4-5) | O11: Rs | P11: =P6-P10-L9 -> 1245812
A12: 7 | B12: (A) Income from House Property: (1) In Own Use - Nil | J12: (2) Rent Received is Rs. | L12: ='Other Deduction'!B6 -> 0
B13: (B) Subtract | D13: Rent of 30% | G13: Interest of House Loan | J13: House Tax | L13: Total
D14: =ROUND(L12*0.3,0) -> 0 | G14: =IF(('Salary Seet'!W92+'Other Deduction'!B9)>200000,200000,('Salary Seet'!W92+'Other Deduction'!B9)) -> 0 | J14: ='Other Deduction'!B7 -> 0 | L14: =D14+G14+J14 -> 0
B15: Remainder -/+ (sum of 7(A) and 7(B) | O15: Rs | P15: =L12-L14 -> 0
A16: 8 | B16: Total Balance -/+ (6 & 7) | O16: Rs | P16: =P11+P15 -> 1245812
A17: 9 | B17: Other Income | O17: Rs | P17: ='Other Deduction'!E3+'Other Deduction'!E4 -> 0
A18: 10 | B18: Gross Income (8+9) | O18: Rs | P18: =P16+P17 -> 1245812
A19: 11 | B19: Deduct Deduction Under Section US - 80C, 80CCC,80CCD (1)
B20: (A) - Maximum limit 1,50,000 & Under Section (80CCE) Except
B21: 1 | C21: NPS (New Pension Scheme) | G21: Rs | H21: =IF('Salary Seet'!E2<>"No",'Salary Seet'!P92,0) -> 0 | I21: 10 | J21: Contribution to Pension Plan (80CCC) | M21: Rs | N21: ='Other Deduction'!E6 -> 0
B22: 2 | C22: LIC - Life Insurance | G22: Rs | H22: ='Salary Seet'!T92+'Other Deduction'!B10 -> 0 | I22: 11 | J22: Interest paid on National Savings Certificate | M22: Rs | N22: ='Other Deduction'!B15 -> 0
B23: 3 | C23: NSC - National Savings Certificate | G23: Rs | H23: ='Other Deduction'!B14 -> 0 | I23: 12 | J23: Tution Fees | M23: Rs | N23: ='Other Deduction'!B12 -> 0
B24: 4 | C24: PPF -Public Provident Fund | G24: Rs | H24: ='Other Deduction'!B16 -> 0 | I24: 13 | J24: Equity Linked Savings Scheme | M24: Rs | N24: ='Other Deduction'!E15 -> 0
B25: 5 | C25: NSS -National Savings Scheme | G25: Rs | H25: ='Other Deduction'!B17 -> 0 | I25: 14 | J25: Defferred Annuty | M25: Rs | N25: ='Other Deduction'!E16 -> 0
B26: 6 | C26: GPF -Public provident fund | G26: Rs | H26: =IF('Salary Seet'!E2<>"Yes",'Salary Seet'!P92,0) -> 48000 | I26: 15 | J26: PLI | M26: Rs | N26: ='Other Deduction'!B11 -> 0
B27: 7 | C27: Group Insurance | G27: Rs | H27: ='Salary Seet'!R92 -> 360 | I27: 16 | J27: Other Deductions - (80C) | M27: Rs | N27: ='Other Deduction'!E5 -> 0
B28: 8 | C28: ULIP / Annual Plan | G28: Rs | H28: ='Other Deduction'!B13 -> 0 | I28: 17 | J28: Sukanya Samriddhi Yojana | M28: Rs | N28: ='Other Deduction'!B18 -> 0
B29: 9 | C29: HBA Premium -Home Loan Principal Amount | G29: Rs | H29: ='Other Deduction'!B8 -> 0 | I29: 18 | M29: Rs
B30: Total (1 To 18) | M30: Rs | N30: =SUM(H21:H29)+SUM(N21:N29) -> 48360
B31: Maximum Deduction Amount Up to Rs 1.50 lakh | O31: Rs | P31: 0
B32: (B) Less - Section 80CCD(2) The Amount of Pension Contribution by the Employer (14% of the Maximum Salary) Separately exempted | O32: Rs | P32: =IF('Salary Seet'!E2="Yes",'Salary Seet'!Q92,0) -> 0
B33: (C) Less - Section 80CCD (1B) Additional Contribution to New Pension Scheme (Maximum Rs.50,000) | O33: Rs | P33: 0
B34: Total (A+B+C) | P34: =P31+P32+P33 -> 0
A35: 12 | B35: Other Deductions
B36: 1. Section 80D Medical Insurance Premium (Rs. 25000 for Self, Spouse and Children, Rs. 25000 for Parents, Rs. 50000 for Senior Citizen) | O36: Rs | P36: ='Other Deduction'!E8 -> 0
B37: 2. Section 80DD Medical Treatment of dependents with Disabilities (maximum 75,000 and 80% or more disability 125,000) | O37: Rs | P37: ='Other Deduction'!E9 -> 0
B38: 3. Section 80DDB Deduction for Treatment of Specific Diseases (Maximum Rs.40,000, Rs.100,000 for Senior Citizen) | O38: Rs | P38: ='Other Deduction'!E10 -> 0
B39: 4. Section 80E Interest on Loan taken for Higher Education | O39: Rs | P39: ='Other Deduction'!E11 -> 0
B40: 5. Section 80G Donations given to Charitable Institutions etc. (100 percent in A category and 50 percent in B category) | O40: Rs | P40: ='Other Deduction'!E12 -> 0
...
